Workbook

Sheet  0 Zestawienie
A2: Załącznik numer 3 do umowy: Tabela podziału ceny ryczałtowej. Zestawienie zbiorcze
A5: Budowa kontenerowego terminala przeładunkowego wraz z obiektami towarzyszącymi na terenie Miasta Ropczyce
A7: TABELA PODZIAŁU CENY RYCZAŁTOWEJ
A9: ZESTAWIENIE ZBIORCZE
B11: Wyszczególnienie kosztów | C11: Wartość etap 1 | D11: Wartość etap 2 | E11: Wartość etap 3
A12: LP | B12: 1 | C12: 2 | D12: 3 | E12: 4
A13: 1 | B13: Remont Torów | C13: ='1 Remont toru'!G28 -> 0
A14: 2 | B14: Przebudowa Drogi | C14: ='2 Przebudowa drogi'!G39 -> 0
A15: 3 | B15: Przebudowa Kabli Teletechnicznych | C15: ='3 Przebudowa telekomunikacji'!G31 -> 0
A16: 4 | B16: Przebudowa Układu Torowego | C16: ='4 Przebudowa układu torowego'!G70 -> 0
A17: 5 | B17: Budowa terminala architektura | C17: ='5 Architektura'!G450 -> 0
A18: 6 | B18: Budowa terminala konstrukcja | C18: ='6 Konstrukcja'!G351 -> 0
A19: 7 | B19: Budowa terminala drogi | C19: ='7 Drogi'!G146 -> 0 | D19: ='7 Drogi'!H146 -> 0 | E19: ='7 Drogi'!I146 -> 0
A20: 8 | B20: Budowa terminala branża sanitarna | C20: ='8 Sanitarna'!G390 -> 0 | D20: ='8 Sanitarna'!H390 -> 0 | E20: ='8 Sanitarna'!I390 -> 0
A21: 9 | B21: Budowa terminala branża eletryczna i niskoprądowa | C21: ='9 Elektryczna i Niskie prady'!G601 -> 0
A22: 10 | B22: Budowa terminala branża HVAC | C22: ='10 HVAC'!G744 -> 0
A23: 11 | B23: Budowa terminala branża hydrotechniczna | C23: ='11 Hydrotechniczna'!G28 -> 0
A24: 12 | B24: Budowa terminala branża kolejowa | C24: ='12 Kolej'!G61 -> 0
B25: SUMA: | C25: =SUM(C13:C24) -> 0 | D25: =SUM(D14:D24) -> 0 | E25: =SUM(E14:E24) -> 0
D29: Razem | E29: =SUM(C25:E25) -> 0

Sheet 1 Remont toru
A2: TABELA PODZIAŁU CENY RYCZAŁTOWEJ
A3: 1. Remont toru
A5: Nr | B5: Podstawa | C5: Opis robót | D5: Jm | E5: Ilość | F5: Cena | G5: Wartość
A6: 1 | B6: 2 | C6: 3 | D6: 4 | E6: 5 | F6: 6 | G6: 7
C7: 1 Rozbiórki nawierzchni
A8: 1 | B8: KNR 2-37 0603/03 | C8: Rozbiórka mechaniczna torów kolejowych na podkładach drewnianych | D8: km | E8: 0.03 | G8: =ROUND(E8*F8,2) -> 0
A9: 2 | B9: KNR 2-09 0418/01 | C9: Utylizacja podkładów drewnianych | D9: t | E9: 3.6 | G9: =ROUND(E9*F9,2) -> 0
C10: Rozbiórki nawierzchni | G10: =SUM(G8:G9) -> 0
C11: 2 Roboty ziemne
A12: 3 | B12: KNR-W 2-01 0115/01 | C12: Pomiary geodezyjne przy wykopach na terenie płaskim | D12: m3 | E12: 71.7 | G12: =ROUND(E12*F12,2) -> 0
A13: 4 | B13: KNR-W 2-01 0201/08 | C13: Roboty ziemne koparkami o pojemności 0,4m3 z transportem urobku samochodami 10-15t na odległość do 10km w gruncie kategorii III | D13: m3 | E13: 71.7 | G13: =ROUND(E13*F13,2) -> 0
A14: 5 | B14: KNR-W 2-01 0225/02 | C14: Plantowanie i profilowanie terenu spycharkami gąsienicowymi 55kW w gruncie kategorii III | D14: m2 | E14: 198.3 | G14: =ROUND(E14*F14,2) -> 0
A15: 6 | B15: Kalkulacja własna | C15: Utylizacjat tlucznia, gleby i ziemi zanieczyszczonej | D15: t | E15: 107.55 | G15: =ROUND(E15*F15,2) -> 0
C16: Roboty ziemne | G16: =SUM(G12:G15) -> 0
C17: 3 Wzmocnienie podtorza
A18: 7 | B18: KNR 9-11 0202/02 | C18: Separacja warstw wzmocniona geowłókninami | D18: m2 | E18: 150 | G18: =ROUND(E18*F18,2) -> 0
A19: 8 | B19: KNR-W 2-37 0501/03.4 | C19: Warstwa ochronna z niesportu kamiennego na koronie nasypu z zagęszczeniem | D19: m3 | E19: 28.2 | G19: =ROUND(E19*F19,2) -> 0
C20: Wzmocnienie podtorza | G20: =SUM(G18:G19) -> 0
C21: 4 Nawierzchnia torowa
A22: 9 | B22: KNR-W 2-37 0501/03.4 | C22: Warstwa z sub tłucznia na koronie nasypu z zagęszczeniem | D22: m3 | E22: 22.8 | G22: =ROUND(E22*F22,2) -> 0
A23: 10 | B23: KNR 2-37 0203/02 | C23: Układanie toru kolejowego na podkładach betonowyh o rozstawie normalnym | D23: km | E23: 0.03 | G23: =ROUND(E23*F23,2) -> 0
A24: 11 | B24: KNR-W 2-37 0502/01 | C24: Balastowanie torów zmontowanych na zagęszczonej warstwie tłucznia na podkładach betonowych | D24: m3 | E24: 28.29 | G24: =ROUND(E24*F24,2) -> 0
A25: 12 | B25: KNP 16 0413/03 | C25: Spawanie elektrodami styku szyn przejściowych | D25: szt | E25: 10 | G25: =ROUND(E25*F25,2) -> 0
A26: 13 | B26: KNR 2-37 0702/01 | C26: Podbicie nowoułożonych torów kolejowych | D26: km | E26: 0.03 | G26: =ROUND(E26*F26,2) -> 0
C27: Nawierzchnia torowa | G27: =SUM(G22:G26) -> 0
C28: Razem | G28: =SUM(G10+G16+G20+G27) -> 0

Sheet 2 Przebudowa drogi
A2: TABELA PODZIAŁU CENY RYCZAŁTOWEJ
A3: 2. Przebudowa drogi
A5: Nr | B5: Podstawa | C5: Opis robót | D5: Jm | E5: Ilość | F5: Cena | G5: Wartość
A6: 1 | B6: 2 | C6: 3 | D6: 4 | E6: 5 | F6: 6 | G6: 7
C7: 1 Roboty przygotowawcze
A8: 1 | B8: KNR-W 2-01 0114/02 | C8: Roboty pomiarowe i geodezyjne pod zagospodarowanie terenu | D8: ha | E8: 0.08 | G8: =ROUND(E8*F8,2) -> 0
A9: 2 | B9: KNR-W 2-01 0119/01 | C9: Usunięcie spycharką warstwy ziemi urodzajnej o grubości 30cm | D9: m2 | E9: 830 | G9: =ROUND(E9*F9,2) -> 0
A10: 3 | B10: KNR-W 2-01 0207/07.4 | C10: Roboty ziemne w gruncie zmagazynowanej w hałdach koparkami o pojemności 0,6m3 z transportem urobku samochodami 15-20t na odległość do 10km | D10: m3 | E10: 249 | G10: =ROUND(E10*F10,2) -> 0
A11: 4 | B11: KNR-W 2-01 0201/11.2 | C11: Roboty ziemne koparkami o pojemności 0,6m3 z transportem urobku samochodami 15-20t na odległość do 10km w gruncie kategorii III | D11: m3 | E11: 85 | G11: =ROUND(E11*F11,2) -> 0
A12: 5 | B12: KNR-W 2-01 0207/07.4 | C12: Roboty ziemne w gruncie zmagazynowanej w hałdach koparkami o pojemności 0,6m3 z transportem urobku samochodami 5-10t na odległość do 1km (przygotowanie kruszywa) | D12: m3 | E12: 338 | G12: =ROUND(E12*F12,2) -> 0
A13: 6 | B13: KNR-W 2-01 0227/02.2 | C13: Formowanie nasypów z kruszywa dostarczanego samochodami w gruncie kategorii III-IV | D13: m3 | E13: 338 | G13: =ROUND(E13*F13,2) -> 0
A14: 7 | B14: KNR 2-31 0101/01 | C14: Wykonanie korytowania wraz z formowaniem i profilowaniem | D14: m2 | E14: 830 | G14: =ROUND(E14*F14,2) -> 0
A15: 8 | B15: KNR 2-31 0103/02 | C15: Profilowanie i zagęszczanie podłoża pod warstwy nawierzchniowe w gruncie kategorii III-IV | D15: m2 | E15: 0 | G15: =ROUND(E15*F15,2) -> 0
A16: 9 | B16: Kalkulacja własna | C16: Utylizacja gleby i ziemi | D16: t | E16: 501 | G16: =ROUND(E16*F16,2) -> 0
C17: Roboty przygotowawcze | G17: =SUM(G8:G16) -> 0
C18: 2 Konstrukcja typ VI
A19: 10 | B19: KNR 2-31 0114/05 | C19: Podbudowa z kruszywa łamanego zagęszczona o grubości 30cm | D19: m2 | E19: 719 | G19: =ROUND(E19*F19,2) -> 0
A20: 11 | B20: KNR 2-31 0114/01 | C20: Podbudowa z kruszywa naturalnego zagęszczona o grubości 50cm | D20: m2 | E20: 830 | G20: =ROUND(E20*F20,2) -> 0
A21: 12 | B21: KNR 9-11 0202/02 | C21: Separacja warstw wzmocniona geowłókninami | D21: m2 | E21: 830 | G21: =ROUND(E21*F21,2) -> 0
A22: 13 | C22: Wskaźniki drogowo-kolejowe | D22: szt | E22: 2 | G22: =ROUND(E22*F22,2) -> 0
A23: 14 | C23: Szlaban rurowy stalowy | D23: szt | E23: 2 | G23: =ROUND(E23*F23,2) -> 0
C24: Konstrukcja typ VI | G24: =SUM(G19:G23) -> 0
C25: 3 Rozbiórki i odtworzenia
A26: 15 | B26: KNR 2-31 0804/03 | C26: Rozebranie podbudowy z tłucznia o grubości 40cm | D26: m2 | E26: 650 | G26: =ROUND(E26*F26,2) -> 0
C27: Rozbiórki i odtworzenia | G27: =SUM(G26) -> 0
C28: 4 Prace wykończeniowe
A29: 16 | B29: KNR 2-21 0202/01 | C29: Przekopanie gleby na terenie płaskim niezadarnionym w gruncie kategorii III | D29: m2 | E29: 142 | G29: =ROUND(E29*F29,2) -> 0
A30: 17 | B30: KNR 2-21 0218/01 | C30: Rozścielenie ziemi urodzajnej ręcznie z przerzutem | D30: m3 | E30: 14.2 | G30: =ROUND(E30*F30,2) -> 0
A31: 18 | B31: KNR 2-21 0213/01 | C31: Rozrzucenie ziemi żyznej lub kompostowej o grubości 2cm | D31: m2 | E31: 142 | G31: =ROUND(E31*F31,2) -> 0
A32: 19 | B32: KNR 2-21 0401/05 | C32: Trawniki dywanowe z nawożeniem ręcznym w gruncie kategorii III | D32: m2 | E32: 142 | G32: =ROUND(E32*F32,2) -> 0
A33: 20 | B33: KNR 2-21 0702/06 | C33: Pielęgnacja mechaniczna trawników dywanowych na terenie płaskim w okresie gwarancyjnym | D33: m2 | E33: 142 | G33: =ROUND(E33*F33,2) -> 0
C34: Prace wykończeniowe | G34: =SUM(G29:G33) -> 0
C35: 5 Wywóz i utylizacje
A36: 21 | B36: KNR 4-04 1105/01 | C36: Wywiezienie elementów rozbiórkowych samochodami samowyładowczymi na odległość do 10km | D36: m3 | E36: 260 | G36: =ROUND(E36*F36,2) -> 0
A37: 22 | B37: Kalkulacja własna | C37: Utylizacja gruzu ceglanego lub betonowego | D37: t | E37: 520 | G37: =ROUND(E37*F37,2) -> 0
C38: Wywóz i utylizacje | G38: =SUM(G36:G37) -> 0
C39: Razem | G39: =SUM(G17+G24+G27+G34+G38) -> 0

Sheet 3 Przebudowa telekomunikacji
A2: TABELA PODZIAŁU CENY RYCZAŁTOWEJ
A3: 3. Przebudowa telekomunikacji
A5: Nr | B5: Podstawa | C5: Opis robót | D5: Jm | E5: Ilość | F5: Cena | G5: Wartość
A6: 1 | B6: 2 | C6: 3 | D6: 4 | E6: 5 | F6: 6 | G6: 7
C7: 1 Roboty ziemne
A8: 1 | B8: KNR-W 2-01 0113/08 | C8: Roboty pomiarowe i geodezyjne trasy kablowych w terenie płaskim | D8: km | E8: 0.83 | G8: =ROUND(E8*F8,2) -> 0
A9: 2 | B9: KNR-W 2-01 0701/02.1 | C9: Kopanie rowów kablowych o głębokości do 0,6m i szerokości do 0,4m w gruncie kategorii III | D9: m | E9: 826 | G9: =ROUND(E9*F9,2) -> 0
A10: 3 | B10: KNR-W 5-10 0301/01 | C10: Podsypka i obsypka na dnie rowu kablowego warstwami o grubości 10cm i szerokości do 0,4m | D10: m | E10: 826 | G10: =ROUND(E10*F10,2) -> 0
A11: 4 | B11: KNR-W 2-01 0704/02.1 | C11: Zasypanie rowów kablowych o głębokości do 0,4m i szerokości do 0,4m w gruncie kategorii III | D11: m | E11: 826 | G11: =ROUND(E11*F11,2) -> 0
C12: Roboty ziemne | G12: =SUM(G8:G11) -> 0
C13: 2 Kanalizacja teletechniczna
A14: 5 | B14: KNR 5-01 0402/02 | C14: Studnie kablowe prefabrykowane rozdzielcze SKR1 | D14: szt | E14: 7 | G14: =ROUND(E14*F14,2) -> 0
C15: Kanalizacja teletechniczna | G15: =SUM(G14) -> 0
C16: 3 Kable i przewody
A17: 6 | B17: KNR 5-01 0602/07 | C17: Kanalizacja kablowa 3-otworowa z rur kablowych HDPE o średnicy 40mm wraz z robotami ziemnymi | D17: m | E17: 247 | G17: =ROUND(E17*F17,2) -> 0
A18: 7 | B18: KNR 5-01 0802/07 | C18: Kable miedziane telekomunikacyjne XTKMX o przekroju 35x4x0,8mm2 | D18: m | E18: 518 | G18: =ROUND(E18*F18,2) -> 0
A19: 8 | B19: KNR 2-25 0610/13 | C19: Kable miedziane telekomunikacyjne TKD o przekroju 65x2mm2 | D19: m | E19: 308 | G19: =ROUND(E19*F19,2) -> 0
A20: 9 | C20: Kable światłowodowe telekomunikacyjne 36-włókniowe | D20: m | E20: 2400 | G20: =ROUND(E20*F20,2) -> 0
A21: 10 | C21: Mufy stacyjne na kablu do 48 włókien | D21: szt | E21: 2 | G21: =ROUND(E21*F21,2) -> 0
C22: Kable i przewody | G22: =SUM(G17:G21) -> 0
C23: 4 Badania i pomiary
A24: 11 | B24: KNR 5-01 1301/07 | C24: Badanie szczelności studni w kanalizacji kablowej | D24: szt | E24: 7 | G24: =ROUND(E24*F24,2) -> 0
A25: 12 | B25: KNR 5-01 1310/06 | C25: Badanie szczelności kanalizacji kablowej | D25: kpl | E25: 7 | G25: =ROUND(E25*F25,2) -> 0
A26: 13 | B26: KNR 5-01 1311/06 | C26: Pomiary końcowe prądem stałym kabla 40-parowego | D26: kpl | E26: 9 | G26: =ROUND(E26*F26,2) -> 0
A27: 14 | C27: Pomiary końcowe prądem stałym kabla 60-parowego | D27: kpl | E27: 5 | G27: =ROUND(E27*F27,2) -> 0
A28: 15 | C28: Pomiar tłumienności skutecznej kabla 40-parowego | D28: kpl | E28: 9 | G28: =ROUND(E28*F28,2) -> 0
A29: 16 | C29: Pomiar tłumienności skutecznej kabla 60-parowego | D29: kpl | E29: 5 | G29: =ROUND(E29*F29,2) -> 0
C30: Badania i pomiary | G30: =SUM(G24:G29) -> 0
C31: Razem | G31: =SUM(G12+G15+G22+G30) -> 0
B39: KNR 5-01 0106/03
B40: KNR 5-01 0602/07
B41: KNR 5-01 0602/07
B42: KNR 5-01 0602/07
B43: KNR 5-01 0802/05
B44: KNR 5-01 1301/07
B45: KNR 5-01 1303/07
B46: KNR 5-01 1310/04
B47: KNR 5-01 1310/06
B48: KNR 5-01 1311/04
B49: KNR 5-01 1311/06

Sheet 4 Przebudowa  układu torowego
A2: TABELA PODZIAŁU CENY RYCZAŁTOWEJ
A3: 4. Przebudowa układu torowego
A5: Nr | B5: Podstawa | C5: Opis robót | D5: Jm | E5: Ilość | F5: Cena | G5: Wartość
C6: 4 BRANŻA KOLEJOWA
C7: 4.1 TOR DOJAZDOWY
C8: 4.1.1 Rozbiórki nawierzchni
A9: 1 | B9: KNR 2-37 0603/03 | C9: Rozbiórka mechaniczna torów kolejowych na podkładach drewnianych | D9: km | E9: 0.67 | G9: =ROUND(E9*F9,2) -> 0
A10: 2 | B10: KNR 2-37 0611/02 | C10: Rozbiórka kolejowych rozjazdów zwyczajnych o skosie 1:9 - promień łuku R-190 | D10: kpl | E10: 5 | G10: =ROUND(E10*F10,2) -> 0
A11: 3 | B11: KNR 2-37 0708/01 | C11: Rozbiórka kozła oporowego | D11: kpl | E11: 1 | G11: =ROUND(E11*F11,2) -> 0
A12: 4 | B12: KNR 2-09 0418/01 | C12: Utylizacja podkładów drewnianych | D12: t | E12: 80.4 | G12: =ROUND(E12*F12,2) -> 0
A13: 5 | C13: Przewiezienie szyn, rozjazdów oraz akcesoriów kolejowych w miejsce wskazane przez Zamawiającego transportem samochodowym na odległość do 5 km | D13: t | E13: 44.4 | G13: =ROUND(E13*F13,2) -> 0
C14: Rozbiórki nawierzchni | G14: =SUM(G9:G13) -> 0
C15: 4.1.2 Roboty ziemne
A16: 6 | B16: KNR-W 2-01 0115/01 | C16: Pomiary geodezyjne przy wykopach na terenie płaskim | D16: m2 | E16: 4923 | G16: =ROUND(E16*F16,2) -> 0
A17: 7 | B17: KNR-W 2-01 0201/08 | C17: Roboty ziemne koparkami o pojemności 0,4m3 z transportem urobku samochodami 10-15t na odległość do 10km w gruncie kategorii III | D17: m3 | E17: 1784 | G17: =ROUND(E17*F17,2) -> 0
A18: 8 | B18: KNR-W 2-01 0207/05.3 | C18: Roboty ziemne w gruncie zmagazynowanej w hałdach koparkami o pojemności 0,4m3 z transportem urobku samochodami 5-10t na odległość do 1km (załadunek kruszywa) | D18: m3 | E18: 57 | G18: =ROUND(E18*F18,2) -> 0
A19: 9 | B19: KNR-W 2-01 0227/02.2 | C19: Formowanie nasypów z zagęszczeniem z kruszywa dostarczanego samochodami w gruncie kategorii III-IV | D19: m3 | E19: 57 | G19: =ROUND(E19*F19,2) -> 0
A20: 10 | B20: KNR-W 2-01 0225/02 | C20: Plantowanie i profilowanie terenu spycharkami gąsienicowymi 55kW w gruncie kategorii III | D20: m2 | E20: 4302 | G20: =ROUND(E20*F20,2) -> 0
A21: 11 | B21: Kalkulacja własna | C21: Utylizacja tłucznia, gleby i ziemi zanieczyszczonej | D21: t | E21: 2676 | G21: =ROUND(E21*F21,2) -> 0
C22: Roboty ziemne | G22: =SUM(G16:G21) -> 0
C23: 4.1.3 Wzmocnienie podtorza
A24: 12 | B24: KNR 9-11 0202/02 | C24: Separacja warstw wzmocniona geowłókninami | D24: m2 | E24: 3768 | G24: =ROUND(E24*F24,2) -> 0
A25: 13 | B25: KNR-W 2-37 0501/03.4 | C25: Warstwa ochronna z niesportu kamiennego na koronie nasypu z zagęszczeniem | D25: m3 | E25: 759 | G25: =ROUND(E25*F25,2) -> 0
C26: Wzmocnienie podtorza | G26: =SUM(G24:G25) -> 0
C27: 4.1.4 Nawierzchnia torowa
A28: 14 | B28: KNR-W 2-37 0501/03.4 | C28: Warstwa z sub tłucznia na koronie nasypu z zagęszczeniem | D28: m3 | E28: 676 | G28: =ROUND(E28*F28,2) -> 0
A29: 15 | B29: KNR 2-37 0203/02 | C29: Układanie toru kolejowego na podkładach betonowe o rozstawie normalnym | D29: km | E29: 0.66 | G29: =ROUND(E29*F29,2) -> 0
A30: 16 | B30: KNR 2-37 0303/01 | C30: Układanie rozjazdów zwyczajnych pojedynczych o skosie 1:9 i promieniu łuku 190m | D30: kpl | E30: 4 | G30: =ROUND(E30*F30,2) -> 0
A31: 17 | B31: KNR 2-37 0303/02 | C31: Układanie rozjazdów zwyczajnych pojedynczych o skosie 1:9 i promieniu łuku 300m | D31: kpl | E31: 3 | G31: =ROUND(E31*F31,2) -> 0
A32: 18 | B32: KNR 2-37 0701/01 | C32: Kozioł oporowy samohamowny | D32: kpl | E32: 1 | G32: =ROUND(E32*F32,2) -> 0
A33: 19 | B33: KNR-W 2-37 0502/01 | C33: Balastowanie torów zmontowanych na zagęszczonej warstwie tłucznia na podkładach betonowych | D33: m3 | E33: 580 | G33: =ROUND(E33*F33,2) -> 0
A34: 20 | B34: KNR-W 2-37 0503/01 | C34: Balastowanie rozjazdów zwyczajnych torów zmontowanych na zagęszczonej warstwie tłucznia | D34: m3 | E34: 221 | G34: =ROUND(E34*F34,2) -> 0
A35: 21 | B35: KNR-W 2-37 0809/05 | C35: Wskaźniki drogowo- kolejowe | D35: szt | E35: 7 | G35: =ROUND(E35*F35,2) -> 0
A36: 22 | B36: KNP 16 0413/03 | C36: Spawanie elektrodami styku szyn przejściowych | D36: szt | E36: 0 | G36: =ROUND(E36*F36,2) -> 0
A37: 23 | B37: KNR 2-37 0702/01 | C37: Podbicie nowoułożonych torów kolejowych | D37: km | E37: 0.66 | G37: =ROUND(E37*F37,2) -> 0
A38: 24 | B38: KNR 2-37 0702/02 | C38: Podbicie nowoułożonych rozjazdów zwyczajnych o promieniu 190m | D38: kpl | E38: 4 | G38: =ROUND(E38*F38,2) -> 0
A39: 25 | B39: KNR 2-37 0702/03 | C39: Podbicie nowoułożonych rozjazdów zwyczajnych o promieniu 300m | D39: kpl | E39: 3 | G39: =ROUND(E39*F39,2) -> 0
C40: Nawierzchnia torowa | G40: =SUM(G28:G39) -> 0
C41: 4.1.5 Sterowanie ruchem kolejowym
A42: 26 | B42: KNR-W 2-37 0809/02 | C42: Zamki trzpieniowe zwrotnicowe | D42: kpl | E42: 9 | G42: =ROUND(E42*F42,2) -> 0
...

Sheet 5 Architektura
A2: TABELA PODZIAŁU CENY RYCZAŁTOWEJ
A3: 5. Architektura
A5: Nr | B5: Podstawa | C5: Opis robót | D5: Jm | E5: Ilość | F5: Cena | G5: Wartość
A6: 1 | B6: 2 | C6: 3 | D6: 4 | E6: 5 | F6: 6 | G6: 7
C7: 5 BRANŻA ARCHITEKTONICZNA
C8: 5.1 ROBOTY PRZYGOTOWAWCZE
A9: 1 | C9: Usunięcie warstwy ziemi urodzajnej wraz z oczyszczeniem terenu po wycince około 290 drzew i krzewów z działek 1140/2 1160/1 1162/1 1160/2 (częściowo) 1141 1142 1143 1142 (częściowo) wraz z utylizają gleby i karpin | D9: m2 | E9: 15689 | G9: =ROUND(E9*F9,2) -> 0
C10: ROBOTY PRZYGOTOWAWCZE | G10: =SUM(G9) -> 0
C11: 5.2 BUDYNEK BIUROWY B01
C12: 5.2.1 Ściany i elewacje
A13: 2 | B13: NNRNKB 5 0618/03 | C13: Izolacja przeciwwilgociowa powierzchni poziomych z papy termozgrzewalnej | D13: m2 | E13: 78.7 | G13: =ROUND(E13*F13,2) -> 0
A14: 3 | B14: KNR 0-29 0643/01 | C14: Izolacja cieplna pionowa płytami polistyrenowymi o grubości 20cm | D14: m2 | E14: 78.7 | G14: =ROUND(E14*F14,2) -> 0
A15: 4 | B15: KNR 0-23 2612/06 | C15: Warstwa siatki na ociepleniu płytami styropianowymi ścian | D15: m2 | E15: 50.9 | G15: =ROUND(E15*F15,2) -> 0
A16: 5 | B16: KNR 0-23 0933/04 | C16: Tynki mineralne cienkowarstwowe z gramaplastu na cokołach | D16: m2 | E16: 50.9 | G16: =ROUND(E16*F16,2) -> 0
A17: 6 | B17: KNR K-02 0103/07 | C17: Ściany murowane z bloczków silikatowych o grubości 24cm i wysokości do 4,5m | D17: m2 | E17: 423 | G17: =ROUND(E17*F17,2) -> 0
A18: 7 | B18: KNR K-02 0103/06 | C18: Ściany murowane wielokondygnacyjne z bloczków silikatowych o grubości 18cm | D18: m2 | E18: 77.7 | G18: =ROUND(E18*F18,2) -> 0
A19: 8 | B19: KNR 0-23 2615/01 | C19: Ocieplenie ścian budynków płytami z wełny mineralnej pod okładziny o grubości 20cm | D19: m2 | E19: 500.7 | G19: =ROUND(E19*F19,2) -> 0
A20: 9 | B20: KNR-W 2-02 0612/06 | C20: Izolacja cieplna i przeciwdźwiękowa pionowa z płyt z wełny mineralnej o grubości 8cm | D20: m2 | E20: 77.7 | G20: =ROUND(E20*F20,2) -> 0
A21: 10 | B21: KNR-W 2-05 0903/01 | C21: Kasetonowe płyty systemowe warstwowe na ruszcie stalowym | D21: m2 | E21: 500.7 | G21: =ROUND(E21*F21,2) -> 0
C22: Ściany i elewacje | G22: =SUM(G13:G21) -> 0
C23: 5.2.2 Stolarka zewnętrzna
A24: 11 | B24: KNR 0-19 1024/05 | C24: Okna aluminiowe uchylno-rozwierane o powierzchni ponad 3m2 (16szt) | D24: m2 | E24: 76.86 | G24: =ROUND(E24*F24,2) -> 0
A25: 12 | B25: KNR 0-19 1024/04 | C25: Okna aluminiowe uchylno-rozwierane o powierzchni do 3m2 (13szt) | D25: m2 | E25: 32.76 | G25: =ROUND(E25*F25,2) -> 0
A26: 13 | B26: KNR 0-19 1024/04 | C26: Okna aluminiowe rozwierane o powierzchni do 3m2 (4szt) | D26: m2 | E26: 10.08 | G26: =ROUND(E26*F26,2) -> 0
A27: 14 | B27: KNR 0-19 1024/04 | C27: Okna aluminiowe uchylne o powierzchni do 3m2 (2szt) | D27: m2 | E27: 5.71 | G27: =ROUND(E27*F27,2) -> 0
A28: 15 | B28: KNR-W 2-02 1040/01 | C28: Drzwi zewnętrzne aluminiowe jednoskrzydłowe półpełne (1szt) | D28: m2 | E28: 4.26 | G28: =ROUND(E28*F28,2) -> 0
A29: 16 | B29: KNR-W 2-02 1040/02 | C29: Drzwi zewnętrzne aluminiowe dwuskrzydłowe przeszklone (4szt) | D29: m2 | E29: 14.84 | G29: =ROUND(E29*F29,2) -> 0
A30: 17 | B30: KNR-W 4-01 0921/17 | C30: Klamki drzwiowe | D30: szt | E30: 5 | G30: =ROUND(E30*F30,2) -> 0
A31: 18 | B31: KNR-W 4-01 0921/03 | C31: Zamki drzwiowe wpuszczane bębenkowe | D31: szt | E31: 5 | G31: =ROUND(E31*F31,2) -> 0
A32: 19 | B32: KNR-W 4-01 0921/02 | C32: Sprężyny automatyczne samozamykacze | D32: szt | E32: 5 | G32: =ROUND(E32*F32,2) -> 0
A33: 20 | B33: KNR-W 4-01 0921/11 | C33: Kontraktony z kontrolą dostępu | D33: szt | E33: 4 | G33: =ROUND(E33*F33,2) -> 0
C34: Stolarka zewnętrzna | G34: =SUM(G24:G33) -> 0
C35: 5.2.3 Roboty dachowe
A36: 21 | B36: KNR-W 2-02 0606/02 | C36: Izolacja przeciwwilgociowa i przeciwwodna z folii polietylenowej | D36: m2 | E36: 287.3 | G36: =ROUND(E36*F36,2) -> 0
A37: 22 | B37: KNR-W 2-02 0612/03 | C37: Izolacja cieplna i przeciwdźwiękowa pozioma z płyt z wełny mineralnej o grubości 20cm | D37: m2 | E37: 287.3 | G37: =ROUND(E37*F37,2) -> 0
A38: 23 | B38: KNR-W 2-02 0608/01 | C38: Warstwa spadkowa z wełny minaralnej | D38: m3 | E38: 64.64 | G38: =ROUND(E38*F38,2) -> 0
A39: 24 | B39: KNR-W 2-02 0612/03 | C39: Izolacja cieplna i przeciwdźwiękowa pozioma z płyt z wełny mineralnej o grubości 5cm | D39: m2 | E39: 287.3 | G39: =ROUND(E39*F39,2) -> 0
A40: 25 | B40: KNR K-05 0103/02.3 | C40: Pokrycie dachów membraną z PCV termozgrzewalną | D40: m2 | E40: 287.3 | G40: =ROUND(E40*F40,2) -> 0
A41: 26 | B41: KNR K-05 0103/02.3 | C41: Ścieżka serwisowa z membrany dachowej wzmocnionej | D41: m2 | E41: 52.8 | G41: =ROUND(E41*F41,2) -> 0
A42: 27 | B42: KNR-W 5-08 0622/05 | C42: Słupki asekuracyjne z podstawą dachową | D42: szt | E42: 24 | G42: =ROUND(E42*F42,2) -> 0
...

Sheet 6 Konstrukcja
A2: TABELA PODZIAŁU CENY RYCZAŁTOWEJ
A3: 6. Konstrukcja
C5: 6 BRANŻA KONSTRUKCYJNA
C6: 6.1 ŚCIANKA SZCZELNA
A7: Nr | B7: Podstawa | C7: Opis robót | D7: Jm | E7: Ilość | F7: Cena | G7: Wartość
A8: 1 | B8: 2 | C8: 3 | D8: 4 | E8: 5 | F8: 6 | G8: 7
A9: 1 | B9: KNR 9-06 0103/10 | C9: Ścianki szczelne z grodzic stalowych wbijane na głębokość do 12m w gruncie kategorii I-II | D9: m | E9: 223.2 | G9: =ROUND(E9*F9,2) -> 0
A10: 2 | B10: KNR-W 2-02 0202/02.2 | C10: Oczepy żelbetowe prostokątne o szerokości do 0,8m | D10: m3 | E10: 109.37 | G10: =ROUND(E10*F10,2) -> 0
A11: 3 | B11: KNR-W 2-02 0259/02 | C11: Zbrojenie ze stali żebrowanej elementów betonowych | D11: t | E11: 8.5 | G11: =ROUND(E11*F11,2) -> 0
A12: 4 | B12: KNR 13-23 0802/02 | C12: Spawanie stali profilowej (grodzice) | D12: m | E12: 654.7 | G12: =ROUND(E12*F12,2) -> 0
A13: 5 | B13: KNR-W 2-02 0602/05 | C13: Izolacja przeciwwilgociowa bitumiczna dwuwarstwowa powierzchni poziomych z masy asfaltowej na zimno | D13: m2 | E13: 78.12 | G13: =ROUND(E13*F13,2) -> 0
A14: 6 | B14: KNR-W 2-02 0603/05 | C14: Izolacja przeciwwilgociowa bitumiczna dwuwarstwowa powierzchni pionowych z masy asfaltowej na zimno | D14: m2 | E14: 156.24 | G14: =ROUND(E14*F14,2) -> 0
A15: 7 | B15: KNR 2-02 1209/01 | C15: Balustrady techniczne stalowe z pochwytem | D15: m | E15: 223.2 | G15: =ROUND(E15*F15,2) -> 0
C16: ŚCIANKA SZCZELNA | G16: =SUM(G9:G15) -> 0
C17: 6.2 PŁYTA TERMINALA
A18: 8 | B18: KNR-W 2-01 0114/02 | C18: Roboty pomiarowe i geodezyjne pod zagospodarowanie terenu | D18: ha | E18: 2.51 | G18: =ROUND(E18*F18,2) -> 0
A19: 9 | B19: KNR-W 2-01 0201/11.2 | C19: Roboty ziemne koparkami o pojemności 0,6m3 z transportem urobku samochodami 15-20t na odległość do 10km w gruncie kategorii III | D19: m3 | E19: 0 | G19: =ROUND(E19*F19,2) -> 0
A20: 10 | B20: KNR 2-31 0101/01 | C20: Korytowaniem wraz z formowaniem i profilowaniem | D20: m2 | E20: 25107 | G20: =ROUND(E20*F20,2) -> 0
A21: 11 | B21: KNR 2-31 0103/02 | C21: Profilowanie i zagęszczanie podłoża pod warstwy nawierzchniowe w gruncie kategorii III-IV | D21: m2 | E21: 0 | G21: =ROUND(E21*F21,2) -> 0
A22: 12 | B22: KNR 2-31 0111/03 | C22: Podbudowa z gruntu stabilizowanego spoiwem hydraulicznym zagęszczona o grubości minimum 30cm | D22: m2 | E22: 25107 | G22: =ROUND(E22*F22,2) -> 0
A23: 13 | C23: Podbudowa z kruszywa łamanego stabilizowana hydraulicznie zagęszczona o grubości 30cm (2,5Mpa) | D23: m2 | E23: 25107 | G23: =ROUND(E23*F23,2) -> 0
A24: 14 | C24: Podbudowa z kruszywa łamanego stabilizowana hydraulicznie zagęszczona o grubości 30cm (5Mpa) | D24: m2 | E24: 25107 | G24: =ROUND(E24*F24,2) -> 0
A25: 15 | B25: KNR 9-11 0202/02 | C25: Separacja warstw wzmocniona geotkaninami | D25: m2 | E25: 25107 | G25: =ROUND(E25*F25,2) -> 0
A26: 16 | B26: KNR AT-03 0303/01 | C26: Nawierzchnia betonowa z warstwą poślizgową, dylatowana z nacięciem szczelin i zalaniem masą zalewową o grubości 40cm | D26: m2 | E26: 25107 | G26: =ROUND(E26*F26,2) -> 0
A27: 17 | B27: KNR-W 2-02 0259/01 | C27: Zbrojenie rozproszone z włókien stalowych elementów betonowych | D27: t | E27: 301.28 | G27: =ROUND(E27*F27,2) -> 0
A28: 18 | B28: KNR-W 2-02 0259/01 | C28: Zbrojenie ze stali gładkiej elementów betonowych | D28: t | E28: 34.02 | G28: =ROUND(E28*F28,2) -> 0
A29: 19 | B29: KNR-W 2-02 0259/02 | C29: Zbrojenie ze stali żebrowanej elementów betonowych | D29: t | E29: 176.71 | G29: =ROUND(E29*F29,2) -> 0
A30: 20 | B30: KNR-W 2-02 0608/07 | C30: Izolacja szczelin dylatacyjnych styropianem o szerokości 2cm i grubości 36cm | D30: m | E30: 1775.08 | G30: =ROUND(E30*F30,2) -> 0
A31: 21 | B31: KNR 0-29 0639/01 | C31: Izolacja pionowych szczelin dylatacyjnych taśmą i zaprawą uszczelniającą elastyczną | D31: m | E31: 5362.11 | G31: =ROUND(E31*F31,2) -> 0
A32: 22 | B32: KNR 2-31 0118/01 | C32: Pielęgnacja piaskiem i wodą podbudowy z mieszanki betonowej i gruntu stabilizowanego cementem | D32: m2 | E32: 25107 | G32: =ROUND(E32*F32,2) -> 0
A33: 23 | B33: Kalkulacja własna | C33: Utylizacja gleby i ziemi | D33: t | E33: 37660.5 | G33: =ROUND(E33*F33,2) -> 0
C34: PŁYTA TERMINALA | G34: =SUM(G18:G33) -> 0
C35: 6.3 KOMORA TECHNOLOGICZNA
A36: 24 | B36: KNR-W 2-01 0212/06 | C36: Wykopy na odkład koparkami o pojemności 0,4m3 w gruncie kategorii III | D36: m3 | E36: 167 | G36: =ROUND(E36*F36,2) -> 0
A37: 25 | B37: KNR-W 2-02 1101/03 | C37: Podkłady z chudego betonu na podłożu gruntowym | D37: m3 | E37: 1.8 | G37: =ROUND(E37*F37,2) -> 0
A38: 26 | B38: KNR-W 2-20 0112/01 | C38: Komora technologiczna żelbetowa zasilania suwnicy | D38: m3 | E38: 25 | G38: =ROUND(E38*F38,2) -> 0
A39: 27 | B39: KNR-W 2-02 0259/02 | C39: Zbrojenie ze stali żebrowanej elementów betonowych | D39: t | E39: 2.73 | G39: =ROUND(E39*F39,2) -> 0
A40: 28 | B40: KNR-W 2-15 0227/05 | C40: Właz kanałowy żeliwny okrągły typu ciężkiego | D40: szt | E40: 1 | G40: =ROUND(E40*F40,2) -> 0
A41: 29 | B41: KNR-W 2-02 1219/04 | C41: Klamry włazowe stalowe | D41: szt | E41: 6 | G41: =ROUND(E41*F41,2) -> 0
A42: 30 | B42: KNR-W 2-01 0501/01 | C42: Zasypanie wykopów ze skarpami z kruszywa przywiezionego z zagęszczeniem | D42: m3 | E42: 50 | G42: =ROUND(E42*F42,2) -> 0
...

Sheet 7 Drogi
A2: TABELA PODZIAŁU CENY RYCZAŁTOWEJ
A3: 7. Drogi
A6: Nr | B6: Podstawa | C6: Opis robót | D6: Jm | E6: Ilość | F6: Cena | G6: Wartość
C7: 7 BRANŻA DROGOWA | G7: Etap 1 | H7: Etap 2 | I7: Etap 3
C8: 7.1 ROBOTY PRZYGOTOWAWCZE
A9: 1 | B9: KNR-W 2-01 0114/02 | C9: Roboty pomiarowe i geodezyjne pod zagospodarowanie terenu | D9: ha | E9: 12.92 | G9: =ROUND(E9*F9,2) -> 0
A10: 2 | B10: KNR-W 2-01 0119/01 | C10: Usunięcie spycharką warstwy ziemi urodzajnej na pełną grubość | D10: m2 | E10: =98573+6702+8245 -> 113520 | G10: =ROUND(98573*F10,2) -> 0 | H10: =ROUND(6702*F10,2) -> 0 | I10: =ROUND(8245*F10,2) -> 0
A11: 3 | B11: KNR-W 2-01 0207/07.4 | C11: Roboty ziemne w gruncie zmagazynowanej w hałdach koparkami o pojemności 0,6m3 z transportem urobku samochodami 15-20t na odległość do 10km | D11: m3 | E11: 207050 | G11: =ROUND(E11*F11,2) -> 0
A12: 4 | B12: KNR-W 2-01 0207/07.4 | C12: Roboty ziemne w gruncie zmagazynowanej w hałdach koparkami o pojemności 0,6m3 z transportem urobku samochodami 5-10t na odległość do 1km (przygotowanie kruszywa) | D12: m3 | E12: 2050 | G12: =ROUND(E12*F12,2) -> 0
A13: 5 | B13: KNR-W 2-01 0227/02.2 | C13: Formowanie nasypów z kruszywa dostarczanego samochodami w gruncie kategorii III-IV | D13: m3 | E13: 2050 | G13: =ROUND(E13*F13,2) -> 0
A14: 6 | B14: KNR-W 2-01 0201/11.2 | C14: Roboty ziemne koparkami o pojemności 0,6m3 z transportem urobku samochodami 15-20t na odległość do 10km w gruncie kategorii III | D14: m2 | E14: 0 | G14: =ROUND(34363*F14,2) -> 0 | H14: =ROUND(5826*F14,2) -> 0 | I14: =ROUND(6971*F14,2) -> 0
A15: 7 | B15: KNR 2-31 0101/01 | C15: Korytowaniem wraz z formowaniem i profilowaniem | D15: m2 | E15: =34363+5826+6971 -> 47160 | G15: =ROUND(34363*F15,2) -> 0 | H15: =ROUND(5826*F15,2) -> 0 | I15: =ROUND(6971*F15,2) -> 0
A16: 8 | B16: KNR 2-31 0103/02 | C16: Profilowanie i zagęszczanie podłoża pod warstwy nawierzchniowe w gruncie kategorii III-IV | D16: m2 | E16: 0 | G16: =ROUND(34363*F16,2) -> 0 | H16: =ROUND(5826*F16,2) -> 0 | I16: =ROUND(6971*F16,2) -> 0
A17: 9 | B17: Kalkulacja własna | C17: Utylizacja gleby i ziemi | D17: t | E17: =(207050+47160)*1.5 -> 381315 | G17: =ROUND(E17*F17,2) -> 0
C18: ROBOTY PRZYGOTOWAWCZE | G18: =SUM(G9:G17) -> 0 | H18: =SUM(H9:H17) -> 0 | I18: =SUM(I9:I17) -> 0
C19: 7.2 KONSTRUKCJA TYP I
A20: 10 | B20: KNR 2-31 0311/05 | C20: Nawierzchnia z mieszanek mineralno-bitumicznych grysowo-żwirowych ściernych o grubości 4cm | D20: m2 | E20: 13119 | G20: =ROUND(E20*F20,2) -> 0
A21: 11 | B21: KNR 2-31 0311/01 | C21: Nawierzchnia z mieszanek mineralno-bitumicznych grysowo-żwirowych wiążących o grubości 8cm | D21: m2 | E21: 13119 | G21: =ROUND(E21*F21,2) -> 0
A22: 12 | B22: KNR 2-31 0109/01 | C22: Podbudowa z betonu asfaltowego zagęszczona o grubości 12cm | D22: m2 | E22: 13119 | G22: =ROUND(E22*F22,2) -> 0
A23: 13 | B23: KNR 2-31 0114/05 | C23: Podbudowa z kruszywa łamanego zagęszczona o grubości 20cm | D23: m2 | E23: 13759.95 | G23: =ROUND(E23*F23,2) -> 0
A24: 14 | B24: KNR 2-31 0114/01 | C24: Podbudowa z kruszywa związanego cementem o grubości 40cm | D24: m2 | E24: 13759.95 | G24: =ROUND(E24*F24,2) -> 0
A25: 15 | B25: KNR 2-31 0118/01 | C25: Pielęgnacja piaskiem i wodą podbudowy z mieszanki betonowej i gruntu stabilizowanego cementem | D25: m2 | E25: 13759.95 | G25: =ROUND(E25*F25,2) -> 0
C26: KONSTRUKCJA TYP I | G26: =SUM(G20:G25) -> 0
C27: 7.3 KONSTRUKCJA TYP II
A28: 16 | B28: KNR AT-03 0303/01 | C28: Nawierzchnia betonowa z warstwą poślizgową, dylatowana z nacięciem szczelin i zalaniem masą zalewową o grubości 25cm | D28: m2 | E28: 1167 | G28: =ROUND(E28*F28,2) -> 0
A29: 17 | B29: KNR-W 2-02 0606/01 | C29: Izolacja przeciwwilgociowa i przeciwwodna dwukrotna z folii polietylenowej izolacyjnej | D29: m2 | E29: 1167 | G29: =ROUND(E29*F29,2) -> 0
A30: 18 | B30: KNR 2-31 0109/01 | C30: Podbudowa betonowa zagęszczona o grubości 20cm | D30: m2 | E30: 1225.35 | G30: =ROUND(E30*F30,2) -> 0
A31: 19 | B31: KNR 2-31 0114/05 | C31: Podbudowa z kruszywa łamanego stabilizowana hydraulicznie zagęszczona o grubości 40cm | D31: m2 | E31: 1225.35 | G31: =ROUND(E31*F31,2) -> 0
A32: 20 | B32: ZNK 23-01 0107/07 | C32: Ułożenie dybli stalowych - Dyble o długości 50 cm średnicy 20 mm –zabezpieczone ściśle przylegającym peszlem na połowie długości | D32: szt | E32: 820 | G32: =ROUND(E32*F32,2) -> 0
A33: 21 | B33: KNR 0-29 0639/01 | C33: Izolacja pionowych szczelin dylatacyjnych taśmą i zaprawą uszczelniającą elastyczną | D33: m | E33: 786 | G33: =ROUND(E33*F33,2) -> 0
A34: 22 | B34: KNR 2-31 0118/01 | C34: Pielęgnacja piaskiem i wodą podbudowy z mieszanki betonowej i gruntu stabilizowanego cementem | D34: m2 | E34: 1225.35 | G34: =ROUND(E34*F34,2) -> 0
C35: KONSTRUKCJA TYP II | G35: =SUM(G28:G34) -> 0
C36: 7.4 KONSTRUKCJA TYP III
A37: 23 | B37: KNR 2-31 0511/03 | C37: Nawierzchnia z kostki brukowej betonowej o grubości 8cm na podsypce cementowo-piaskowej | D37: m2 | E37: 4351 | G37: =ROUND(E37*F37,2) -> 0
A38: 24 | B38: KNR 2-31 0109/01 | C38: Podbudowa betonowa zagęszczona o grubości 25cm | D38: m2 | E38: 4351 | G38: =ROUND(E38*F38,2) -> 0
A39: 25 | B39: KNR 2-31 0114/05 | C39: Podbudowa z kruszywa łamanego stabilizowana hydraulicznie zagęszczona o grubości 40cm | D39: m2 | E39: 4584 | G39: =ROUND(E39*F39,2) -> 0
A40: 26 | B40: KNR 2-31 0118/01 | C40: Pielęgnacja piaskiem i wodą podbudowy z mieszanki betonowej i gruntu stabilizowanego cementem | D40: m2 | E40: 4584 | G40: =ROUND(E40*F40,2) -> 0
C41: KONSTRUKCJA TYP III | G41: =SUM(G37:G40) -> 0
C42: 7.5 KONSTRUKCJA TYP IV
A43: 27 | B43: KNR 2-31 0511/03 | C43: Nawierzchnia z kostki brukowej betonowej o grubości 8cm na podsypce cementowo-piaskowej | D43: m2 | E43: 1266 | G43: =ROUND(E43*F43,2) -> 0
...

Sheet 8 Sanitarna
A2: TABELA PODZIAŁU CENY RYCZAŁTOWEJ
A3: 8. Sanitarne
A5: Nr | B5: Podstawa | C5: Opis robót | D5: Jm | E5: Ilość | F5: Cena | G5: Wartość
C6: 8 BRANŻA SANITARNA | G6: Etap 1 | H6: Etap 2 | I6: Etap 3
C7: 8.1 SIEĆ WODOCIĄGOWA
C8: 8.1.1 Roboty ziemne
A9: 1 | B9: KNR-W 2-01 0113/08 | C9: Roboty pomiarowe i geodezyjne trasy rurociagów w terenie płaskim | D9: km | E9: 1.43 | G9: =ROUND(E9*F9,2) -> 0
A10: 2 | B10: KNR-W 2-01 0212/04 | C10: Wykopy na odkład koparkami o pojemności 0,25m3 i podkopy ręczne w gruncie kategorii III | D10: m3 | E10: 1962.87 | G10: =ROUND(E10*F10,2) -> 0
A11: 3 | B11: KNR-W 2-01 0314/02 | C11: Umocnienie pełne palami szalunkowymi ścian wykopów o głębokości do 3m z rozbiórką w gruncie kategorii III-IV | D11: m2 | E11: 5700 | G11: =ROUND(E11*F11,2) -> 0
A12: 4 | B12: KNR 2-18 0501/01 | C12: Podłoża pod kanały z materiałów sypkich o grubości 10cm | D12: m2 | E12: 981.44 | G12: =ROUND(E12*F12,2) -> 0
A13: 5 | B13: KNR 2-28 0501/09 | C13: Obsypka rurociągu kruszywem dowiezionym | D13: m3 | E13: 372.87 | G13: =ROUND(E13*F13,2) -> 0
A14: 6 | B14: KNR-W 2-01 0222/01.1 | C14: Zasypanie wykopów spycharkami i zasypki ręczne wraz z zagęszczeniem ubijakami mechanicznymi w gruncie kategorii I-III | D14: m3 | E14: 1491.86 | G14: =ROUND(E14*F14,2) -> 0
A15: 7 | B15: KNR-W 2-01 0207/07.4 | C15: Roboty ziemne w gruncie zmagazynowanej w hałdach koparkami o pojemności 0,6m3 z transportem urobku samochodami 10-15t na odległość do 10km | D15: m3 | E15: 471.01 | G15: =ROUND(E15*F15,2) -> 0
A16: 8 | B16: Kalkulacja własna | C16: Utylizacja gleby i ziemi | D16: t | E16: 706.52 | G16: =ROUND(E16*F16,2) -> 0
C17: Roboty ziemne | G17: =SUM(G9:G16) -> 0
C18: 8.1.2 Rurociągi
A19: 9 | B19: KNR 2-28 0314/01 | C19: Rurociągi z rur ciśnieniowych PE zgrzewanych o średnicy 32mm | D19: m | E19: 85 | G19: =ROUND(E19*F19,2) -> 0
A20: 10 | B20: KNR 2-28 0314/02 | C20: Rurociągi z rur ciśnieniowych PE zgrzewanych o średnicy 40mm | D20: m | E20: 105 | G20: =ROUND(E20*F20,2) -> 0
A21: 11 | B21: KNR 2-28 0314/03 | C21: Rurociągi z rur ciśnieniowych PE zgrzewanych o średnicy 50mm | D21: m | E21: 415 | G21: =ROUND(E21*F21,2) -> 0
A22: 12 | B22: KNR-W 2-18 0808/01 | C22: Rurociągi z rur ciśnieniowych PE zgrzewanych o średnicy 63mm | D22: m | E22: 40 | G22: =ROUND(E22*F22,2) -> 0
A23: 13 | B23: KNR-W 2-18 0808/02 | C23: Rurociągi z rur ciśnieniowych PE zgrzewanych o średnicy 75mm | D23: m | E23: 430 | G23: =ROUND(E23*F23,2) -> 0
A24: 14 | B24: KNR-W 2-18 0808/02 | C24: Rurociągi z rur ciśnieniowych PE zgrzewanych o średnicy 90mm | D24: m | E24: 350 | G24: =ROUND(E24*F24,2) -> 0
C25: Rurociągi | G25: =SUM(G19:G24) -> 0
C26: 8.1.3 Osprzęt
A27: 15 | B27: KNR 2-11 0912/02 | C27: Studnia wodomierzowa żelbetowa prefabrykowana o wymiarach 300x150x190cm z wyposażeniem | D27: szt | E27: 1 | G27: =ROUND(E27*F27,2) -> 0
A28: 16 | B28: KNR 2-11 0912/02 | C28: Studnia wodociągowa z kręgów żelbetowych o średnicy 1000mm z wyposażeniem | D28: szt | E28: 2 | G28: =ROUND(E28*F28,2) -> 0
A29: 17 | B29: KNR-W 2-15 0527/05 | C29: Filtry żeliwne siatkowe kołnierzowe o średnicy 80mm | D29: szt | E29: 1 | G29: =ROUND(E29*F29,2) -> 0
A30: 18 | B30: KNR-W 2-15 0518/03 | C30: Izolator przepływów zwrotnych kołnierzowy o średnicy 80mm | D30: szt | E30: 1 | G30: =ROUND(E30*F30,2) -> 0
A31: 19 | B31: KNR-W 2-18 0201/01.1 | C31: Zasuwy żeliwne klinowe gwintowane z obudową o średnicy 25mm | D31: szt | E31: 2 | G31: =ROUND(E31*F31,2) -> 0
A32: 20 | B32: KNR-W 2-18 0201/01.1 | C32: Zasuwy żeliwne klinowe gwintowane z obudową o średnicy 32mm | D32: szt | E32: 1 | G32: =ROUND(E32*F32,2) -> 0
A33: 21 | B33: KNR-W 2-18 0201/01.1 | C33: Zasuwy żeliwne klinowe gwintowane z obudową o średnicy 40mm | D33: szt | E33: 1 | G33: =ROUND(E33*F33,2) -> 0
A34: 22 | B34: KNR-W 2-18 0201/01.1 | C34: Zasuwy żeliwne klinowe gwintowane z obudową o średnicy 50mm | D34: szt | E34: 1 | G34: =ROUND(E34*F34,2) -> 0
C35: Osprzęt | G35: =SUM(G27:G34) -> 0
C36: 8.1.4 Próby odbiorowe
A37: 23 | B37: KNR-W 2-18 0704/01 | C37: Próba wodna szczelności sieci z rur PE i PCV o średnicy do 110mm | D37: kpl | E37: 7 | G37: =ROUND(E37*F37,2) -> 0
A38: 24 | B38: KNR-W 2-18 0707/01 | C38: Dezynfekcja rurociągów sieci o średnicy do 150mm | D38: kpl | E38: 7 | G38: =ROUND(E38*F38,2) -> 0
A39: 25 | B39: KNR-W 2-18 0708/01 | C39: Jednokrotne płukanie sieci o średnicy do 150mm (Krotność= 2) | D39: kpl | E39: 7 | G39: =ROUND(E39*F39,2) -> 0
A40: 26 | B40: KNR-W 2-19 0102/01 | C40: Oznakowanie taśmą z tworzywa sztucznego trasy rurociągu ułożonego w ziemi | D40: m | E40: 1425 | G40: =ROUND(E40*F40,2) -> 0
A41: 27 | B41: KNR-W 2-19 0134/02 | C41: Oznakowanie na słupku stalowym trasy rurociągów | D41: szt | E41: 5 | G41: =ROUND(E41*F41,2) -> 0
C42: Próby odbiorowe | G42: =SUM(G37:G41) -> 0
...

Sheet 9 Elektryczna i Niskie prady
A2: TABELA PODZIAŁU CENY RYCZAŁTOWEJ
A3: 9. Elektryczne i niskie prądy
A5: Nr | B5: Podstawa | C5: Opis robót | D5: Jm | E5: Ilość | F5: Cena | G5: Wartość
C6: 9 BRANŻA ELEKTRYCZNA
C7: 9.1 SIEĆ ELEKTRYCZNA SN
C8: 9.1.1 Przyłącze elektryczne
A9: 1 | B9: KNR-W 2-01 0113/08 | C9: Roboty pomiarowe i geodezyjne trasy kablowych w terenie płaskim | D9: km | E9: 0.57 | G9: =ROUND(E9*F9,2) -> 0
A10: 2 | B10: KNR-W 2-01 0701/05.3 | C10: Kopanie rowów kablowych o głębokości do 1,0m i szerokości do 0,6m w gruncie kategorii III | D10: m | E10: 571 | G10: =ROUND(E10*F10,2) -> 0
A11: 3 | B11: KNR-W 5-10 0301/02 | C11: Podsypka i obsypka na dnie rowu kablowego warstwami o szerokości do 0,6m | D11: m | E11: 571 | G11: =ROUND(E11*F11,2) -> 0
A12: 4 | B12: KNR-W 2-01 0704/05.3 | C12: Zasypanie rowów kablowych o głębokości do 0,8m i szerokości do 0,6m w gruncie kategorii III | D12: m | E12: 571 | G12: =ROUND(E12*F12,2) -> 0
A13: 5 | B13: KNR 5-12 0401/03 | C13: Izolatory wsporcze pionowe | D13: szt | E13: 1 | G13: =ROUND(E13*F13,2) -> 0
A14: 6 | B14: KNR 5-12 0402/01 | C14: Łańcuchy izolatorowe pniowe do 30kV dla przewodów o przekroju do 70mm2 | D14: szt | E14: 3 | G14: =ROUND(E14*F14,2) -> 0
A15: 7 | B15: KNR-W 5-10 0801/01 | C15: Poprzeczniki przelotowe słupowe | D15: szt | E15: 5 | G15: =ROUND(E15*F15,2) -> 0
A16: 8 | B16: KNR-W 5-10 0802/04 | C16: Trzony kabłąkowe słupowe | D16: szt | E16: 3 | G16: =ROUND(E16*F16,2) -> 0
A17: 9 | B17: KNR-W 5-10 0803/03 | C17: Bezpieczniki słupowe | D17: kpl | E17: 3 | G17: =ROUND(E17*F17,2) -> 0
A18: 10 | B18: KNR-W 5-08 0611/02 | C18: Uziomy powierzchniowe w wykopie o głębokości do 0,6m w gruncie kategorii III | D18: m | E18: 24.5 | G18: =ROUND(E18*F18,2) -> 0
A19: 11 | B19: KNR-W 5-08 0614/02 | C19: Uziomy prętowe pogrążane mechanicznie w gruncie kategorii III | D19: m | E19: 24 | G19: =ROUND(E19*F19,2) -> 0
A20: 12 | B20: KNR 5-08 0602/11 | C20: Uziomy z bednarki przyspawane do konstrukcji w ciągach poziomych o przekroju do 120mm2 | D20: m | E20: 10 | G20: =ROUND(E20*F20,2) -> 0
... A22: 14 | B22: KNR-W 5-10 0303/03 | C22: Ułożenie rur osłonowych R1 160( giętka, dwuwarstwowa HDPE, karbowana w środku i na zewnątrz, 450 N, czerwona) | D22: m | E22: 678 | G22: =ROUND(E22*F22,2) -> 0
A23: 14a | C23: Rura osłonowa R2 | D23: m | E23: 0 | G23: =ROUND(E23*F23,2) -> 0
A24: 14b | C24: Ułożenie rur osłonowych R3 160/8 ( sztywna, HDPE, gładka w środku, gładka na zewnątrz, czerwona) | D24: m | E24: 553 | G24: =ROUND(E24*F24,2) -> 0
A25: 14c | C25: Rura osłonowa R4 160/9,1 ( sztywna, HDPE, gładka w środku, gładka na zewnątrz, czarna) | D25: m | E25: 492 | G25: =ROUND(E25*F25,2) -> 0
A26: 15 | B26: KNR-W 5-10 0201/01.1 | C26: Kable zasilające aluminiowe SN w rowach kablowych XRUHAKX o przekroju 1x70mm2 | D26: m | E26: 2289 | G26: =ROUND(E26*F26,2) -> 0
A27: 16 | B27: KNR-W 5-10 0201/01.1 | C27: Kable zasilające aluminiowe SN w rowach kablowych XRUHAKX o przekroju 1x120mm2 | D27: m | E27: 1842 | G27: =ROUND(E27*F27,2) -> 0
A28: 17 | B28: KNR-W 5-10 0412/06 | C28: Mufy na kablach jednożyłowych aluminiowych do 20kV o przekroju do 95mm2 | D28: szt | E28: 3 | G28: =ROUND(E28*F28,2) -> 0
A29: 18 | B29: KNR-W 5-10 0412/06 | C29: Mufy na kablach jednożyłowych aluminiowych do 20kV o przekroju do 240mm2 | D29: szt | E29: 3 | G29: =ROUND(E29*F29,2) -> 0
C30: Przyłącze elektryczne | G30: =SUM(G9:G29) -> 0
C31: 9.1.2 Stacja transformatorowa ST-1
A32: 19 | B32: Kalkulacja własna | C32: Kontenerowa stacja transformatorowa częścią nadziemną 816 x 266 x 265cm (lxdxh) z częścią podziemną h=90cm, z instalacjami budynkowymi | D32: kpl | E32: 1 | G32: =ROUND(E32*F32,2) -> 0
A33: 20 | C33: Rozdzielnia średniego napięcia ST1 o mocy 800kVA | D33: szt | E33: 1 | G33: =ROUND(E33*F33,2) -> 0
A34: 21 | C34: Transformator żywiczny ST1 o mocy 800kVA | D34: szt | E34: 1 | G34: =ROUND(E34*F34,2) -> 0
A35: 22 | C35: Głowice ołowiane do kabli aluminiowych do 20kV o przekroju do 240mm2 | D35: szt | E35: 6 | G35: =ROUND(E35*F35,2) -> 0
A36: 23 | C36: Uziomy powierzchniowe w wykopie o głębokości do 0,6m w gruncie kategorii III | D36: m | E36: 29.64 | G36: =ROUND(E36*F36,2) -> 0
A37: 24 | C37: Uziomy prętowe pogrążane mechanicznie w gruncie kategorii III | D37: m | E37: 24 | G37: =ROUND(E37*F37,2) -> 0
A38: 25 | C38: Wyposażenie stacji: Sprzęt ochronny, urządzenia | D38: kpl | E38: 1 | G38: =ROUND(E38*F38,2) -> 0
C39: Stacja ST-1 | G39: =SUM(G32:G38) -> 0
C40: 9.1.3 Stacja transformatorowa ST-2
A41: 26 | C41: Kontenerowa stacja transformatorowa częścią nadziemną 321 x 251 x 278cm (lxdxh) z częścią podziemną h=90cm z instalacjami budynkowymi | D41: kpl | E41: 1 | G41: =ROUND(E41*F41,2) -> 0
A42: 27 | C42: Rozdzielnia średniego napięcia ST2 o mocy 400kVA | D42: szt | E42: 1 | G42: =ROUND(E42*F42,2) -> 0
A43: 28 | C43: Transformator żywiczny ST2 o mocy 400kVA | D43: szt | E43: 1 | G43: =ROUND(E43*F43,2) -> 0
...

Sheet 10 HVAC
A2: TABELA PODZIAŁU CENY RYCZAŁTOWEJ
A3: 10. HVAC
A5: Nr | B5: Podstawa | C5: Opis robót | D5: Jm | E5: Ilość | F5: Cena | G5: Wartość
C6: 10 BRANŻA HVAC
C7: 10.1 BUDYNEK BIUROWY B01
C8: 10.1.1 Kotłownia
A9: 1 | B9: KNR 7-24 0128/05 | C9: Pompa ciepła z osprzętem o mocy 34,2kW | D9: szt | E9: 1 | G9: =ROUND(E9*F9,2) -> 0
A10: 2 | B10: KNR 7-08 0201/03 | C10: Układ regulacji elektrycznej temperatury z czujnikiem pomiarowym | D10: kpl | E10: 1 | G10: =ROUND(E10*F10,2) -> 0
A11: 3 | B11: KNR 7-24 0111/01 | C11: Zbiornik buforowy stalowy o pojemności 600dm3 | D11: szt | E11: 1 | G11: =ROUND(E11*F11,2) -> 0
A12: 4 | B12: KNR 7-24 0111/03 | C12: Zbiornik buforowy stalowy o pojemności 1000dm3 | D12: szt | E12: 1 | G12: =ROUND(E12*F12,2) -> 0
A13: 5 | B13: KNR 7-24 0127/01 | C13: Wymiennik glikolowy płaszczowo-rurowy skręcany lub spawany o mocy 42,8kW | D13: szt | E13: 1 | G13: =ROUND(E13*F13,2) -> 0
A14: 6 | B14: KNR 7-24 0127/01 | C14: Wymiennik glikolowy płaszczowo-rurowy skręcany lub spawany o mocy 34,2kW | D14: szt | E14: 1 | G14: =ROUND(E14*F14,2) -> 0
A15: 7 | B15: KNR-W 2-15 0509/01 | C15: Naczynie wzbiorcze przeponowe o pojemności 50dm3 | D15: szt | E15: 1 | G15: =ROUND(E15*F15,2) -> 0
A16: 8 | B16: KNR-W 2-15 0509/01 | C16: Naczynie wzbiorcze przeponowe o pojemności 100dm3 | D16: szt | E16: 2 | G16: =ROUND(E16*F16,2) -> 0
A17: 9 | B17: KNR-W 7-07 0101/02 | C17: Układ odgazowywania próżniowego z układem stabilizacji ciśnienia | D17: kpl | E17: 2 | G17: =ROUND(E17*F17,2) -> 0
A18: 10 | B18: KNR-W 7-07 0101/02 | C18: Zestaw pompowy uzupełnienia ubytków instalacji | D18: kpl | E18: 1 | G18: =ROUND(E18*F18,2) -> 0
A19: 11 | B19: KNR 7-06 0503/08 | C19: Stacja uzdatniania wody | D19: szt | E19: 1 | G19: =ROUND(E19*F19,2) -> 0
A20: 12 | B20: KNR-W 2-15 0528/06 | C20: Odmulacz z rur stalowych o średnicy 40mm | D20: szt | E20: 1 | G20: =ROUND(E20*F20,2) -> 0
... A43: 35 | B43: KNR-W 2-15 0527/05 | C43: Filtry żeliwne siatkowe kołnierzowe o średnicy 65mm | D43: szt | E43: 2 | G43: =ROUND(E43*F43,2) -> 0
C44: Kotłownia | G44: =SUM(G9:G43) -> 0
C45: 10.1.2 Instalacja c.o.
A46: 36 | B46: KNR-W 2-15 0403/01 | C46: Rurociągi z rur stalowych cienkościennych, ocynkowanych, łączonych na zaprasowane kształtki systemowe o średnicy 15mm | D46: m | E46: 11 | G46: =ROUND(E46*F46,2) -> 0
A47: 37 | B47: KNR-W 2-15 0403/02 | C47: Rurociągi z rur stalowych cienkościennych, ocynkowanych, łączonych na zaprasowane kształtki systemowe o średnicy 20mm | D47: m | E47: 58 | G47: =ROUND(E47*F47,2) -> 0
A48: 38 | B48: KNR-W 2-15 0403/03 | C48: Rurociągi z rur stalowych cienkościennych, ocynkowanych, łączonych na zaprasowane kształtki systemowe o średnicy 25mm | D48: m | E48: 51 | G48: =ROUND(E48*F48,2) -> 0
A49: 39 | B49: KNR-W 2-15 0403/04 | C49: Rurociągi z rur stalowych cienkościennych, ocynkowanych, łączonych na zaprasowane kształtki systemowe o średnicy 32mm | D49: m | E49: 103 | G49: =ROUND(E49*F49,2) -> 0
A50: 40 | B50: KNR-W 2-15 0403/06 | C50: Rurociągi z rur stalowych cienkościennych, ocynkowanych, łączonych na zaprasowane kształtki systemowe o średnicy 50mm | D50: m | E50: 62 | G50: =ROUND(E50*F50,2) -> 0
A51: 41 | B51: KNR-W 7-12 0206/04 | C51: Malowanie farbami poliwinylowymi wraz z dwukrotnym gruntowaniem rurociągów o średnicy do 57mm | D51: m2 | E51: 36.04 | G51: =ROUND(E51*F51,2) -> 0
A52: 42 | B52: KNR 0-31 0201/01 | C52: Rurociągi z rur polietylenowych PEX w przegrodach o średnicy 16mm | D52: m | E52: 2929 | G52: =ROUND(E52*F52,2) -> 0
A53: 43 | B53: KNR 7-08 0205/03 | C53: Regulatory różnicy ciśnień bezpośredniego działania o średnicy 15mm | D53: szt | E53: 1 | G53: =ROUND(E53*F53,2) -> 0
A54: 44 | B54: KNR 7-08 0205/03 | C54: Regulatory różnicy ciśnień bezpośredniego działania o średnicy 20mm | D54: szt | E54: 7 | G54: =ROUND(E54*F54,2) -> 0
A55: 45 | B55: KNR-W 2-15 0525/02 | C55: Filtry żeliwne siatkowe gwintowane o średnicy 32mm | D55: szt | E55: 1 | G55: =ROUND(E55*F55,2) -> 0
A56: 46 | B56: KNR-W 2-15 0525/01 | C56: Zawory żeliwne odcinające gwintowane o średnicy 20mm | D56: szt | E56: 23 | G56: =ROUND(E56*F56,2) -> 0
A57: 47 | B57: KNR-W 2-15 0525/02 | C57: Zawory żeliwne odcinające gwintowane o średnicy 25mm | D57: szt | E57: 3 | G57: =ROUND(E57*F57,2) -> 0
... A76: 66 | B76: KNR 0-34 0101/01 | C76: Izolacja otulinami polietylenowymi o grubości 6mm rurociągów o średnicy 10mm | D76: m | E76: 2929 | G76: =ROUND(E76*F76,2) -> 0
C77: Instalacja c.o. | G77: =SUM(G46:G76) -> 0
C78: 10.1.3 Instalacja wody lodowej
A79: 67 | B79: KNR-W 2-15 0403/01 | C79: Rurociągi z rur stalowych czarnych ze szwem spawanych o średnicy 15mm | D79: m | E79: 85 | G79: =ROUND(E79*F79,2) -> 0
A80: 68 | B80: KNR-W 2-15 0403/02 | C80: Rurociągi z rur stalowych czarnych ze szwem spawanych o średnicy 20mm | D80: m | E80: 30 | G80: =ROUND(E80*F80,2) -> 0
A81: 69 | B81: KNR-W 2-15 0403/03 | C81: Rurociągi z rur stalowych czarnych ze szwem spawanych o średnicy 25mm | D81: m | E81: 55 | G81: =ROUND(E81*F81,2) -> 0
A82: 70 | B82: KNR-W 2-15 0403/04 | C82: Rurociągi z rur stalowych czarnych ze szwem spawanych o średnicy 32mm | D82: m | E82: 34 | G82: =ROUND(E82*F82,2) -> 0
...

Sheet 11 Hydrotechniczna
A2: TABELA PODZIAŁU CENY RYCZAŁTOWEJ
A3: 11. Hydrotechniczna
A5: Nr | B5: Podstawa | C5: Opis robót | D5: Jm | E5: Ilość | F5: Cena | G5: Wartość
C6: 11 BRANŻA HYDROTECHNICZNA
C7: 11.1 DRENAŻ ODWADNIAJĄCY
C8: 11.1.1 Roboty ziemne
A9: 1 | B9: KNR-W 2-01 0113/08 | C9: Roboty pomiarowe i geodezyjne trasy rurociagów w terenie płaskim | D9: km | E9: 0.66 | G9: =ROUND(E9*F9,2) -> 0
A10: 2 | B10: KNR-W 2-01 0212/04 | C10: Wykopy na odkład koparkami o pojemności 0,25m3 i podkopy ręczne w gruncie kategorii III | D10: m3 | E10: 3605 | G10: =ROUND(E10*F10,2) -> 0
A11: 3 | B11: KNR-W 2-01 0314/02 | C11: Umocnienie pełne palami szalunkowymi ścian wykopów o głębokości do 3m z rozbiórką w gruncie kategorii III-IV | D11: m2 | E11: 450 | G11: =ROUND(E11*F11,2) -> 0
A12: 4 | B12: KNR 2-28 0501/09 | C12: Podsypka i obsypka rurociągu kruszywem dowiezionym | D12: m3 | E12: 350.96 | G12: =ROUND(E12*F12,2) -> 0
A13: 5 | B13: KNR-W 2-01 0222/01.1 | C13: Zasypanie wykopów spycharkami i zasypki ręczne wraz z zagęszczeniem ubijakami mechanicznymi w gruncie kategorii I-III | D13: m3 | E13: 3240.71 | G13: =ROUND(E13*F13,2) -> 0
A14: 6 | B14: KNR-W 2-01 0207/07.4 | C14: Roboty ziemne w gruncie zmagazynowanej w hałdach koparkami o pojemności 0,6m3 z transportem urobku samochodami 10-15t na odległość do 10km | D14: m3 | E14: 364.29 | G14: =ROUND(E14*F14,2) -> 0
A15: 7 | B15: Kalkulacja własna | C15: Utylizacja gleby i ziemi | D15: t | E15: 546.44 | G15: =ROUND(E15*F15,2) -> 0
C16: Roboty ziemne | G16: =SUM(G9:G15) -> 0
C17: 11.1.2 Roboty montażowe
A18: 8 | B18: KNR-W 2-01 0610/02 | C18: Drenaż rurowy jednorzędowy w wykopie suchym z rur PP o średnicy 160mm | D18: m | E18: 664 | G18: =ROUND(E18*F18,2) -> 0
A19: 9 | B19: KNR 9-07 0106/01 | C19: Geowłóknina układana na dnie i ścianach wykopu | D19: m2 | E19: 1942.77 | G19: =ROUND(E19*F19,2) -> 0
A20: 10 | B20: KNR-W 2-18 0517/01 | C20: Studzienki drenarskie systemowe o średnicy 425mm i głębokości 2-3m | D20: szt | E20: 5 | G20: =ROUND(E20*F20,2) -> 0
A21: 11 | B21: KNR-W 2-18 0517/01 | C21: Studzienki drenarskie systemowe o średnicy 425mm i głębokości 3-4m | D21: szt | E21: 5 | G21: =ROUND(E21*F21,2) -> 0
A22: 12 | B22: KNR-W 2-18 0517/01 | C22: Studzienki drenarskie systemowe o średnicy 425mm i głębokości 4-5m | D22: szt | E22: 5 | G22: =ROUND(E22*F22,2) -> 0
A23: 13 | B23: KNR-W 2-18 0517/01 | C23: Studzienki drenarskie systemowe o średnicy 425mm i głębokości 5-6m | D23: szt | E23: 2 | G23: =ROUND(E23*F23,2) -> 0
A24: 14 | B24: KNR-W 2-01 0604/01 | C24: Pompowanie pomiarowe lub oczyszczające o średnicy 150-500mm | D24: godz | E24: 2880 | G24: =ROUND(E24*F24,2) -> 0
A25: 15 | B25: KNR-W 2-18 0421/02 | C25: Złączki PVC kielichowe o średnicy 160mm | D25: szt | E25: 150 | G25: =ROUND(E25*F25,2) -> 0
A26: 16 | B26: KNR-W 4-02 0203/09 | C26: Zakorkowanie podejścia kanalizacyjnego korkiem z PCV o średnicy 160mm | D26: szt | E26: 4 | G26: =ROUND(E26*F26,2) -> 0
C27: Roboty montażowe | G27: =SUM(G18:G26) -> 0
C28: Razem | G28: =SUM(G16+G27) -> 0

Sheet 12 Kolej
A2: TABELA PODZIAŁU CENY RYCZAŁTOWEJ
A3: 12. Kolej
A5: Nr | B5: Podstawa | C5: Opis robót | D5: Jm | E5: Ilość | F5: Cena | G5: Wartość
C6: 12 BRANŻA KOLEJOWA
C7: 12.2 TERMINAL
C8: 12.2.1 Roboty ziemne
A9: 1 | B9: KNR-W 2-01 0115/01 | C9: Pomiary geodezyjne przy wykopach na terenie płaskim | D9: m2 | E9: 21544 | G9: =ROUND(E9*F9,2) -> 0
A10: 2 | B10: KNR-W 2-01 0201/10.2 | C10: Roboty ziemne koparkami o pojemności 0,6m3 z transportem urobku samochodami 10-15t na odległość do 10km w gruncie kategorii I-II | D10: m3 | E10: 68527 | G10: =ROUND(E10*F10,2) -> 0
A11: 3 | B11: KNR-W 2-01 0207/05.3 | C11: Roboty ziemne w gruncie zmagazynowanej w hałdach koparkami o pojemności 0,4m3 z transportem urobku samochodami 5-10t na odległość do 1km (załadunek kruszywa) | D11: m3 | E11: 2763 | G11: =ROUND(E11*F11,2) -> 0
A12: 4 | B12: KNR-W 2-01 0227/02.2 | C12: Formowanie nasypów z zagęszczeniem z kruszywa dostarczanego samochodami w gruncie kategorii III-IV | D12: m3 | E12: 2763 | G12: =ROUND(E12*F12,2) -> 0
A13: 5 | B13: KNR-W 2-01 0225/02 | C13: Plantowanie i profilowanie terenu spycharkami gąsienicowymi 55kW w gruncie kategorii III | D13: m2 | E13: 27439 | G13: =ROUND(E13*F13,2) -> 0
A14: 6 | B14: KNR 2-31 0103/02 | C14: Profilowanie i zagęszczanie skarp pod warstwy nawierzchniowe w gruncie kategorii III-IV | D14: m2 | E14: 4371 | G14: =ROUND(E14*F14,2) -> 0
A15: 7 | B15: Kalkulacja własna | C15: Utylizacja gleby i ziemi zanieczyszczonej | D15: t | E15: =68527*1.5 -> 102790.5 | G15: =ROUND(E15*F15,2) -> 0
C16: Roboty ziemne | G16: =SUM(G9:G15) -> 0
C17: 12.2.2 Wzmocnienie podtorza
A18: 8 | B18: KNR 9-11 0202/02 | C18: Separacja warstw wzmocniona geowłókninami | D18: m2 | E18: 22046 | G18: =ROUND(E18*F18,2) -> 0
A19: 9 | B19: KNR 2-31 0109/03 | C19: Stabilizacja podłoża gruntowego cementem zagęszczona o grubości 20cm | D19: m2 | E19: 2000 | G19: =ROUND(E19*F19,2) -> 0
A20: 10 | B20: KNR-W 2-37 0501/03.4 | C20: Warstwa ochronna z niesportu kamiennego na koronie nasypu z zagęszczeniem | D20: m3 | E20: 4817 | G20: =ROUND(E20*F20,2) -> 0
C21: Wzmocnienie podtorza | G21: =SUM(G18:G20) -> 0
C22: 12.2.3 Nawierzchnia torowa
A23: 11 | B23: KNR-W 2-37 0501/03.4 | C23: Warstwa z sub tłucznia na koronie nasypu z zagęszczeniem | D23: m3 | E23: 4369 | G23: =ROUND(E23*F23,2) -> 0
A24: 12 | B24: KNR 2-37 0203/02 | C24: Układanie toru kolejowego na podkładach betonowych w rozstawie 0.6m szyna 49E1 | D24: km | E24: 4.77 | G24: =ROUND(E24*F24,2) -> 0
A25: 13 | B25: KNR 2-09 0203/01 | C25: Montaż toru bezstykowego z szyny 49E1 na długości kanalu przeglądowego w hali | D25: km | E25: 0.07 | G25: =ROUND(E25*F25,2) -> 0
A26: 14 | B26: KNR 2-37 0303/01 | C26: Układanie rozjazdów zwyczajnych pojedynczych o skosie 1:9 i promieniu łuku 190m | D26: kpl | E26: 6 | G26: =ROUND(E26*F26,2) -> 0
A27: 15 | B27: KNR 2-37 0303/02 | C27: Układanie rozjazdów zwyczajnych pojedynczych o skosie 1:9 i promieniu łuku 300m | D27: kpl | E27: 3 | G27: =ROUND(E27*F27,2) -> 0
A28: 16 | B28: KNR 2-37 0701/01 | C28: Kozioł oporowy samohamowny (1 szt w hali) | D28: kpl | E28: 5 | G28: =ROUND(E28*F28,2) -> 0
A29: 17 | B29: KNR-W 2-37 0502/01 | C29: Balastowanie torów zmontowanych na zagęszczonej warstwie tłucznia na podkładach dbetonowych | D29: m3 | E29: 4284 | G29: =ROUND(E29*F29,2) -> 0
A30: 18 | B30: KNR-W 2-37 0503/01 | C30: Balastowanie rozjazdów zwyczajnych torów zmontowanych na zagęszczonej warstwie tłucznia | D30: m3 | E30: 278 | G30: =ROUND(E30*F30,2) -> 0
A31: 19 | B31: KNR-W 2-37 0809/05 | C31: Wskaźniki ukresu W17 | D31: szt | E31: 9 | G31: =ROUND(E31*F31,2) -> 0
A32: 20 | C32: Tarcza D1 | D32: szt | E32: 12 | G32: =ROUND(E32*F32,2) -> 0
A33: 21 | B33: KNP 16 0413/03 | C33: Spawanie elektrodami styku szyn przejściowych | D33: szt | E33: 0 | G33: =ROUND(E33*F33,2) -> 0
A34: 22 | B34: KNR 2-37 0702/01 | C34: Podbicie nowoułożonych torów kolejowych | D34: km | E34: 4.84 | G34: =ROUND(E34*F34,2) -> 0
A35: 23 | B35: KNR 2-37 0702/02 | C35: Podbicie nowoułożonych rozjazdów zwyczajnych o promieniu 190m | D35: kpl | E35: 6 | G35: =ROUND(E35*F35,2) -> 0
A36: 24 | B36: KNR 2-37 0702/03 | C36: Podbicie nowoułożonych rozjazdów zwyczajnych o promieniu 300m | D36: kpl | E36: 3 | G36: =ROUND(E36*F36,2) -> 0
C37: Nawierzchnia torowa | G37: =SUM(G23:G36) -> 0
C38: 12.2.4 Nawierzchnia prefabrykowana
A39: 25 | B39: KNR-W 2-02 0306/01 | C39: Zabudowa zintegrowanej nawierzchni torowo-drogowej z żelbetowch płyt prefabrykowanych | D39: m | E39: 41.6 | G39: =ROUND(E39*F39,2) -> 0
A40: 26 | B40: KNR-W 2-02 0306/01 | C40: Zabudowa w hali zintegrowanej nawierzchni torowo-drogowej z żelbetowch płyt prefabrykowanych | D40: m | E40: 1.25 | G40: =ROUND(E40*F40,2) -> 0
A41: 27 | B41: KNR-W 2-02 0306/01 | C41: Zabudowa wanny torowej z żelbetowch płyt prefabrykowanych | D41: m | E41: 30 | G41: =ROUND(E41*F41,2) -> 0
A42: 28 | B42: KNR 2-09 0203/01 | C42: Uszczelnienie masą asfaltowo-polimerową połączeń płyt prefabrykowanych | D42: m | E42: 37.8 | G42: =ROUND(E42*F42,2) -> 0
...
