Workbook

Sheet  0 Zestawienie
A2: Załącznik numer 3 do umowy: Tabela podziału ceny ryczałtowej. Zestawienie zbiorcze
A5: Budowa kontenerowego terminala przeładunkowego wraz z obiektami towarzyszącymi na terenie Miasta Ropczyce
A7: TABELA PODZIAŁU CENY RYCZAŁTOWEJ
A9: ZESTAWIENIE ZBIORCZE
B11: Wyszczególnienie kosztów | C11: Wartość etap 1 | D11: Wartość etap 2 | E11: Wartość etap 3
A12: LP | B12: 1 | C12: 2 | D12: 3 | E12: 4
A13: 1 | B13: Remont Torów | C13: ='1 Remont toru'!G28 -> 0
A14: 2 | B14: Przebudowa Drogi | C14: ='2 Przebudowa drogi'!G39 -> 0
A15: 3 | B15: Przebudowa Kabli Teletechnicznych | C15: ='3 Przebudowa telekomunikacji'!G31 -> 0
A16: 4 | B16: Przebudowa Układu Torowego | C16: ='4 Przebudowa układu torowego'!G70 -> 0
A17: 5 | B17: Budowa terminala architektura | C17: ='5 Architektura'!G450 -> 0
A18: 6 | B18: Budowa terminala konstrukcja | C18: ='6 Konstrukcja'!G351 -> 0
A19: 7 | B19: Budowa terminala drogi | C19: ='7 Drogi'!G146 -> 0 | D19: ='7 Drogi'!H146 -> 0 | E19: ='7 Drogi'!I146 -> 0
A20: 8 | B20: Budowa terminala branża sanitarna | C20: ='8 Sanitarna'!G390 -> 0 | D20: ='8 Sanitarna'!H390 -> 0 | E20: ='8 Sanitarna'!I390 -> 0
A21: 9 | B21: Budowa terminala branża eletryczna i niskoprądowa | C21: ='9 Elektryczna i Niskie prady'!G601 -> 0
A22: 10 | B22: Budowa terminala branża HVAC | C22: ='10 HVAC'!G744 -> 0
A23: 11 | B23: Budowa terminala branża hydrotechniczna | C23: ='11 Hydrotechniczna'!G28 -> 0
A24: 12 | B24: Budowa terminala branża kolejowa | C24: ='12 Kolej'!G61 -> 0
B25: SUMA: | C25: =SUM(C13:C24) -> 0 | D25: =SUM(D14:D24) -> 0 | E25: =SUM(E14:E24) -> 0
D29: Razem | E29: =SUM(C25:E25) -> 0

Sheet 1 Remont toru
A2: TABELA PODZIAŁU CENY RYCZAŁTOWEJ
A3: 1. Remont toru
A5: Nr | B5: Podstawa | C5: Opis robót | D5: Jm | E5: Ilość | F5: Cena | G5: Wartość
A6: 1 | B6: 2 | C6: 3 | D6: 4 | E6: 5 | F6: 6 | G6: 7
C7: 1 Rozbiórki nawierzchni
A8: 1 | B8: KNR 2-37 0603/03 | C8: Rozbiórka mechaniczna torów kolejowych na podkładach drewnianych | D8: km | E8: 0.03 | G8: =ROUND(E8*F8,2) -> 0
A9: 2 | B9: KNR 2-09 0418/01 | C9: Utylizacja podkładów drewnianych | D9: t | E9: 3.6 | G9: =ROUND(E9*F9,2) -> 0
C10: Rozbiórki nawierzchni | G10: =SUM(G8:G9) -> 0
C11: 2 Roboty ziemne
A12: 3 | B12: KNR-W 2-01 0115/01 | C12: Pomiary geodezyjne przy wykopach na terenie płaskim | D12: m3 | E12: 71.7 | G12: =ROUND(E12*F12,2) -> 0
A13: 4 | B13: KNR-W 2-01 0201/08 | C13: Roboty ziemne koparkami o pojemności 0,4m3 z transportem urobku samochodami 10-15t na odległość do 10km w gruncie kategorii III | D13: m3 | E13: 71.7 | G13: =ROUND(E13*F13,2) -> 0
A14: 5 | B14: KNR-W 2-01 0225/02 | C14: Plantowanie i profilowanie terenu spycharkami gąsienicowymi 55kW w gruncie kategorii III | D14: m2 | E14: 198.3 | G14: =ROUND(E14*F14,2) -> 0
A15: 6 | B15: Kalkulacja własna | C15: Utylizacjat tlucznia, gleby i ziemi zanieczyszczonej | D15: t | E15: 107.55 | G15: =ROUND(E15*F15,2) -> 0
C16: Roboty ziemne | G16: =SUM(G12:G15) -> 0
C17: 3 Wzmocnienie podtorza
A18: 7 | B18: KNR 9-11 0202/02 | C18: Separacja warstw wzmocniona geowłókninami | D18: m2 | E18: 150 | G18: =ROUND(E18*F18,2) -> 0
A19: 8 | B19: KNR-W 2-37 0501/03.4 | C19: Warstwa ochronna z niesportu kamiennego na koronie nasypu z zagęszczeniem | D19: m3 | E19: 28.2 | G19: =ROUND(E19*F19,2) -> 0
C20: Wzmocnienie podtorza | G20: =SUM(G18:G19) -> 0
C21: 4 Nawierzchnia torowa
A22: 9 | B22: KNR-W 2-37 0501/03.4 | C22: Warstwa z sub tłucznia na koronie nasypu z zagęszczeniem | D22: m3 | E22: 22.8 | G22: =ROUND(E22*F22,2) -> 0
A23: 10 | B23: KNR 2-37 0203/02 | C23: Układanie toru kolejowego na podkładach betonowyh o rozstawie normalnym | D23: km | E23: 0.03 | G23: =ROUND(E23*F23,2) -> 0
A24: 11 | B24: KNR-W 2-37 0502/01 | C24: Balastowanie torów zmontowanych na zagęszczonej warstwie tłucznia na podkładach betonowych | D24: m3 | E24: 28.29 | G24: =ROUND(E24*F24,2) -> 0
A25: 12 | B25: KNP 16 0413/03 | C25: Spawanie elektrodami styku szyn przejściowych | D25: szt | E25: 10 | G25: =ROUND(E25*F25,2) -> 0
A26: 13 | B26: KNR 2-37 0702/01 | C26: Podbicie nowoułożonych torów kolejowych | D26: km | E26: 0.03 | G26: =ROUND(E26*F26,2) -> 0
C27: Nawierzchnia torowa | G27: =SUM(G22:G26) -> 0
C28: Razem | G28: =SUM(G10+G16+G20+G27) -> 0

Sheet 2 Przebudowa drogi
A2: TABELA PODZIAŁU CENY RYCZAŁTOWEJ
A3: 2. Przebudowa drogi
A5: Nr | B5: Podstawa | C5: Opis robót | D5: Jm | E5: Ilość | F5: Cena | G5: Wartość
A6: 1 | B6: 2 | C6: 3 | D6: 4 | E6: 5 | F6: 6 | G6: 7
C7: 1 Roboty przygotowawcze
A8: 1 | B8: KNR-W 2-01 0114/02 | C8: Roboty pomiarowe i geodezyjne pod zagospodarowanie terenu | D8: ha | E8: 0.08 | G8: =ROUND(E8*F8,2) -> 0
A9: 2 | B9: KNR-W 2-01 0119/01 | C9: Usunięcie spycharką warstwy ziemi urodzajnej o grubości 30cm | D9: m2 | E9: 830 | G9: =ROUND(E9*F9,2) -> 0
A10: 3 | B10: KNR-W 2-01 0207/07.4 | C10: Roboty ziemne w gruncie zmagazynowanej w hałdach koparkami o pojemności 0,6m3 z transportem urobku samochodami 15-20t na odległość do 10km | D10: m3 | E10: 249 | G10: =ROUND(E10*F10,2) -> 0
A11: 4 | B11: KNR-W 2-01 0201/11.2 | C11: Roboty ziemne koparkami o pojemności 0,6m3 z transportem urobku samochodami 15-20t na odległość do 10km w gruncie kategorii III | D11: m3 | E11: 85 | G11: =ROUND(E11*F11,2) -> 0
A12: 5 | B12: KNR-W 2-01 0207/07.4 | C12: Roboty ziemne w gruncie zmagazynowanej w hałdach koparkami o pojemności 0,6m3 z transportem urobku samochodami 5-10t na odległość do 1km (przygotowanie kruszywa) | D12: m3 | E12: 338 | G12: =ROUND(E12*F12,2) -> 0
A13: 6 | B13: KNR-W 2-01 0227/02.2 | C13: Formowanie nasypów z kruszywa dostarczanego samochodami w gruncie kategorii III-IV | D13: m3 | E13: 338 | G13: =ROUND(E13*F13,2) -> 0
A14: 7 | B14: KNR 2-31 0101/01 | C14: Wykonanie korytowania wraz z formowaniem i profilowaniem | D14: m2 | E14: 830 | G14: =ROUND(E14*F14,2) -> 0
A15: 8 | B15: KNR 2-31 0103/02 | C15: Profilowanie i zagęszczanie podłoża pod warstwy nawierzchniowe w gruncie kategorii III-IV | D15: m2 | E15: 0 | G15: =ROUND(E15*F15,2) -> 0
A16: 9 | B16: Kalkulacja własna | C16: Utylizacja gleby i ziemi | D16: t | E16: 501 | G16: =ROUND(E16*F16,2) -> 0
C17: Roboty przygotowawcze | G17: =SUM(G8:G16) -> 0
C18: 2 Konstrukcja typ VI
A19: 10 | B19: KNR 2-31 0114/05 | C19: Podbudowa z kruszywa łamanego zagęszczona o grubości 30cm | D19: m2 | E19: 719 | G19: =ROUND(E19*F19,2) -> 0
A20: 11 | B20: KNR 2-31 0114/01 | C20: Podbudowa z kruszywa naturalnego zagęszczona o grubości 50cm | D20: m2 | E20: 830 | G20: =ROUND(E20*F20,2) -> 0
A21: 12 | B21: KNR 9-11 0202/02 | C21: Separacja warstw wzmocniona geowłókninami | D21: m2 | E21: 830 | G21: =ROUND(E21*F21,2) -> 0
A22: 13 | C22: Wskaźniki drogowo-kolejowe | D22: szt | E22: 2 | G22: =ROUND(E22*F22,2) -> 0
A23: 14 | C23: Szlaban rurowy stalowy | D23: szt | E23: 2 | G23: =ROUND(E23*F23,2) -> 0
C24: Konstrukcja typ VI | G24: =SUM(G19:G23) -> 0
C25: 3 Rozbiórki i odtworzenia
A26: 15 | B26: KNR 2-31 0804/03 | C26: Rozebranie podbudowy z tłucznia o grubości 40cm | D26: m2 | E26: 650 | G26: =ROUND(E26*F26,2) -> 0
C27: Rozbiórki i odtworzenia | G27: =SUM(G26) -> 0
C28: 4 Prace wykończeniowe
A29: 16 | B29: KNR 2-21 0202/01 | C29: Przekopanie gleby na terenie płaskim niezadarnionym w gruncie kategorii III | D29: m2 | E29: 142 | G29: =ROUND(E29*F29,2) -> 0
A30: 17 | B30: KNR 2-21 0218/01 | C30: Rozścielenie ziemi urodzajnej ręcznie z przerzutem | D30: m3 | E30: 14.2 | G30: =ROUND(E30*F30,2) -> 0
A31: 18 | B31: KNR 2-21 0213/01 | C31: Rozrzucenie ziemi żyznej lub kompostowej o grubości 2cm | D31: m2 | E31: 142 | G31: =ROUND(E31*F31,2) -> 0
A32: 19 | B32: KNR 2-21 0401/05 | C32: Trawniki dywanowe z nawożeniem ręcznym w gruncie kategorii III | D32: m2 | E32: 142 | G32: =ROUND(E32*F32,2) -> 0
A33: 20 | B33: KNR 2-21 0702/06 | C33: Pielęgnacja mechaniczna trawników dywanowych na terenie płaskim w okresie gwarancyjnym | D33: m2 | E33: 142 | G33: =ROUND(E33*F33,2) -> 0
C34: Prace wykończeniowe | G34: =SUM(G29:G33) -> 0
C35: 5 Wywóz i utylizacje
A36: 21 | B36: KNR 4-04 1105/01 | C36: Wywiezienie elementów rozbiórkowych samochodami samowyładowczymi na odległość do 10km | D36: m3 | E36: 260 | G36: =ROUND(E36*F36,2) -> 0
A37: 22 | B37: Kalkulacja własna | C37: Utylizacja gruzu ceglanego lub betonowego | D37: t | E37: 520 | G37: =ROUND(E37*F37,2) -> 0
C38: Wywóz i utylizacje | G38: =SUM(G36:G37) -> 0
C39: Razem | G39: =SUM(G17+G24+G27+G34+G38) -> 0

Sheet 3 Przebudowa telekomunikacji
A2: TABELA PODZIAŁU CENY RYCZAŁTOWEJ
A3: 3. Przebudowa telekomunikacji
A5: Nr | B5: Podstawa | C5: Opis robót | D5: Jm | E5: Ilość | F5: Cena | G5: Wartość
A6: 1 | B6: 2 | C6: 3 | D6: 4 | E6: 5 | F6: 6 | G6: 7
C7: 1 Roboty ziemne
A8: 1 | B8: KNR-W 2-01 0113/08 | C8: Roboty pomiarowe i geodezyjne trasy kablowych w terenie płaskim | D8: km | E8: 0.83 | G8: =ROUND(E8*F8,2) -> 0
A9: 2 | B9: KNR-W 2-01 0701/02.1 | C9: Kopanie rowów kablowych o głębokości do 0,6m i szerokości do 0,4m w gruncie kategorii III | D9: m | E9: 826 | G9: =ROUND(E9*F9,2) -> 0
A10: 3 | B10: KNR-W 5-10 0301/01 | C10: Podsypka i obsypka na dnie rowu kablowego warstwami o grubości 10cm i szerokości do 0,4m | D10: m | E10: 826 | G10: =ROUND(E10*F10,2) -> 0
A11: 4 | B11: KNR-W 2-01 0704/02.1 | C11: Zasypanie rowów kablowych o głębokości do 0,4m i szerokości do 0,4m w gruncie kategorii III | D11: m | E11: 826 | G11: =ROUND(E11*F11,2) -> 0
C12: Roboty ziemne | G12: =SUM(G8:G11) -> 0
C13: 2 Kanalizacja teletechniczna
A14: 5 | B14: KNR 5-01 0402/02 | C14: Studnie kablowe prefabrykowane rozdzielcze SKR1 | D14: szt | E14: 7 | G14: =ROUND(E14*F14,2) -> 0
C15: Kanalizacja teletechniczna | G15: =SUM(G14) -> 0
C16: 3 Kable i przewody
A17: 6 | B17: KNR 5-01 0602/07 | C17: Kanalizacja kablowa 3-otworowa z rur kablowych HDPE o średnicy 40mm wraz z robotami ziemnymi | D17: m | E17: 247 | G17: =ROUND(E17*F17,2) -> 0
A18: 7 | B18: KNR 5-01 0802/07 | C18: Kable miedziane telekomunikacyjne XTKMX o przekroju 35x4x0,8mm2 | D18: m | E18: 518 | G18: =ROUND(E18*F18,2) -> 0
A19: 8 | B19: KNR 2-25 0610/13 | C19: Kable miedziane telekomunikacyjne TKD o przekroju 65x2mm2 | D19: m | E19: 308 | G19: =ROUND(E19*F19,2) -> 0
A20: 9 | C20: Kable światłowodowe telekomunikacyjne 36-włókniowe | D20: m | E20: 2400 | G20: =ROUND(E20*F20,2) -> 0
A21: 10 | C21: Mufy stacyjne na kablu do 48 włókien | D21: szt | E21: 2 | G21: =ROUND(E21*F21,2) -> 0
C22: Kable i przewody | G22: =SUM(G17:G21) -> 0
C23: 4 Badania i pomiary
A24: 11 | B24: KNR 5-01 1301/07 | C24: Badanie szczelności studni w kanalizacji kablowej | D24: szt | E24: 7 | G24: =ROUND(E24*F24,2) -> 0
A25: 12 | B25: KNR 5-01 1310/06 | C25: Badanie szczelności kanalizacji kablowej | D25: kpl | E25: 7 | G25: =ROUND(E25*F25,2) -> 0
A26: 13 | B26: KNR 5-01 1311/06 | C26: Pomiary końcowe prądem stałym kabla 40-parowego | D26: kpl | E26: 9 | G26: =ROUND(E26*F26,2) -> 0
A27: 14 | C27: Pomiary końcowe prądem stałym kabla 60-parowego | D27: kpl | E27: 5 | G27: =ROUND(E27*F27,2) -> 0
A28: 15 | C28: Pomiar tłumienności skutecznej kabla 40-parowego | D28: kpl | E28: 9 | G28: =ROUND(E28*F28,2) -> 0
A29: 16 | C29: Pomiar tłumienności skutecznej kabla 60-parowego | D29: kpl | E29: 5 | G29: =ROUND(E29*F29,2) -> 0
C30: Badania i pomiary | G30: =SUM(G24:G29) -> 0
C31: Razem | G31: =SUM(G12+G15+G22+G30) -> 0
B39: KNR 5-01 0106/03
B40: KNR 5-01 0602/07
B41: KNR 5-01 0602/07
B42: KNR 5-01 0602/07
B43: KNR 5-01 0802/05
B44: KNR 5-01 1301/07
B45: KNR 5-01 1303/07
B46: KNR 5-01 1310/04
B47: KNR 5-01 1310/06
B48: KNR 5-01 1311/04
B49: KNR 5-01 1311/06

Sheet 4 Przebudowa  układu torowego
A2: TABELA PODZIAŁU CENY RYCZAŁTOWEJ
A3: 4. Przebudowa układu torowego
A5: Nr | B5: Podstawa | C5: Opis robót | D5: Jm | E5: Ilość | F5: Cena | G5: Wartość
C6: 4 BRANŻA KOLEJOWA
C7: 4.1 TOR DOJAZDOWY
C8: 4.1.1 Rozbiórki nawierzchni
A9: 1 | B9: KNR 2-37 0603/03 | C9: Rozbiórka mechaniczna torów kolejowych na podkładach drewnianych | D9: km | E9: 0.67 | G9: =ROUND(E9*F9,2) -> 0
A10: 2 | B10: KNR 2-37 0611/02 | C10: Rozbiórka kolejowych rozjazdów zwyczajnych o skosie 1:9 - promień łuku R-190 | D10: kpl | E10: 5 | G10: =ROUND(E10*F10,2) -> 0
A11: 3 | B11: KNR 2-37 0708/01 | C11: Rozbiórka kozła oporowego | D11: kpl | E11: 1 | G11: =ROUND(E11*F11,2) -> 0
A12: 4 | B12: KNR 2-09 0418/01 | C12: Utylizacja podkładów drewnianych | D12: t | E12: 80.4 | G12: =ROUND(E12*F12,2) -> 0
A13: 5 | C13: Przewiezienie szyn, rozjazdów oraz akcesoriów kolejowych w miejsce wskazane przez Zamawiającego transportem samochodowym na odległość do 5 km | D13: t | E13: 44.4 | G13: =ROUND(E13*F13,2) -> 0
C14: Rozbiórki nawierzchni | G14: =SUM(G9:G13) -> 0
C15: 4.1.2 Roboty ziemne
A16: 6 | B16: KNR-W 2-01 0115/01 | C16: Pomiary geodezyjne przy wykopach na terenie płaskim | D16: m2 | E16: 4923 | G16: =ROUND(E16*F16,2) -> 0
A17: 7 | B17: KNR-W 2-01 0201/08 | C17: Roboty ziemne koparkami o pojemności 0,4m3 z transportem urobku samochodami 10-15t na odległość do 10km w gruncie kategorii III | D17: m3 | E17: 1784 | G17: =ROUND(E17*F17,2) -> 0
A18: 8 | B18: KNR-W 2-01 0207/05.3 | C18: Roboty ziemne w gruncie zmagazynowanej w hałdach koparkami o pojemności 0,4m3 z transportem urobku samochodami 5-10t na odległość do 1km (załadunek kruszywa) | D18: m3 | E18: 57 | G18: =ROUND(E18*F18,2) -> 0
A19: 9 | B19: KNR-W 2-01 0227/02.2 | C19: Formowanie nasypów z zagęszczeniem z kruszywa dostarczanego samochodami w gruncie kategorii III-IV | D19: m3 | E19: 57 | G19: =ROUND(E19*F19,2) -> 0
A20: 10 | B20: KNR-W 2-01 0225/02 | C20: Plantowanie i profilowanie terenu spycharkami gąsienicowymi 55kW w gruncie kategorii III | D20: m2 | E20: 4302 | G20: =ROUND(E20*F20,2) -> 0
A21: 11 | B21: Kalkulacja własna | C21: Utylizacja tłucznia, gleby i ziemi zanieczyszczonej | D21: t | E21: 2676 | G21: =ROUND(E21*F21,2) -> 0
C22: Roboty ziemne | G22: =SUM(G16:G21) -> 0
C23: 4.1.3 Wzmocnienie podtorza
A24: 12 | B24: KNR 9-11 0202/02 | C24: Separacja warstw wzmocniona geowłókninami | D24: m2 | E24: 3768 | G24: =ROUND(E24*F24,2) -> 0
A25: 13 | B25: KNR-W 2-37 0501/03.4 | C25: Warstwa ochronna z niesportu kamiennego na koronie nasypu z zagęszczeniem | D25: m3 | E25: 759 | G25: =ROUND(E25*F25,2) -> 0
C26: Wzmocnienie podtorza | G26: =SUM(G24:G25) -> 0
C27: 4.1.4 Nawierzchnia torowa
A28: 14 | B28: KNR-W 2-37 0501/03.4 | C28: Warstwa z sub tłucznia na koronie nasypu z zagęszczeniem | D28: m3 | E28: 676 | G28: =ROUND(E28*F28,2) -> 0
A29: 15 | B29: KNR 2-37 0203/02 | C29: Układanie toru kolejowego na podkładach betonowe o rozstawie normalnym | D29: km | E29: 0.66 | G29: =ROUND(E29*F29,2) -> 0
A30: 16 | B30: KNR 2-37 0303/01 | C30: Układanie rozjazdów zwyczajnych pojedynczych o skosie 1:9 i promieniu łuku 190m | D30: kpl | E30: 4 | G30: =ROUND(E30*F30,2) -> 0
A31: 17 | B31: KNR 2-37 0303/02 | C31: Układanie rozjazdów zwyczajnych pojedynczych o skosie 1:9 i promieniu łuku 300m | D31: kpl | E31: 3 | G31: =ROUND(E31*F31,2) -> 0
A32: 18 | B32: KNR 2-37 0701/01 | C32: Kozioł oporowy samohamowny | D32: kpl | E32: 1 | G32: =ROUND(E32*F32,2) -> 0
A33: 19 | B33: KNR-W 2-37 0502/01 | C33: Balastowanie torów zmontowanych na zagęszczonej warstwie tłucznia na podkładach betonowych | D33: m3 | E33: 580 | G33: =ROUND(E33*F33,2) -> 0
A34: 20 | B34: KNR-W 2-37 0503/01 | C34: Balastowanie rozjazdów zwyczajnych torów zmontowanych na zagęszczonej warstwie tłucznia | D34: m3 | E34: 221 | G34: =ROUND(E34*F34,2) -> 0
A35: 21 | B35: KNR-W 2-37 0809/05 | C35: Wskaźniki drogowo- kolejowe | D35: szt | E35: 7 | G35: =ROUND(E35*F35,2) -> 0
A36: 22 | B36: KNP 16 0413/03 | C36: Spawanie elektrodami styku szyn przejściowych | D36: szt | E36: 0 | G36: =ROUND(E36*F36,2) -> 0
A37: 23 | B37: KNR 2-37 0702/01 | C37: Podbicie nowoułożonych torów kolejowych | D37: km | E37: 0.66 | G37: =ROUND(E37*F37,2) -> 0
A38: 24 | B38: KNR 2-37 0702/02 | C38: Podbicie nowoułożonych rozjazdów zwyczajnych o promieniu 190m | D38: kpl | E38: 4 | G38: =ROUND(E38*F38,2) -> 0
A39: 25 | B39: KNR 2-37 0702/03 | C39: Podbicie nowoułożonych rozjazdów zwyczajnych o promieniu 300m | D39: kpl | E39: 3 | G39: =ROUND(E39*F39,2) -> 0
C40: Nawierzchnia torowa | G40: =SUM(G28:G39) -> 0
C41: 4.1.5 Sterowanie ruchem kolejowym
A42: 26 | B42: KNR-W 2-37 0809/02 | C42: Zamki trzpieniowe zwrotnicowe | D42: kpl | E42: 9 | G42: =ROUND(E42*F42,2) -> 0
A43: 27 | C43: Latarnia zwrotnicowa | D43: szt | E43: 9 | G43: =ROUND(E43*F43,2) -> 0
C44: Sterowanie ruchem kolejowym | G44: =SUM(G42:G43) -> 0
C45: 4.1.6 Drenaż torowiska
A46: 28 | B46: KNR-W 2-01 0611/02 | C46: Drenaż rurowy korytkowy z obsypką w wykopie nawodnionym z rur PCV o średnicy 160mm | D46: m | E46: 545 | G46: =ROUND(E46*F46,2) -> 0
A47: 29 | B47: KNR-W 2-01 0611/03.6 | C47: Drenaż rurowy korytkowy z obsypką w wykopie nawodnionym z rur PCV o średnicy 200mm | D47: m | E47: 100 | G47: =ROUND(E47*F47,2) -> 0
A48: 30 | B48: KNR-W 2-18 0408/03 | C48: Kanały z rur PP kielichowych o średnicy 200mm | D48: m | E48: 19 | G48: =ROUND(E48*F48,2) -> 0
A49: 31 | B49: KNR-W 2-18 0307/02 | C49: Przewierty maszyną rurami o średnicy 300mm i długości do 20m w gruncie kategorii III-IV | D49: m | E49: 16 | G49: =ROUND(E49*F49,2) -> 0
A50: 32 | B50: KNR-W 2-18 0513/01 | C50: Studnie inspekcyjne z kręgów betonowych o średnicy 600mm i głębokości 2m | D50: szt | E50: 7 | G50: =ROUND(E50*F50,2) -> 0
A51: 32a | C51: Studnie inspekcyjne z kręgów betonowych o średnicy 400mm i głębokości 2m | D51: szt | E51: 9 | G51: =ROUND(E51*F51,2) -> 0
A52: 32b | C52: Studnie inspekcyjne z kręgów betonowych o średnicy 1000mm i głębokości 2m | D52: szt | E52: 1 | G52: =ROUND(E52*F52,2) -> 0
C53: Drenaż torowiska | G53: =SUM(G46:G52) -> 0
C54: 4.1.7 Zbiornik rozsączający
A55: 33 | C55: Usunięcie warstwy ziemi urodzajnej wraz z oczyszczeniem terenu po wycince około 15 drzew i krzewów oraz odpompowaniem wody na obszarze ok. 140 m2.” | D55: m2 | E55: 140 | G55: =ROUND(E55*F55,2) -> 0
A56: 34 | B56: KNR-W 2-01 0115/01 | C56: Pomiary geodezyjne przy wykopach na terenie płaskim | D56: m3 | E56: 91.19 | G56: =ROUND(E56*F56,2) -> 0
A57: 35 | B57: KNR-W 2-01 0201/11.2 | C57: Roboty ziemne koparkami o pojemności 0,6m3 z transportem urobku samochodami 10-15t na odległość do 10km w gruncie kategorii III | D57: m3 | E57: 91.19 | G57: =ROUND(E57*F57,2) -> 0
A58: 36 | B58: KNR-W 2-01 0314/02 | C58: Umocnienie palami szalunkowymi ścian wykopów o głębokości do 3m z rozbiórką w gruncie kategorii III | D58: m2 | E58: 93.75 | G58: =ROUND(E58*F58,2) -> 0
A59: 37 | B59: KNR-W 2-01 0501/01 | C59: Zasypanie wykopów ze skarpami z kruszywa przywiezionego z zagęszczeniem (wymiana gruntu) | D59: m3 | E59: 24 | G59: =ROUND(E59*F59,2) -> 0
A60: 38 | B60: Kalkulacja własna | C60: Utylizacja gleby i ziemi | D60: t | E60: 136.79 | G60: =ROUND(E60*F60,2) -> 0
A61: 39 | B61: KNR-W 2-01 0516/01.1 | C61: Umocnienie skarp płytami betonowymi ażurowymi o grubości 10cm na podsypce piaskowej | D61: m2 | E61: 56.25 | G61: =ROUND(E61*F61,2) -> 0
A62: 40 | B62: KNR 2-31 0403/05 | C62: Krawężniki betonowe wtopione o wymiarach 12x25cm na podsypce cementowo-piaskowej | D62: m | E62: 0 | G62: =ROUND(E62*F62,2) -> 0
A63: 41 | B63: KNR 2-31 0606/04 | C63: Ścieki korytkowe betonowe na podsypce cementowo-piaskowej o szerokości 20cm | D63: m | E63: 1 | G63: =ROUND(E63*F63,2) -> 0
A64: 42 | B64: KNR 2-11 1201/04.1 | C64: Prefabrykowany wylot kanału wraz z umocnieniem brzegowym | D64: szt | E64: 1 | G64: =ROUND(E64*F64,2) -> 0
A65: 43 | B65: KNR 2-21 0218/01 | C65: Rozścielenie ziemi urodzajnej ręcznie na dnie zbiornika | D65: m3 | E65: 0 | G65: =ROUND(E65*F65,2) -> 0
A66: 44 | B66: KNR 2-21 0213/01 | C66: Rozrzucenie ziemi żyznej lub kompostowej o grubości 2cm | D66: m2 | E66: 0 | G66: =ROUND(E66*F66,2) -> 0
A67: 45 | B67: KNR 2-21 0401/05 | C67: Trawniki dywanowe z nawożeniem ręcznym na dnie zbiornika | D67: m2 | E67: 0 | G67: =ROUND(E67*F67,2) -> 0
A68: 45a | B68: KNR 2-21 0401/05 | C68: Umocnienie skarp kostką brukową 13-22cm na podsypce piaskowej | D68: m2 | E68: 0.75 | G68: =ROUND(E68*F68,2) -> 0
C69: Zbiornik rozsączający | G69: =SUM(G55:G68) -> 0
C70: Razem | G70: =SUM(G14+G22+G26+G40+G44+G53+G69) -> 0

Sheet 5 Architektura
A2: TABELA PODZIAŁU CENY RYCZAŁTOWEJ
A3: 5. Architektura
A5: Nr | B5: Podstawa | C5: Opis robót | D5: Jm | E5: Ilość | F5: Cena | G5: Wartość
A6: 1 | B6: 2 | C6: 3 | D6: 4 | E6: 5 | F6: 6 | G6: 7
C7: 5 BRANŻA ARCHITEKTONICZNA
C8: 5.1 ROBOTY PRZYGOTOWAWCZE
A9: 1 | C9: Usunięcie warstwy ziemi urodzajnej wraz z oczyszczeniem terenu po wycince około 290 drzew i krzewów z działek 1140/2 1160/1 1162/1 1160/2 (częściowo) 1141 1142 1143 1142 (częściowo) wraz z utylizają gleby i karpin | D9: m2 | E9: 15689 | G9: =ROUND(E9*F9,2) -> 0
C10: ROBOTY PRZYGOTOWAWCZE | G10: =SUM(G9) -> 0
C11: 5.2 BUDYNEK BIUROWY B01
C12: 5.2.1 Ściany i elewacje
A13: 2 | B13: NNRNKB 5 0618/03 | C13: Izolacja przeciwwilgociowa powierzchni poziomych z papy termozgrzewalnej | D13: m2 | E13: 78.7 | G13: =ROUND(E13*F13,2) -> 0
A14: 3 | B14: KNR 0-29 0643/01 | C14: Izolacja cieplna pionowa płytami polistyrenowymi o grubości 20cm | D14: m2 | E14: 78.7 | G14: =ROUND(E14*F14,2) -> 0
A15: 4 | B15: KNR 0-23 2612/06 | C15: Warstwa siatki na ociepleniu płytami styropianowymi ścian | D15: m2 | E15: 50.9 | G15: =ROUND(E15*F15,2) -> 0
A16: 5 | B16: KNR 0-23 0933/04 | C16: Tynki mineralne cienkowarstwowe z gramaplastu na cokołach | D16: m2 | E16: 50.9 | G16: =ROUND(E16*F16,2) -> 0
A17: 6 | B17: KNR K-02 0103/07 | C17: Ściany murowane z bloczków silikatowych o grubości 24cm i wysokości do 4,5m | D17: m2 | E17: 423 | G17: =ROUND(E17*F17,2) -> 0
A18: 7 | B18: KNR K-02 0103/06 | C18: Ściany murowane wielokondygnacyjne z bloczków silikatowych o grubości 18cm | D18: m2 | E18: 77.7 | G18: =ROUND(E18*F18,2) -> 0
A19: 8 | B19: KNR 0-23 2615/01 | C19: Ocieplenie ścian budynków płytami z wełny mineralnej pod okładziny o grubości 20cm | D19: m2 | E19: 500.7 | G19: =ROUND(E19*F19,2) -> 0
A20: 9 | B20: KNR-W 2-02 0612/06 | C20: Izolacja cieplna i przeciwdźwiękowa pionowa z płyt z wełny mineralnej o grubości 8cm | D20: m2 | E20: 77.7 | G20: =ROUND(E20*F20,2) -> 0
A21: 10 | B21: KNR-W 2-05 0903/01 | C21: Kasetonowe płyty systemowe warstwowe na ruszcie stalowym | D21: m2 | E21: 500.7 | G21: =ROUND(E21*F21,2) -> 0
C22: Ściany i elewacje | G22: =SUM(G13:G21) -> 0
C23: 5.2.2 Stolarka zewnętrzna
A24: 11 | B24: KNR 0-19 1024/05 | C24: Okna aluminiowe uchylno-rozwierane o powierzchni ponad 3m2 (16szt) | D24: m2 | E24: 76.86 | G24: =ROUND(E24*F24,2) -> 0
A25: 12 | B25: KNR 0-19 1024/04 | C25: Okna aluminiowe uchylno-rozwierane o powierzchni do 3m2 (13szt) | D25: m2 | E25: 32.76 | G25: =ROUND(E25*F25,2) -> 0
A26: 13 | B26: KNR 0-19 1024/04 | C26: Okna aluminiowe rozwierane o powierzchni do 3m2 (4szt) | D26: m2 | E26: 10.08 | G26: =ROUND(E26*F26,2) -> 0
A27: 14 | B27: KNR 0-19 1024/04 | C27: Okna aluminiowe uchylne o powierzchni do 3m2 (2szt) | D27: m2 | E27: 5.71 | G27: =ROUND(E27*F27,2) -> 0
A28: 15 | B28: KNR-W 2-02 1040/01 | C28: Drzwi zewnętrzne aluminiowe jednoskrzydłowe półpełne (1szt) | D28: m2 | E28: 4.26 | G28: =ROUND(E28*F28,2) -> 0
A29: 16 | B29: KNR-W 2-02 1040/02 | C29: Drzwi zewnętrzne aluminiowe dwuskrzydłowe przeszklone (4szt) | D29: m2 | E29: 14.84 | G29: =ROUND(E29*F29,2) -> 0
A30: 17 | B30: KNR-W 4-01 0921/17 | C30: Klamki drzwiowe | D30: szt | E30: 5 | G30: =ROUND(E30*F30,2) -> 0
A31: 18 | B31: KNR-W 4-01 0921/03 | C31: Zamki drzwiowe wpuszczane bębenkowe | D31: szt | E31: 5 | G31: =ROUND(E31*F31,2) -> 0
A32: 19 | B32: KNR-W 4-01 0921/02 | C32: Sprężyny automatyczne samozamykacze | D32: szt | E32: 5 | G32: =ROUND(E32*F32,2) -> 0
A33: 20 | B33: KNR-W 4-01 0921/11 | C33: Kontraktony z kontrolą dostępu | D33: szt | E33: 4 | G33: =ROUND(E33*F33,2) -> 0
C34: Stolarka zewnętrzna | G34: =SUM(G24:G33) -> 0
C35: 5.2.3 Roboty dachowe
A36: 21 | B36: KNR-W 2-02 0606/02 | C36: Izolacja przeciwwilgociowa i przeciwwodna z folii polietylenowej | D36: m2 | E36: 287.3 | G36: =ROUND(E36*F36,2) -> 0
A37: 22 | B37: KNR-W 2-02 0612/03 | C37: Izolacja cieplna i przeciwdźwiękowa pozioma z płyt z wełny mineralnej o grubości 20cm | D37: m2 | E37: 287.3 | G37: =ROUND(E37*F37,2) -> 0
A38: 23 | B38: KNR-W 2-02 0608/01 | C38: Warstwa spadkowa z wełny minaralnej | D38: m3 | E38: 64.64 | G38: =ROUND(E38*F38,2) -> 0
A39: 24 | B39: KNR-W 2-02 0612/03 | C39: Izolacja cieplna i przeciwdźwiękowa pozioma z płyt z wełny mineralnej o grubości 5cm | D39: m2 | E39: 287.3 | G39: =ROUND(E39*F39,2) -> 0
A40: 25 | B40: KNR K-05 0103/02.3 | C40: Pokrycie dachów membraną z PCV termozgrzewalną | D40: m2 | E40: 287.3 | G40: =ROUND(E40*F40,2) -> 0
A41: 26 | B41: KNR K-05 0103/02.3 | C41: Ścieżka serwisowa z membrany dachowej wzmocnionej | D41: m2 | E41: 52.8 | G41: =ROUND(E41*F41,2) -> 0
A42: 27 | B42: KNR-W 5-08 0622/05 | C42: Słupki asekuracyjne z podstawą dachową | D42: szt | E42: 24 | G42: =ROUND(E42*F42,2) -> 0
A43: 28 | B43: KNR-W 2-02 1804/13 | C43: Lina asekuracyjna montowana do słupków na dachu | D43: m | E43: 43.4 | G43: =ROUND(E43*F43,2) -> 0
A44: 29 | B44: powierz. dachu | C44: Obróbki z uszczelnieniem podstaw przejść instalacyjnych, urządzeń dachowych | D44: m2 | E44: 287.3 | G44: =ROUND(E44*F44,2) -> 0
C45: Roboty dachowe | G45: =SUM(G36:G44) -> 0
C46: 5.2.4 Stolarka wewnętrzna
A47: 30 | B47: KNR-W 2-02 1027/01 | C47: Drzwi drewniane jednoskrzydłowe pełne (15szt) | D47: m2 | E47: 32.25 | G47: =ROUND(E47*F47,2) -> 0
A48: 31 | B48: KNR-W 2-02 1027/01 | C48: Drzwi drewniane jednoskrzydłowe przeszklone (5szt) | D48: m2 | E48: 9.68 | G48: =ROUND(E48*F48,2) -> 0
A49: 32 | B49: KNR-W 2-02 1026/03 | C49: Drzwi drewniane pełne przeciwpożarowe EI30 (1szt) | D49: m2 | E49: 2.42 | G49: =ROUND(E49*F49,2) -> 0
A50: 33 | B50: KNR-W 2-02 1024/02 | C50: Drzwi drewnianie wewnętrzne przesuwne (1szt) | D50: m2 | E50: 4.51 | G50: =ROUND(E50*F50,2) -> 0
A51: 34 | B51: KNR-W 2-02 1040/02 | C51: Drzwi aluminiowe dwuskrzydłowe przeszklone (9szt) | D51: m2 | E51: 25.46 | G51: =ROUND(E51*F51,2) -> 0
A52: 35 | B52: KNR-W 2-02 1039/02 | C52: Okna aluminiowe wewnętrzne o powierzchni do 2m2 (6szt) | D52: m2 | E52: 9.36 | G52: =ROUND(E52*F52,2) -> 0
A53: 36 | B53: KNR-W 4-01 0921/17 | C53: Klamki drzwiowe | D53: szt | E53: 30 | G53: =ROUND(E53*F53,2) -> 0
A54: 37 | B54: KNR-W 4-01 0921/03 | C54: Zamki drzwiowe wpuszczane bębenkowe | D54: szt | E54: 21 | G54: =ROUND(E54*F54,2) -> 0
A55: 38 | B55: KNR-W 4-01 0921/04 | C55: Zamki drzwiowe wpuszczane łazienkowe | D55: szt | E55: 9 | G55: =ROUND(E55*F55,2) -> 0
A56: 39 | B56: KNR-W 4-01 0921/02 | C56: Sprężyny automatyczne samozamykacze | D56: szt | E56: 13 | G56: =ROUND(E56*F56,2) -> 0
A57: 40 | B57: KNR-W 4-01 0921/11 | C57: Kontraktony z kontrolą dostępu | D57: szt | E57: 1 | G57: =ROUND(E57*F57,2) -> 0
A58: 41 | B58: KNR K-03 0501/11 | C58: Kratki wentylacyjne drzwiowe | D58: szt | E58: 9 | G58: =ROUND(E58*F58,2) -> 0
C59: Stolarka wewnętrzna | G59: =SUM(G47:G58) -> 0
C60: 5.2.5 Ściany wewnętrzne
A61: 42 | B61: KNR 9-01 0104/02 | C61: Ściany murowane wewnętrzne z bloczków silikatowych o grubości 24cm i wysokości do 4,5m | D61: m2 | E61: 308.2 | G61: =ROUND(E61*F61,2) -> 0
A62: 43 | B62: KNR 9-01 0104/01 | C62: Ściany murowane wewnętrzne z bloczków silikatowych o grubości 18cm i wysokości do 4,5m | D62: m2 | E62: 112.4 | G62: =ROUND(E62*F62,2) -> 0
A63: 44 | B63: KNR 9-01 0104/01 | C63: Ściany murowane wewnętrzne z bloczków silikatowych o grubości 15cm i wysokości do 4,5m | D63: m2 | E63: 91.8 | G63: =ROUND(E63*F63,2) -> 0
A64: 45 | B64: KNR-W 2-02 2003/06 | C64: Ścianki z płyt gipsowych pokrytych obustronnie dwuwarstwowo na rusztach o grubości 100mm | D64: m2 | E64: 10.7 | G64: =ROUND(E64*F64,2) -> 0
A65: 46 | B65: KNR-W 2-02 2003/03 | C65: Ścianki z płyt gipsowych pokrytych obustronnie jednowarstwowo na rusztach o grubości 100mm | D65: m2 | E65: 33.8 | G65: =ROUND(E65*F65,2) -> 0
A66: 47 | B66: KNR-W 2-02 2003/04 | C66: Ścianki z płyt gipsowych pokrytych obustronnie dwuwarstwowo na rusztach o grubości 50mm | D66: m2 | E66: 19 | G66: =ROUND(E66*F66,2) -> 0
A67: 48 | B67: KNR-W 2-02 2003/10 | C67: Ścianki z płyt gipsowych pokrytych jednostronnie dwuwarstwowo na rusztach o grubości 50mm | D67: m2 | E67: 112 | G67: =ROUND(E67*F67,2) -> 0
A68: 49 | B68: KNR-W 2-02 0129/03 | C68: Obudowa pionowa bloczkami silikatowymi o grubości 8cm | D68: m2 | E68: 4 | G68: =ROUND(E68*F68,2) -> 0
C69: Ściany wewnętrzne | G69: =SUM(G61:G68) -> 0
C70: 5.2.6 Wykończenie posadzek
A71: 50 | B71: KNR-W 2-02 0606/01 | C71: Izolacja przeciwwilgociowa i przeciwwodna dwukrotna z folii polietylenowej izolacyjnej | D71: m2 | E71: 252.4 | G71: =ROUND(E71*F71,2) -> 0
A72: 51 | B72: KNR-W 2-02 0608/03 | C72: Izolacja cieplna pozioma z płyt styropianowych o grubości 10cm | D72: m2 | E72: 252.4 | G72: =ROUND(E72*F72,2) -> 0
A73: 52 | B73: KNR-W 2-02 1116/02 | C73: Posadzki cementowe z cokolikami zatarte na gładko o grubości 65mm | D73: m2 | E73: 252.4 | G73: =ROUND(E73*F73,2) -> 0
A74: 53 | B74: KNR-W 2-02 0606/01 | C74: Izolacje podposadzkowe przeciwwilgociowe i przeciwwodne z folii polietylenowej | D74: m2 | E74: 274.7 | G74: =ROUND(E74*F74,2) -> 0
A75: 54 | B75: KNR-W 2-02 0608/03 | C75: Izolacje cieplne i przeciwdźwiękowe z płyt styropianowych o grubości 5cm | D75: m2 | E75: 274.7 | G75: =ROUND(E75*F75,2) -> 0
A76: 55 | B76: KNR-W 2-02 1104/02 | C76: Warstwy wyrównawcze pod posadzki z zaprawy cementowej zatarte na gładko o grubości 70mm | D76: m2 | E76: 274.7 | G76: =ROUND(E76*F76,2) -> 0
A77: 56 | B77: KNR-W 2-02 1116/07 | C77: Zbrojenie posadzki siatką stalową | D77: m2 | E77: 527.1 | G77: =ROUND(E77*F77,2) -> 0
A78: 57 | B78: KNR-W 2-02 1104/05 | C78: Wypełnienie szczelin dylatacyjnych w posadzkach | D78: m | E78: 171.69 | G78: =ROUND(E78*F78,2) -> 0
A79: 58 | B79: KNR K-32 0201/06 | C79: Gruntowanie jednokrotnie podłoża pod okładziny posadzek | D79: m2 | E79: 527.1 | G79: =ROUND(E79*F79,2) -> 0
A80: 59 | B80: KNR K-32 0202/01 | C80: Izolacja z folii w płynie w warunkach zawilgocenia pod okładziny posadzek z płytek | D80: m2 | E80: 527.1 | G80: =ROUND(E80*F80,2) -> 0
A81: 60 | B81: KNR K-32 0204/04 | C81: Posadzki z płytek gresowych o wymiarach 30x30cm | D81: m2 | E81: 527.1 | G81: =ROUND(E81*F81,2) -> 0
A82: 61 | B82: KNR-W 2-02 1126/07 | C82: Warstwy gruntujące pod posadzki epoksydowe niezbrojone | D82: m2 | E82: 28.9 | G82: =ROUND(E82*F82,2) -> 0
... A85: 64 | B85: KNR-W 2-02 1115/02 | C85: Cokoliki z przyciętych płytek gresowych | D85: m | E85: 527.1 | G85: =ROUND(E85*F85,2) -> 0
A86: 64a | B86: KNR-W 2-02 1115/02 | C86: Wykładzina dywanowa, pętelkowa, klejona | D86: m2 | E86: 215 | G86: =ROUND(E86*F86,2) -> 0
C87: Wykończenie posadzek | G87: =SUM(G71:G86) -> 0
C88: 5.2.7 Wykończenie ścian
A89: 65 | B89: KNR-W 2-02 2010/01 | C89: Tynki mechaniczne na ścianach ceramicznych z gipsu tynkarskiego o grubości 10mm | D89: m2 | E89: 1286.4 | G89: =ROUND(E89*F89,2) -> 0
A90: 66 | B90: KNR-W 2-02 2011/01 | C90: Gładzie na ścianach betonowych z gipsu szpachlowego o grubości 3mm | D90: m2 | E90: 96.7 | G90: =ROUND(E90*F90,2) -> 0
A91: 67 | B91: KNR-W 2-02 2011/02 | C91: Gładzie na ścianach otynkowanych z gipsu szpachlowego o grubości 3mm | D91: m2 | E91: 1286.4 | G91: =ROUND(E91*F91,2) -> 0
A92: 68 | B92: KNR-W 2-02 0830/01 | C92: Gładź gipsowa jednowarstwowa na ścianach z płyt gipsowych | D92: m2 | E92: 239 | G92: =ROUND(E92*F92,2) -> 0
A93: 69 | B93: KNR K-32 0101/06.1 | C93: Gruntowanie jednokrotne podłoża pod okładziny ścian środkiem gruntującym | D93: m2 | E93: 106.5 | G93: =ROUND(E93*F93,2) -> 0
A94: 70 | B94: KNR K-32 0102/01 | C94: Izolacja folią w płynie w warunkach zawilgocenia pod okładziny ścian | D94: m2 | E94: 106.5 | G94: =ROUND(E94*F94,2) -> 0
A95: 71 | B95: KNR K-32 0103/03 | C95: Okładziny ścian z płytek ceramicznych o wymiarach 20x20cm | D95: m2 | E95: 106.5 | G95: =ROUND(E95*F95,2) -> 0
A96: 72 | B96: KNR-W 2-02 0840/08 | C96: Listwy narożnikowe przy licowaniu ścian płytkami | D96: m | E96: 106.5 | G96: =ROUND(E96*F96,2) -> 0
A97: 73 | B97: KNR-W 2-02 1510/03 | C97: Malowanie dwukrotnie podłoży gipsowych z gruntowaniem farbami lateksowymi | D97: m2 | E97: 1515.6 | G97: =ROUND(E97*F97,2) -> 0
C98: Wykończenie ścian | G98: =SUM(G89:G97) -> 0
C99: 5.2.8 Wykończenie sufitów
A100: 74 | B100: KNR-W 2-02 2702/01 | C100: Sufity podwieszone na rusztach wypełnionych płytami mineralnymi | D100: m2 | E100: 481.5 | G100: =ROUND(E100*F100,2) -> 0
A101: 75 | B101: KNR-W 2-02 1215/03 | C101: Klapy rewizyjne w sufitach podwieszonych | D101: szt | E101: 24 | G101: =ROUND(E101*F101,2) -> 0
C102: Wykończenie sufitów | G102: =SUM(G100:G101) -> 0
C103: 5.2.9 Ślusarka
A104: 76 | B104: KNR 2-02 1213/04 | C104: Drabiny stalowe zewnętrzne z kabłąkami o długości ponad 4m | D104: m | E104: 9.43 | G104: =ROUND(E104*F104,2) -> 0
...

Sheet 6 Konstrukcja
A2: TABELA PODZIAŁU CENY RYCZAŁTOWEJ
A3: 6. Konstrukcja
C5: 6 BRANŻA KONSTRUKCYJNA
C6: 6.1 ŚCIANKA SZCZELNA
A7: Nr | B7: Podstawa | C7: Opis robót | D7: Jm | E7: Ilość | F7: Cena | G7: Wartość
A8: 1 | B8: 2 | C8: 3 | D8: 4 | E8: 5 | F8: 6 | G8: 7
A9: 1 | B9: KNR 9-06 0103/10 | C9: Ścianki szczelne z grodzic stalowych wbijane na głębokość do 12m w gruncie kategorii I-II | D9: m | E9: 223.2 | G9: =ROUND(E9*F9,2) -> 0
A10: 2 | B10: KNR-W 2-02 0202/02.2 | C10: Oczepy żelbetowe prostokątne o szerokości do 0,8m | D10: m3 | E10: 109.37 | G10: =ROUND(E10*F10,2) -> 0
A11: 3 | B11: KNR-W 2-02 0259/02 | C11: Zbrojenie ze stali żebrowanej elementów betonowych | D11: t | E11: 8.5 | G11: =ROUND(E11*F11,2) -> 0
A12: 4 | B12: KNR 13-23 0802/02 | C12: Spawanie stali profilowej (grodzice) | D12: m | E12: 654.7 | G12: =ROUND(E12*F12,2) -> 0
A13: 5 | B13: KNR-W 2-02 0602/05 | C13: Izolacja przeciwwilgociowa bitumiczna dwuwarstwowa powierzchni poziomych z masy asfaltowej na zimno | D13: m2 | E13: 78.12 | G13: =ROUND(E13*F13,2) -> 0
A14: 6 | B14: KNR-W 2-02 0603/05 | C14: Izolacja przeciwwilgociowa bitumiczna dwuwarstwowa powierzchni pionowych z masy asfaltowej na zimno | D14: m2 | E14: 156.24 | G14: =ROUND(E14*F14,2) -> 0
A15: 7 | B15: KNR 2-02 1209/01 | C15: Balustrady techniczne stalowe z pochwytem | D15: m | E15: 223.2 | G15: =ROUND(E15*F15,2) -> 0
C16: ŚCIANKA SZCZELNA | G16: =SUM(G9:G15) -> 0
C17: 6.2 PŁYTA TERMINALA
A18: 8 | B18: KNR-W 2-01 0114/02 | C18: Roboty pomiarowe i geodezyjne pod zagospodarowanie terenu | D18: ha | E18: 2.51 | G18: =ROUND(E18*F18,2) -> 0
A19: 9 | B19: KNR-W 2-01 0201/11.2 | C19: Roboty ziemne koparkami o pojemności 0,6m3 z transportem urobku samochodami 15-20t na odległość do 10km w gruncie kategorii III | D19: m3 | E19: 0 | G19: =ROUND(E19*F19,2) -> 0
A20: 10 | B20: KNR 2-31 0101/01 | C20: Korytowaniem wraz z formowaniem i profilowaniem | D20: m2 | E20: 25107 | G20: =ROUND(E20*F20,2) -> 0
A21: 11 | B21: KNR 2-31 0103/02 | C21: Profilowanie i zagęszczanie podłoża pod warstwy nawierzchniowe w gruncie kategorii III-IV | D21: m2 | E21: 0 | G21: =ROUND(E21*F21,2) -> 0
A22: 12 | B22: KNR 2-31 0111/03 | C22: Podbudowa z gruntu stabilizowanego spoiwem hydraulicznym zagęszczona o grubości minimum 30cm | D22: m2 | E22: 25107 | G22: =ROUND(E22*F22,2) -> 0
A23: 13 | C23: Podbudowa z kruszywa łamanego stabilizowana hydraulicznie zagęszczona o grubości 30cm (2,5Mpa) | D23: m2 | E23: 25107 | G23: =ROUND(E23*F23,2) -> 0
A24: 14 | C24: Podbudowa z kruszywa łamanego stabilizowana hydraulicznie zagęszczona o grubości 30cm (5Mpa) | D24: m2 | E24: 25107 | G24: =ROUND(E24*F24,2) -> 0
A25: 15 | B25: KNR 9-11 0202/02 | C25: Separacja warstw wzmocniona geotkaninami | D25: m2 | E25: 25107 | G25: =ROUND(E25*F25,2) -> 0
A26: 16 | B26: KNR AT-03 0303/01 | C26: Nawierzchnia betonowa z warstwą poślizgową, dylatowana z nacięciem szczelin i zalaniem masą zalewową o grubości 40cm | D26: m2 | E26: 25107 | G26: =ROUND(E26*F26,2) -> 0
A27: 17 | B27: KNR-W 2-02 0259/01 | C27: Zbrojenie rozproszone z włókien stalowych elementów betonowych | D27: t | E27: 301.28 | G27: =ROUND(E27*F27,2) -> 0
A28: 18 | B28: KNR-W 2-02 0259/01 | C28: Zbrojenie ze stali gładkiej elementów betonowych | D28: t | E28: 34.02 | G28: =ROUND(E28*F28,2) -> 0
A29: 19 | B29: KNR-W 2-02 0259/02 | C29: Zbrojenie ze stali żebrowanej elementów betonowych | D29: t | E29: 176.71 | G29: =ROUND(E29*F29,2) -> 0
A30: 20 | B30: KNR-W 2-02 0608/07 | C30: Izolacja szczelin dylatacyjnych styropianem o szerokości 2cm i grubości 36cm | D30: m | E30: 1775.08 | G30: =ROUND(E30*F30,2) -> 0
A31: 21 | B31: KNR 0-29 0639/01 | C31: Izolacja pionowych szczelin dylatacyjnych taśmą i zaprawą uszczelniającą elastyczną | D31: m | E31: 5362.11 | G31: =ROUND(E31*F31,2) -> 0
A32: 22 | B32: KNR 2-31 0118/01 | C32: Pielęgnacja piaskiem i wodą podbudowy z mieszanki betonowej i gruntu stabilizowanego cementem | D32: m2 | E32: 25107 | G32: =ROUND(E32*F32,2) -> 0
A33: 23 | B33: Kalkulacja własna | C33: Utylizacja gleby i ziemi | D33: t | E33: 37660.5 | G33: =ROUND(E33*F33,2) -> 0
C34: PŁYTA TERMINALA | G34: =SUM(G18:G33) -> 0
C35: 6.3 KOMORA TECHNOLOGICZNA
A36: 24 | B36: KNR-W 2-01 0212/06 | C36: Wykopy na odkład koparkami o pojemności 0,4m3 w gruncie kategorii III | D36: m3 | E36: 167 | G36: =ROUND(E36*F36,2) -> 0
A37: 25 | B37: KNR-W 2-02 1101/03 | C37: Podkłady z chudego betonu na podłożu gruntowym | D37: m3 | E37: 1.8 | G37: =ROUND(E37*F37,2) -> 0
A38: 26 | B38: KNR-W 2-20 0112/01 | C38: Komora technologiczna żelbetowa zasilania suwnicy | D38: m3 | E38: 25 | G38: =ROUND(E38*F38,2) -> 0
A39: 27 | B39: KNR-W 2-02 0259/02 | C39: Zbrojenie ze stali żebrowanej elementów betonowych | D39: t | E39: 2.73 | G39: =ROUND(E39*F39,2) -> 0
A40: 28 | B40: KNR-W 2-15 0227/05 | C40: Właz kanałowy żeliwny okrągły typu ciężkiego | D40: szt | E40: 1 | G40: =ROUND(E40*F40,2) -> 0
A41: 29 | B41: KNR-W 2-02 1219/04 | C41: Klamry włazowe stalowe | D41: szt | E41: 6 | G41: =ROUND(E41*F41,2) -> 0
A42: 30 | B42: KNR-W 2-01 0501/01 | C42: Zasypanie wykopów ze skarpami z kruszywa przywiezionego z zagęszczeniem | D42: m3 | E42: 50 | G42: =ROUND(E42*F42,2) -> 0
A43: 31 | B43: KNR-W 2-01 0501/03 | C43: Zasypanie wykopów ze skarpami z przerzutem ziemi i zagęszczeniem mechanicznym w gruncie kategorii I-III | D43: m3 | E43: 90.2 | G43: =ROUND(E43*F43,2) -> 0
A44: 32 | B44: KNR-W 2-01 0207/07.4 | C44: Roboty ziemne w gruncie zmagazynowanej w hałdach koparkami o pojemności 0,6m3 z transportem urobku samochodami 10-15t na odległość do 10km | D44: m3 | E44: 76.8 | G44: =ROUND(E44*F44,2) -> 0
A45: 33 | B45: Kalkulacja własna | C45: Utylizacja gleby i ziemi | D45: t | E45: 115.2 | G45: =ROUND(E45*F45,2) -> 0
C46: KOMORA TECHNOLOGICZNA | G46: =SUM(G36:G45) -> 0
C47: 6.4 FUNDAMENTY GENERATORÓW
C48: 6.4.1 Agregat prądotwórczy AG1
A49: 34 | B49: KNR-W 2-01 0212/06 | C49: Wykopy na odkład koparkami o pojemności 0,4m3 w gruncie kategorii III | D49: m3 | E49: 5.5 | G49: =ROUND(E49*F49,2) -> 0
A50: 35 | B50: KNR-W 2-02 1101/03 | C50: Podkłady z chudego betonu na podłożu gruntowym | D50: m3 | E50: 0.6 | G50: =ROUND(E50*F50,2) -> 0
A51: 36 | B51: KNR-W 2-02 0253/04.2 | C51: Fundamenty blokowe żelbetowe pod urządzenia | D51: m3 | E51: 3.02 | G51: =ROUND(E51*F51,2) -> 0
A52: 37 | B52: KNR-W 2-02 0259/06 | C52: Zbrojenie ze stali żebrowanej fundamentów blokowych | D52: t | E52: 0.2 | G52: =ROUND(E52*F52,2) -> 0
A53: 38 | B53: KNR-W 2-01 0501/01 | C53: Zasypanie wykopów ze skarpami z kruszywa przywiezionego z zagęszczeniem | D53: m3 | E53: 3 | G53: =ROUND(E53*F53,2) -> 0
A54: 39 | B54: KNR-W 2-01 0501/03 | C54: Zasypanie wykopów ze skarpami z przerzutem ziemi i zagęszczeniem mechanicznym w gruncie kategorii I-III | D54: m3 | E54: 1.9 | G54: =ROUND(E54*F54,2) -> 0
A55: 40 | B55: KNR-W 2-01 0207/07.4 | C55: Roboty ziemne w gruncie zmagazynowanej w hałdach koparkami o pojemności 0,6m3 z transportem urobku samochodami 10-15t na odległość do 10km | D55: m3 | E55: 3.6 | G55: =ROUND(E55*F55,2) -> 0
A56: 41 | B56: Kalkulacja własna | C56: Utylizacja gleby i ziemi | D56: t | E56: 5.4 | G56: =ROUND(E56*F56,2) -> 0
C57: Agregat prądotwórczy AG1 | G57: =SUM(G49:G56) -> 0
C58: 6.4.2 Agregat prądotwórczy AG2
A59: 42 | B59: KNR-W 2-01 0212/06 | C59: Wykopy na odkład koparkami o pojemności 0,4m3 w gruncie kategorii III | D59: m3 | E59: 6.9 | G59: =ROUND(E59*F59,2) -> 0
A60: 43 | B60: KNR-W 2-02 1101/03 | C60: Podkłady z chudego betonu na podłożu gruntowym | D60: m3 | E60: 0.8 | G60: =ROUND(E60*F60,2) -> 0
A61: 44 | B61: KNR-W 2-02 0253/04.2 | C61: Fundamenty blokowe żelbetowe pod urządzenia | D61: m3 | E61: 4.13 | G61: =ROUND(E61*F61,2) -> 0
A62: 45 | B62: KNR-W 2-02 0259/06 | C62: Zbrojenie ze stali żebrowanej fundamentów blokowych | D62: t | E62: 0.27 | G62: =ROUND(E62*F62,2) -> 0
A63: 46 | B63: KNR-W 2-01 0501/01 | C63: Zasypanie wykopów ze skarpami z kruszywa przywiezionego z zagęszczeniem | D63: m3 | E63: 3.45 | G63: =ROUND(E63*F63,2) -> 0
A64: 47 | B64: KNR-W 2-01 0501/03 | C64: Zasypanie wykopów ze skarpami z przerzutem ziemi i zagęszczeniem mechanicznym w gruncie kategorii I-III | D64: m3 | E64: 2.65 | G64: =ROUND(E64*F64,2) -> 0
A65: 48 | B65: KNR-W 2-01 0207/07.4 | C65: Roboty ziemne w gruncie zmagazynowanej w hałdach koparkami o pojemności 0,6m3 z transportem urobku samochodami 10-15t na odległość do 10km | D65: m3 | E65: 4.25 | G65: =ROUND(E65*F65,2) -> 0
A66: 49 | B66: Kalkulacja własna | C66: Utylizacja gleby i ziemi | D66: t | E66: 6.38 | G66: =ROUND(E66*F66,2) -> 0
C67: Agregat prądotwórczy AG2 | G67: =SUM(G59:G66) -> 0
C68: 6.4.3 Odbojniki ochronne
A69: 50 | B69: KNR-W 2-01 0212/06 | C69: Wykopy na odkład koparkami o pojemności 0,4m3 w gruncie kategorii III | D69: m3 | E69: 14 | G69: =ROUND(E69*F69,2) -> 0
A70: 51 | B70: KNR-W 2-02 1101/03 | C70: Podkłady z chudego betonu na podłożu gruntowym | D70: m3 | E70: 1.6 | G70: =ROUND(E70*F70,2) -> 0
A71: 52 | B71: KNR-W 2-02 0253/04.2 | C71: Fundamenty blokowe żelbetowe pod urządzenia | D71: m3 | E71: 11.12 | G71: =ROUND(E71*F71,2) -> 0
A72: 53 | B72: KNR-W 2-02 0259/06 | C72: Zbrojenie ze stali żebrowanej fundamentów blokowych | D72: t | E72: 0.7 | G72: =ROUND(E72*F72,2) -> 0
A73: 54 | B73: KNR-W 2-01 0501/01 | C73: Zasypanie wykopów ze skarpami z kruszywa przywiezionego z zagęszczeniem | D73: m3 | E73: 8 | G73: =ROUND(E73*F73,2) -> 0
A74: 55 | B74: KNR-W 2-01 0501/03 | C74: Zasypanie wykopów ze skarpami z przerzutem ziemi i zagęszczeniem mechanicznym w gruncie kategorii I-III | D74: m3 | E74: 4.4 | G74: =ROUND(E74*F74,2) -> 0
A75: 56 | B75: KNR-W 2-01 0207/07.4 | C75: Roboty ziemne w gruncie zmagazynowanej w hałdach koparkami o pojemności 0,6m3 z transportem urobku samochodami 10-15t na odległość do 10km | D75: m3 | E75: 9.6 | G75: =ROUND(E75*F75,2) -> 0
A76: 57 | B76: Kalkulacja własna | C76: Utylizacja gleby i ziemi | D76: t | E76: 14.4 | G76: =ROUND(E76*F76,2) -> 0
C77: Odbojniki ochronne | G77: =SUM(G69:G76) -> 0
C78: 6.4.4 Pomost inspekcyjny
A79: 58 | B79: KNR-W 2-01 0212/06 | C79: Wykopy na odkład koparkami o pojemności 0,4m3 w gruncie kategorii III | D79: m3 | E79: 16.64 | G79: =ROUND(E79*F79,2) -> 0
A80: 59 | B80: KNR-W 2-02 1101/03 | C80: Podkłady z chudego betonu na podłożu gruntowym | D80: m3 | E80: 0.72 | G80: =ROUND(E80*F80,2) -> 0
A81: 60 | B81: KNR-W 2-02 0253/04.2 | C81: Fundamenty blokowe żelbetowe pod urządzenia | D81: m3 | E81: 2.48 | G81: =ROUND(E81*F81,2) -> 0
A82: 61 | B82: KNR-W 2-02 0259/06 | C82: Zbrojenie ze stali żebrowanej fundamentów blokowych | D82: t | E82: 0.2 | G82: =ROUND(E82*F82,2) -> 0
A83: 62 | B83: KNR-W 2-05 0120/02 | C83: Pomosty z kształowników stalowych ocynkowanych | D83: t | E83: 1.41 | G83: =ROUND(E83*F83,2) -> 0
A84: 63 | B84: KNR-W 2-01 0501/01 | C84: Zasypanie wykopów ze skarpami z kruszywa przywiezionego z zagęszczeniem | D84: m3 | E84: 2 | G84: =ROUND(E84*F84,2) -> 0
A85: 64 | B85: KNR-W 2-01 0501/03 | C85: Zasypanie wykopów ze skarpami z przerzutem ziemi i zagęszczeniem mechanicznym w gruncie kategorii I-III | D85: m3 | E85: 11.44 | G85: =ROUND(E85*F85,2) -> 0
A86: 65 | B86: KNR-W 2-01 0207/07.4 | C86: Roboty ziemne w gruncie zmagazynowanej w hałdach koparkami o pojemności 0,6m3 z transportem urobku samochodami 10-15t na odległość do 10km | D86: m3 | E86: 5.2 | G86: =ROUND(E86*F86,2) -> 0
A87: 66 | B87: Kalkulacja własna | C87: Utylizacja gleby i ziemi | D87: t | E87: 7.8 | G87: =ROUND(E87*F87,2) -> 0
C88: Pomost inspekcyjny | G88: =SUM(G79:G87) -> 0
C89: FUNDAMENTY GENERATORÓW | G89: =SUM(G57+G67+G77+G88) -> 0
C90: 6.5 FUNDAMENTY BRAMOWNIC
C91: 6.5.1 Bramownica kolejowa
A92: 67 | B92: KNR-W 2-01 0212/06 | C92: Wykopy na odkład koparkami o pojemności 0,4m3 w gruncie kategorii III | D92: m3 | E92: 13.46 | G92: =ROUND(E92*F92,2) -> 0
A93: 68 | B93: KNR-W 2-02 1101/03 | C93: Podkłady z chudego betonu na podłożu gruntowym | D93: m3 | E93: 0.52 | G93: =ROUND(E93*F93,2) -> 0
A94: 69 | B94: KNR-W 2-02 0253/04.2 | C94: Fundamenty blokowe żelbetowe pod urządzenia | D94: m3 | E94: 2.72 | G94: =ROUND(E94*F94,2) -> 0
A95: 70 | B95: KNR-W 2-02 0259/06 | C95: Zbrojenie ze stali żebrowanej fundamentów blokowych | D95: t | E95: 0.17 | G95: =ROUND(E95*F95,2) -> 0
A96: 71 | B96: KNR-W 2-18 0527/01 | C96: Przejście przez ściany o grubości do 20cm tulejami PCV o średnicy 75mm | D96: szt | E96: 8 | G96: =ROUND(E96*F96,2) -> 0
A97: 72 | B97: ZNK 23-01 0107/04 | C97: Kotwy mocujące z prętów stalowych | D97: kg | E97: 174.9 | G97: =ROUND(E97*F97,2) -> 0
A98: 73 | B98: KNR-W 2-01 0501/01 | C98: Zasypanie wykopów ze skarpami z kruszywa przywiezionego z zagęszczeniem | D98: m3 | E98: 2 | G98: =ROUND(E98*F98,2) -> 0
A99: 74 | B99: KNR-W 2-01 0501/03 | C99: Zasypanie wykopów ze skarpami z przerzutem ziemi i zagęszczeniem mechanicznym w gruncie kategorii I-III | D99: m3 | E99: 8.22 | G99: =ROUND(E99*F99,2) -> 0
A100: 75 | B100: KNR-W 2-01 0207/07.4 | C100: Roboty ziemne w gruncie zmagazynowanej w hałdach koparkami o pojemności 0,6m3 z transportem urobku samochodami 10-15t na odległość do 10km | D100: m3 | E100: 5.24 | G100: =ROUND(E100*F100,2) -> 0
A101: 76 | B101: Kalkulacja własna | C101: Utylizacja gleby i ziemi | D101: t | E101: 7.86 | G101: =ROUND(E101*F101,2) -> 0
C102: Bramownica kolejowa | G102: =SUM(G92:G101) -> 0
...

Sheet 7 Drogi
A2: TABELA PODZIAŁU CENY RYCZAŁTOWEJ
A3: 7. Drogi
A6: Nr | B6: Podstawa | C6: Opis robót | D6: Jm | E6: Ilość | F6: Cena | G6: Wartość
C7: 7 BRANŻA DROGOWA | G7: Etap 1 | H7: Etap 2 | I7: Etap 3
C8: 7.1 ROBOTY PRZYGOTOWAWCZE
A9: 1 | B9: KNR-W 2-01 0114/02 | C9: Roboty pomiarowe i geodezyjne pod zagospodarowanie terenu | D9: ha | E9: 12.92 | G9: =ROUND(E9*F9,2) -> 0
A10: 2 | B10: KNR-W 2-01 0119/01 | C10: Usunięcie spycharką warstwy ziemi urodzajnej na pełną grubość | D10: m2 | E10: =98573+6702+8245 -> 113520 | G10: =ROUND(98573*F10,2) -> 0 | H10: =ROUND(6702*F10,2) -> 0 | I10: =ROUND(8245*F10,2) -> 0
A11: 3 | B11: KNR-W 2-01 0207/07.4 | C11: Roboty ziemne w gruncie zmagazynowanej w hałdach koparkami o pojemności 0,6m3 z transportem urobku samochodami 15-20t na odległość do 10km | D11: m3 | E11: 207050 | G11: =ROUND(E11*F11,2) -> 0
A12: 4 | B12: KNR-W 2-01 0207/07.4 | C12: Roboty ziemne w gruncie zmagazynowanej w hałdach koparkami o pojemności 0,6m3 z transportem urobku samochodami 5-10t na odległość do 1km (przygotowanie kruszywa) | D12: m3 | E12: 2050 | G12: =ROUND(E12*F12,2) -> 0
A13: 5 | B13: KNR-W 2-01 0227/02.2 | C13: Formowanie nasypów z kruszywa dostarczanego samochodami w gruncie kategorii III-IV | D13: m3 | E13: 2050 | G13: =ROUND(E13*F13,2) -> 0
A14: 6 | B14: KNR-W 2-01 0201/11.2 | C14: Roboty ziemne koparkami o pojemności 0,6m3 z transportem urobku samochodami 15-20t na odległość do 10km w gruncie kategorii III | D14: m2 | E14: 0 | G14: =ROUND(34363*F14,2) -> 0 | H14: =ROUND(5826*F14,2) -> 0 | I14: =ROUND(6971*F14,2) -> 0
A15: 7 | B15: KNR 2-31 0101/01 | C15: Korytowaniem wraz z formowaniem i profilowaniem | D15: m2 | E15: =34363+5826+6971 -> 47160 | G15: =ROUND(34363*F15,2) -> 0 | H15: =ROUND(5826*F15,2) -> 0 | I15: =ROUND(6971*F15,2) -> 0
A16: 8 | B16: KNR 2-31 0103/02 | C16: Profilowanie i zagęszczanie podłoża pod warstwy nawierzchniowe w gruncie kategorii III-IV | D16: m2 | E16: 0 | G16: =ROUND(34363*F16,2) -> 0 | H16: =ROUND(5826*F16,2) -> 0 | I16: =ROUND(6971*F16,2) -> 0
A17: 9 | B17: Kalkulacja własna | C17: Utylizacja gleby i ziemi | D17: t | E17: =(207050+47160)*1.5 -> 381315 | G17: =ROUND(E17*F17,2) -> 0
C18: ROBOTY PRZYGOTOWAWCZE | G18: =SUM(G9:G17) -> 0 | H18: =SUM(H9:H17) -> 0 | I18: =SUM(I9:I17) -> 0
C19: 7.2 KONSTRUKCJA TYP I
A20: 10 | B20: KNR 2-31 0311/05 | C20: Nawierzchnia z mieszanek mineralno-bitumicznych grysowo-żwirowych ściernych o grubości 4cm | D20: m2 | E20: 13119 | G20: =ROUND(E20*F20,2) -> 0
A21: 11 | B21: KNR 2-31 0311/01 | C21: Nawierzchnia z mieszanek mineralno-bitumicznych grysowo-żwirowych wiążących o grubości 8cm | D21: m2 | E21: 13119 | G21: =ROUND(E21*F21,2) -> 0
A22: 12 | B22: KNR 2-31 0109/01 | C22: Podbudowa z betonu asfaltowego zagęszczona o grubości 12cm | D22: m2 | E22: 13119 | G22: =ROUND(E22*F22,2) -> 0
A23: 13 | B23: KNR 2-31 0114/05 | C23: Podbudowa z kruszywa łamanego zagęszczona o grubości 20cm | D23: m2 | E23: 13759.95 | G23: =ROUND(E23*F23,2) -> 0
A24: 14 | B24: KNR 2-31 0114/01 | C24: Podbudowa z kruszywa związanego cementem o grubości 40cm | D24: m2 | E24: 13759.95 | G24: =ROUND(E24*F24,2) -> 0
A25: 15 | B25: KNR 2-31 0118/01 | C25: Pielęgnacja piaskiem i wodą podbudowy z mieszanki betonowej i gruntu stabilizowanego cementem | D25: m2 | E25: 13759.95 | G25: =ROUND(E25*F25,2) -> 0
C26: KONSTRUKCJA TYP I | G26: =SUM(G20:G25) -> 0
C27: 7.3 KONSTRUKCJA TYP II
A28: 16 | B28: KNR AT-03 0303/01 | C28: Nawierzchnia betonowa z warstwą poślizgową, dylatowana z nacięciem szczelin i zalaniem masą zalewową o grubości 25cm | D28: m2 | E28: 1167 | G28: =ROUND(E28*F28,2) -> 0
A29: 17 | B29: KNR-W 2-02 0606/01 | C29: Izolacja przeciwwilgociowa i przeciwwodna dwukrotna z folii polietylenowej izolacyjnej | D29: m2 | E29: 1167 | G29: =ROUND(E29*F29,2) -> 0
A30: 18 | B30: KNR 2-31 0109/01 | C30: Podbudowa betonowa zagęszczona o grubości 20cm | D30: m2 | E30: 1225.35 | G30: =ROUND(E30*F30,2) -> 0
A31: 19 | B31: KNR 2-31 0114/05 | C31: Podbudowa z kruszywa łamanego stabilizowana hydraulicznie zagęszczona o grubości 40cm | D31: m2 | E31: 1225.35 | G31: =ROUND(E31*F31,2) -> 0
A32: 20 | B32: ZNK 23-01 0107/07 | C32: Ułożenie dybli stalowych - Dyble o długości 50 cm średnicy 20 mm –zabezpieczone ściśle przylegającym peszlem na połowie długości | D32: szt | E32: 820 | G32: =ROUND(E32*F32,2) -> 0
A33: 21 | B33: KNR 0-29 0639/01 | C33: Izolacja pionowych szczelin dylatacyjnych taśmą i zaprawą uszczelniającą elastyczną | D33: m | E33: 786 | G33: =ROUND(E33*F33,2) -> 0
A34: 22 | B34: KNR 2-31 0118/01 | C34: Pielęgnacja piaskiem i wodą podbudowy z mieszanki betonowej i gruntu stabilizowanego cementem | D34: m2 | E34: 1225.35 | G34: =ROUND(E34*F34,2) -> 0
C35: KONSTRUKCJA TYP II | G35: =SUM(G28:G34) -> 0
C36: 7.4 KONSTRUKCJA TYP III
A37: 23 | B37: KNR 2-31 0511/03 | C37: Nawierzchnia z kostki brukowej betonowej o grubości 8cm na podsypce cementowo-piaskowej | D37: m2 | E37: 4351 | G37: =ROUND(E37*F37,2) -> 0
A38: 24 | B38: KNR 2-31 0109/01 | C38: Podbudowa betonowa zagęszczona o grubości 25cm | D38: m2 | E38: 4351 | G38: =ROUND(E38*F38,2) -> 0
A39: 25 | B39: KNR 2-31 0114/05 | C39: Podbudowa z kruszywa łamanego stabilizowana hydraulicznie zagęszczona o grubości 40cm | D39: m2 | E39: 4584 | G39: =ROUND(E39*F39,2) -> 0
A40: 26 | B40: KNR 2-31 0118/01 | C40: Pielęgnacja piaskiem i wodą podbudowy z mieszanki betonowej i gruntu stabilizowanego cementem | D40: m2 | E40: 4584 | G40: =ROUND(E40*F40,2) -> 0
C41: KONSTRUKCJA TYP III | G41: =SUM(G37:G40) -> 0
C42: 7.5 KONSTRUKCJA TYP IV
A43: 27 | B43: KNR 2-31 0511/03 | C43: Nawierzchnia z kostki brukowej betonowej o grubości 8cm na podsypce cementowo-piaskowej | D43: m2 | E43: 1266 | G43: =ROUND(E43*F43,2) -> 0
A44: 28 | B44: KNR 2-31 0109/01 | C44: Podbudowa betonowa zagęszczona o grubości 20cm | D44: m2 | E44: 1266 | G44: =ROUND(E44*F44,2) -> 0
A45: 29 | B45: KNR 2-31 0114/05 | C45: Podbudowa z kruszywa łamanego stabilizowana hydraulicznie zagęszczona o grubości 20cm | D45: m2 | E45: 1330 | G45: =ROUND(E45*F45,2) -> 0
A46: 30 | B46: KNR 2-31 0118/01 | C46: Pielęgnacja piaskiem i wodą podbudowy z mieszanki betonowej i gruntu stabilizowanego cementem | D46: m2 | E46: 1330 | G46: =ROUND(E46*F46,2) -> 0
C47: KONSTRUKCJA TYP IV | G47: =SUM(G43:G46) -> 0
C48: 7.6 KONSTRUKCJA TYP V
A49: 31 | B49: KNR 2-31 0114/05 | C49: Podbudowa z kruszywa łamanego zagęszczona o grubości 20cm (Krotność= 2) | D49: m2 | E49: 4232 | G49: =ROUND(E49*F49,2) -> 0
A50: 32 | B50: KNR 2-31 0114/05 | C50: Podbudowa z kruszywa łamanego stabilizowana hydraulicznie zagęszczona o grubości 40cm | D50: m2 | E50: 4443.6 | G50: =ROUND(E50*F50,2) -> 0
A51: 33 | B51: KNR 2-31 0118/01 | C51: Pielęgnacja piaskiem i wodą podbudowy z mieszanki betonowej i gruntu stabilizowanego cementem | D51: m2 | E51: 4443.6 | G51: =ROUND(E51*F51,2) -> 0
C52: KONSTRUKCJA TYP V | G52: =SUM(G49:G51) -> 0
C53: 7.7a KONSTRUKCJA TYP VI
A54: 33a | C54: Warstwa główna i podbudowa z kruszywa łamanego zagęszczona o grubości 20cm (Krotność= 2) | D54: m2 | E54: 718.21 | G54: =ROUND(E54*F54,2) -> 0
A55: 33b | C55: Podbudowa z kruszywa łamanego stabilizowana hydraulicznie zagęszczona o grubości 40cm | D55: m2 | E55: 718.21 | G55: =ROUND(E55*F55,2) -> 0
A56: 33c | C56: Pielęgnacja piaskiem i wodą podbudowy z mieszanki betonowej i gruntu stabilizowanego cementem | D56: m2 | E56: 718.21 | G56: =ROUND(E56*F56,2) -> 0
C57: KONSTRUKCJA TYP VI | G57: =SUM(G54:G56) -> 0
C58: 7.7 KONSTRUKCJA TYP VII
A59: 34 | B59: KNR 2-31 0511/02.1 | C59: Nawierzchnia z kostki brukowej betonowej o grubości 6cm na podsypce cementowo-piaskowej | D59: m2 | E59: 2422 | G59: =ROUND(E59*F59,2) -> 0
A60: 35 | B60: KNR 2-31 0114/05 | C60: Podbudowa z kruszywa łamanego zagęszczona o grubości 20cm | D60: m2 | E60: 2422 | G60: =ROUND(E60*F60,2) -> 0
A61: 36 | B61: KNR 2-31 0114/01 | C61: Podbudowa z kruszywa naturalnego zagęszczona o grubości 50cm | D61: m2 | E61: 2543.1 | G61: =ROUND(E61*F61,2) -> 0
C62: KONSTRUKCJA TYP VII | G62: =SUM(G59:G61) -> 0
C63: 7.8 KONSTRUKCJA TYP VIIa
A64: 37 | B64: KNR AT-03 0303/01 | C64: Nawierzchnia betonowa z warstwą poślizgową, dylatowana z nacięciem szczelin i zalaniem masą zalewową o grubości 15cm | D64: m2 | E64: 124.5 | G64: =ROUND(E64*F64,2) -> 0
A65: 38 | B65: KNR-W 2-02 0606/01 | C65: Izolacja przeciwwilgociowa i przeciwwodna dwukrotna z folii polietylenowej izolacyjnej | D65: m2 | E65: 124.5 | G65: =ROUND(E65*F65,2) -> 0
A66: 39 | B66: KNR 2-31 0109/01 | C66: Podbudowa betonowa zagęszczona o grubości 15cm | D66: m2 | E66: 131 | G66: =ROUND(E66*F66,2) -> 0
A67: 40 | B67: KNR 2-31 0114/05 | C67: Podbudowa z kruszywa łamanego stabilizowana hydraulicznie zagęszczona o grubości 40cm | D67: m2 | E67: 131 | G67: =ROUND(E67*F67,2) -> 0
A68: 41 | B68: KNR 0-29 0639/01 | C68: Izolacja pionowych szczelin dylatacyjnych taśmą i zaprawą uszczelniającą elastyczną | D68: m | E68: 176.3 | G68: =ROUND(E68*F68,2) -> 0
A69: 42 | B69: KNR 2-31 0118/01 | C69: Pielęgnacja piaskiem i wodą podbudowy z mieszanki betonowej i gruntu stabilizowanego cementem | D69: m2 | E69: 131 | G69: =ROUND(E69*F69,2) -> 0
C70: KONSTRUKCJA TYP VIIa | G70: =SUM(G64:G69) -> 0
C71: 7.9 Typ konstrukcji VII wypełnienie przy fundamencie suwnicy (Etap z suwnicą)
A72: 43 | B72: KNR 2-31 0511/02.1 | C72: Nawierzchnia z kostki brukowej betonowej o grubości 6cm na podsypce cementowo-piaskowej | D72: m2 | E72: 440 | G72: =ROUND(E72*F72,2) -> 0
A73: 44 | B73: KNR 2-31 0114/05 | C73: Podbudowa z kruszywa łamanego zagęszczona o grubości 20cm | D73: m2 | E73: 440 | G73: =ROUND(E73*F73,2) -> 0
A74: 45 | B74: KNR 2-31 0114/01 | C74: Podbudowa z kruszywa naturalnego zagęszczona o grubości 50cm | D74: m2 | E74: 440 | G74: =ROUND(E74*F74,2) -> 0
C75: Typ konstrukcji VII (Etap z suwnicą) | G75: =SUM(G72:G74) -> 0
C76: 7.10 KONSTRUKCJA TYP VIII (Etap I)
A77: 46 | B77: KNR AT-03 0303/01 | C77: Nawierzchnia betonowa z warstwą poślizgową, dylatowana z nacięciem szczelin i zalaniem masą zalewową o grubości 21cm | D77: m2 | E77: 4154 | G77: =ROUND(E77*F77,2) -> 0
A78: 47 | B78: KNR-W 2-02 0259/01 | C78: Zbrojenie rozproszone z włókien stalowych elementów betonowych | D78: t | E78: 26.17 | G78: =ROUND(E78*F78,2) -> 0
A79: 48 | B79: KNR 9-11 0202/02 | C79: Warstwa poślizgowa – 2x folia min. 0,3mm | D79: m2 | E79: 4154 | G79: =ROUND(E79*F79,2) -> 0
A80: 49 | B80: KNR 2-31 0114/01 | C80: Podbudowa z kruszywa związanego cementem o grubości 38cm | D80: m2 | E80: 6346 | G80: =ROUND(E80*F80,2) -> 0
A81: 50 | B81: KNR 2-31 0114/05 | C81: Podbudowa z kruszywa łamanego stabilizowana hydraulicznie zagęszczona o grubości 40cm | D81: m2 | E81: 6346 | G81: =ROUND(E81*F81,2) -> 0
A82: 51 | B82: KNR 2-31 0118/01 | C82: Pielęgnacja piaskiem i wodą podbudowy z mieszanki betonowej i gruntu stabilizowanego cementem | D82: m2 | E82: 6346 | G82: =ROUND(E82*F82,2) -> 0
A83: 52 | C83: Ułożenie dybli stalowych - Dyble o długości 50 cm średnicy 20 mm –zabezpieczone ściśle przylegającym peszlem na połowie długości | D83: szt. | E83: =2540+441 -> 2981 | G83: =ROUND(E83*F83,2) -> 0
C84: KONSTRUKCJA TYP VIII (Etap I) | G84: =SUM(G77:G83) -> 0
C85: 7.11 KONSTRUKCJA TYP VIII (Etap II)
A86: 53 | B86: KNR AT-03 0303/01 | C86: Nawierzchnia betonowa z warstwą poślizgową, dylatowana z nacięciem szczelin i zalaniem masą zalewową o grubości 21cm | D86: m2 | E86: 6702 | H86: =ROUND(E86*F86,2) -> 0
A87: 54 | B87: KNR-W 2-02 0259/01 | C87: Zbrojenie rozproszone z włókien stalowych elementów betonowych | D87: t | E87: 42.22 | H87: =ROUND(E87*F87,2) -> 0
A88: 55 | B88: KNR 9-11 0202/02 | C88: Warstwa poślizgowa – 2x folia min. 0,3mm | D88: m2 | E88: 6702 | H88: =ROUND(E88*F88,2) -> 0
A89: 56 | B89: KNR 2-31 0114/01 | C89: Podbudowa z kruszywa związanego cementem o grubości 38cm | D89: m2 | E89: 5826 | H89: =ROUND(E89*F89,2) -> 0
A90: 57 | B90: KNR 2-31 0114/05 | C90: Podbudowa z kruszywa łamanego stabilizowana hydraulicznie zagęszczona o grubości 40cm | D90: m2 | E90: 5826 | H90: =ROUND(E90*F90,2) -> 0
A91: 58 | B91: KNR 2-31 0118/01 | C91: Pielęgnacja piaskiem i wodą podbudowy z mieszanki betonowej i gruntu stabilizowanego cementem | D91: m2 | E91: 5826 | H91: =ROUND(E91*F91,2) -> 0
A92: 59 | C92: Ułożenie dybli stalowych - Dyble o długości 50 cm średnicy 20 mm –zabezpieczone ściśle przylegającym peszlem na połowie długości | D92: szt. | E92: 4691 | H92: =ROUND(E92*F92,2) -> 0
C93: KONSTRUKCJA TYP VIII (Etap II) | H93: =SUM(H86:H92) -> 0
C94: 7.12 KONSTRUKCJA TYP VIII (Etap III)
A95: 60 | B95: KNR AT-03 0303/01 | C95: Nawierzchnia betonowa z warstwą poślizgową, dylatowana z nacięciem szczelin i zalaniem masą zalewową o grubości 21cm | D95: m2 | E95: 8245 | I95: =ROUND(E95*F95,2) -> 0
A96: 61 | B96: KNR-W 2-02 0259/01 | C96: Zbrojenie rozproszone z włókien stalowych elementów betonowych | D96: t | E96: 51.94 | I96: =ROUND(E96*F96,2) -> 0
A97: 62 | B97: KNR 9-11 0202/02 | C97: Warstwa poślizgowa – 2x folia min. 0,3mm | D97: m2 | E97: 8245 | I97: =ROUND(E97*F97,2) -> 0
A98: 63 | B98: KNR 2-31 0114/01 | C98: Podbudowa z kruszywa związanego cementem o grubości 38cm | D98: m2 | E98: 6971 | I98: =ROUND(E98*F98,2) -> 0
A99: 64 | B99: KNR 2-31 0114/05 | C99: Podbudowa z kruszywa łamanego stabilizowana hydraulicznie zagęszczona o grubości 40cm | D99: m2 | E99: 6971 | I99: =ROUND(E99*F99,2) -> 0
A100: 65 | B100: KNR 2-31 0118/01 | C100: Pielęgnacja piaskiem i wodą podbudowy z mieszanki betonowej i gruntu stabilizowanego cementem | D100: m2 | E100: 6971 | I100: =ROUND(E100*F100,2) -> 0
A101: 66 | C101: Ułożenie dybli stalowych - Dyble o długości 50 cm średnicy 20 mm –zabezpieczone ściśle przylegającym peszlem na połowie długości | D101: szt. | E101: 7146 | I101: =ROUND(E101*F101,2) -> 0
C102: KONSTRUKCJA TYP VIII (Etap III) | I102: =SUM(I95:I101) -> 0
C103: 7.13 UMOCNIENIE SKARP
...

Sheet 8 Sanitarna
A2: TABELA PODZIAŁU CENY RYCZAŁTOWEJ
A3: 8. Sanitarne
A5: Nr | B5: Podstawa | C5: Opis robót | D5: Jm | E5: Ilość | F5: Cena | G5: Wartość
C6: 8 BRANŻA SANITARNA | G6: Etap 1 | H6: Etap 2 | I6: Etap 3
C7: 8.1 SIEĆ WODOCIĄGOWA
C8: 8.1.1 Roboty ziemne
A9: 1 | B9: KNR-W 2-01 0113/08 | C9: Roboty pomiarowe i geodezyjne trasy rurociagów w terenie płaskim | D9: km | E9: 1.43 | G9: =ROUND(E9*F9,2) -> 0
A10: 2 | B10: KNR-W 2-01 0212/04 | C10: Wykopy na odkład koparkami o pojemności 0,25m3 i podkopy ręczne w gruncie kategorii III | D10: m3 | E10: 1962.87 | G10: =ROUND(E10*F10,2) -> 0
A11: 3 | B11: KNR-W 2-01 0314/02 | C11: Umocnienie pełne palami szalunkowymi ścian wykopów o głębokości do 3m z rozbiórką w gruncie kategorii III-IV | D11: m2 | E11: 5700 | G11: =ROUND(E11*F11,2) -> 0
A12: 4 | B12: KNR 2-18 0501/01 | C12: Podłoża pod kanały z materiałów sypkich o grubości 10cm | D12: m2 | E12: 981.44 | G12: =ROUND(E12*F12,2) -> 0
A13: 5 | B13: KNR 2-28 0501/09 | C13: Obsypka rurociągu kruszywem dowiezionym | D13: m3 | E13: 372.87 | G13: =ROUND(E13*F13,2) -> 0
A14: 6 | B14: KNR-W 2-01 0222/01.1 | C14: Zasypanie wykopów spycharkami i zasypki ręczne wraz z zagęszczeniem ubijakami mechanicznymi w gruncie kategorii I-III | D14: m3 | E14: 1491.86 | G14: =ROUND(E14*F14,2) -> 0
A15: 7 | B15: KNR-W 2-01 0207/07.4 | C15: Roboty ziemne w gruncie zmagazynowanej w hałdach koparkami o pojemności 0,6m3 z transportem urobku samochodami 10-15t na odległość do 10km | D15: m3 | E15: 471.01 | G15: =ROUND(E15*F15,2) -> 0
A16: 8 | B16: Kalkulacja własna | C16: Utylizacja gleby i ziemi | D16: t | E16: 706.52 | G16: =ROUND(E16*F16,2) -> 0
C17: Roboty ziemne | G17: =SUM(G9:G16) -> 0
C18: 8.1.2 Rurociągi
A19: 9 | B19: KNR 2-28 0314/01 | C19: Rurociągi z rur ciśnieniowych PE zgrzewanych o średnicy 32mm | D19: m | E19: 85 | G19: =ROUND(E19*F19,2) -> 0
A20: 10 | B20: KNR 2-28 0314/02 | C20: Rurociągi z rur ciśnieniowych PE zgrzewanych o średnicy 40mm | D20: m | E20: 105 | G20: =ROUND(E20*F20,2) -> 0
A21: 11 | B21: KNR 2-28 0314/03 | C21: Rurociągi z rur ciśnieniowych PE zgrzewanych o średnicy 50mm | D21: m | E21: 415 | G21: =ROUND(E21*F21,2) -> 0
A22: 12 | B22: KNR-W 2-18 0808/01 | C22: Rurociągi z rur ciśnieniowych PE zgrzewanych o średnicy 63mm | D22: m | E22: 40 | G22: =ROUND(E22*F22,2) -> 0
A23: 13 | B23: KNR-W 2-18 0808/02 | C23: Rurociągi z rur ciśnieniowych PE zgrzewanych o średnicy 75mm | D23: m | E23: 430 | G23: =ROUND(E23*F23,2) -> 0
A24: 14 | B24: KNR-W 2-18 0808/02 | C24: Rurociągi z rur ciśnieniowych PE zgrzewanych o średnicy 90mm | D24: m | E24: 350 | G24: =ROUND(E24*F24,2) -> 0
C25: Rurociągi | G25: =SUM(G19:G24) -> 0
C26: 8.1.3 Osprzęt
A27: 15 | B27: KNR 2-11 0912/02 | C27: Studnia wodomierzowa żelbetowa prefabrykowana o wymiarach 300x150x190cm z wyposażeniem | D27: szt | E27: 1 | G27: =ROUND(E27*F27,2) -> 0
A28: 16 | B28: KNR 2-11 0912/02 | C28: Studnia wodociągowa z kręgów żelbetowych o średnicy 1000mm z wyposażeniem | D28: szt | E28: 2 | G28: =ROUND(E28*F28,2) -> 0
A29: 17 | B29: KNR-W 2-15 0527/05 | C29: Filtry żeliwne siatkowe kołnierzowe o średnicy 80mm | D29: szt | E29: 1 | G29: =ROUND(E29*F29,2) -> 0
A30: 18 | B30: KNR-W 2-15 0518/03 | C30: Izolator przepływów zwrotnych kołnierzowy o średnicy 80mm | D30: szt | E30: 1 | G30: =ROUND(E30*F30,2) -> 0
A31: 19 | B31: KNR-W 2-18 0201/01.1 | C31: Zasuwy żeliwne klinowe gwintowane z obudową o średnicy 25mm | D31: szt | E31: 2 | G31: =ROUND(E31*F31,2) -> 0
A32: 20 | B32: KNR-W 2-18 0201/01.1 | C32: Zasuwy żeliwne klinowe gwintowane z obudową o średnicy 32mm | D32: szt | E32: 1 | G32: =ROUND(E32*F32,2) -> 0
A33: 21 | B33: KNR-W 2-18 0201/01.1 | C33: Zasuwy żeliwne klinowe gwintowane z obudową o średnicy 40mm | D33: szt | E33: 1 | G33: =ROUND(E33*F33,2) -> 0
A34: 22 | B34: KNR-W 2-18 0201/01.1 | C34: Zasuwy żeliwne klinowe gwintowane z obudową o średnicy 50mm | D34: szt | E34: 1 | G34: =ROUND(E34*F34,2) -> 0
C35: Osprzęt | G35: =SUM(G27:G34) -> 0
C36: 8.1.4 Próby odbiorowe
A37: 23 | B37: KNR-W 2-18 0704/01 | C37: Próba wodna szczelności sieci z rur PE i PCV o średnicy do 110mm | D37: kpl | E37: 7 | G37: =ROUND(E37*F37,2) -> 0
A38: 24 | B38: KNR-W 2-18 0707/01 | C38: Dezynfekcja rurociągów sieci o średnicy do 150mm | D38: kpl | E38: 7 | G38: =ROUND(E38*F38,2) -> 0
A39: 25 | B39: KNR-W 2-18 0708/01 | C39: Jednokrotne płukanie sieci o średnicy do 150mm (Krotność= 2) | D39: kpl | E39: 7 | G39: =ROUND(E39*F39,2) -> 0
A40: 26 | B40: KNR-W 2-19 0102/01 | C40: Oznakowanie taśmą z tworzywa sztucznego trasy rurociągu ułożonego w ziemi | D40: m | E40: 1425 | G40: =ROUND(E40*F40,2) -> 0
A41: 27 | B41: KNR-W 2-19 0134/02 | C41: Oznakowanie na słupku stalowym trasy rurociągów | D41: szt | E41: 5 | G41: =ROUND(E41*F41,2) -> 0
C42: Próby odbiorowe | G42: =SUM(G37:G41) -> 0
C43: SIEĆ WODOCIĄGOWA | G43: =SUM(G17+G25+G35+G42) -> 0
C44: 8.2 SIEĆ PRZECIWPOŻAROWA
C45: 8.2.1 Roboty ziemne
A46: 28 | B46: KNR-W 2-01 0113/08 | C46: Roboty pomiarowe i geodezyjne trasy rurociagów w terenie płaskim | D46: km | E46: 3.12 | G46: =ROUND(E46*F46,2) -> 0
A47: 29 | B47: KNR-W 2-01 0212/04 | C47: Wykopy na odkład koparkami o pojemności 0,25m3 i podkopy ręczne w gruncie kategorii III | D47: m3 | E47: 5235.6 | G47: =ROUND(E47*F47,2) -> 0
A48: 30 | B48: KNR-W 2-01 0314/02 | C48: Umocnienie pełne palami szalunkowymi ścian wykopów o głębokości do 3m z rozbiórką w gruncie kategorii III-IV | D48: m2 | E48: 12480 | G48: =ROUND(E48*F48,2) -> 0
A49: 31 | B49: KNR 2-18 0501/01 | C49: Podłoża pod kanały z materiałów sypkich o grubości 10cm | D49: m2 | E49: 2617.8 | G49: =ROUND(E49*F49,2) -> 0
A50: 32 | B50: KNR 2-28 0501/09 | C50: Obsypka rurociągu kruszywem dowiezionym | D50: m3 | E50: 1271.66 | G50: =ROUND(E50*F50,2) -> 0
A51: 33 | B51: KNR-W 2-01 0222/01.1 | C51: Zasypanie wykopów spycharkami i zasypki ręczne wraz z zagęszczeniem ubijakami mechanicznymi w gruncie kategorii I-III | D51: m3 | E51: 3702.16 | G51: =ROUND(E51*F51,2) -> 0
A52: 34 | B52: KNR-W 2-01 0207/07.4 | C52: Roboty ziemne w gruncie zmagazynowanej w hałdach koparkami o pojemności 0,6m3 z transportem urobku samochodami 10-15t na odległość do 10km | D52: m3 | E52: 1533.44 | G52: =ROUND(E52*F52,2) -> 0
A53: 35 | B53: Kalkulacja własna | C53: Utylizacja gleby i ziemi | D53: t | E53: 2300.16 | G53: =ROUND(E53*F53,2) -> 0
C54: Roboty ziemne | G54: =SUM(G46:G53) -> 0
C55: 8.2.2 Rurociągi
A56: 36 | B56: KNR-W 2-18 0808/04 | C56: Rurociągi z rur ciśnieniowych PE zgrzewanych o średnicy 160mm | D56: m | E56: 380 | G56: =ROUND(E56*F56,2) -> 0
A57: 37 | B57: KNR-W 2-18 0808/04 | C57: Rurociągi z rur ciśnieniowych PE zgrzewanych o średnicy 250mm | D57: m | E57: 2740 | G57: =ROUND(E57*F57,2) -> 0
A58: 38 | B58: KNR-W 2-19 0306/12 | C58: Rury ochronne z PEHD o średnicy 250mm | D58: m | E58: 305 | G58: =ROUND(E58*F58,2) -> 0
A59: 39 | B59: KNR-W 2-19 0306/12 | C59: Rury ochronne z PEHD o średnicy 400mm | D59: m | E59: 275 | G59: =ROUND(E59*F59,2) -> 0
C60: Rurociągi | G60: =SUM(G56:G59) -> 0
C61: 8.2.3 Osprzęt
A62: 40 | B62: KNR-W 2-18 0219/04 | C62: Hydranty pożarowe nadziemne o średnicy 100mm | D62: szt | E62: 10 | G62: =ROUND(E62*F62,2) -> 0
A63: 41 | B63: KNR-W 2-18 0219/02 | C63: Hydranty pożarowe podziemne o średnicy 100mm | D63: szt | E63: 7 | G63: =ROUND(E63*F63,2) -> 0
A64: 42 | B64: KNR-W 2-18 0212/02.2 | C64: Zasuwy żeliwne klinowe kołnierzowe z obudową o średnicy 100mm | D64: szt | E64: 11 | G64: =ROUND(E64*F64,2) -> 0
A65: 43 | B65: KNR-W 2-18 0212/03.2 | C65: Zasuwy żeliwne klinowe kołnierzowe z obudową o średnicy 150mm | D65: szt | E65: 5 | G65: =ROUND(E65*F65,2) -> 0
A66: 44 | B66: KNR-W 2-18 0212/05.2 | C66: Zasuwy żeliwne klinowe kołnierzowe z obudową o średnicy 250mm | D66: szt | E66: 22 | G66: =ROUND(E66*F66,2) -> 0
C67: Osprzęt | G67: =SUM(G62:G66) -> 0
C68: 8.2.4 Próby odbiorowe
A69: 45 | B69: KNR-W 2-18 0704/02 | C69: Próba wodna szczelności sieci z rur PE i PCV o średnicy 160mm | D69: kpl | E69: 2 | G69: =ROUND(E69*F69,2) -> 0
A70: 46 | B70: KNR-W 2-18 0704/04 | C70: Próba wodna szczelności sieci z rur PE i PCV o średnicy 250mm | D70: kpl | E70: 14 | G70: =ROUND(E70*F70,2) -> 0
A71: 47 | B71: KNR-W 2-18 0708/01 | C71: Jednokrotne płukanie sieci o średnicy do 150mm (Krotność= 2) | D71: kpl | E71: 2 | G71: =ROUND(E71*F71,2) -> 0
A72: 48 | B72: KNR-W 2-18 0708/03 | C72: Jednokrotne płukanie sieci o średnicy 250mm (Krotność= 2) | D72: kpl | E72: 14 | G72: =ROUND(E72*F72,2) -> 0
A73: 49 | B73: KNR-W 2-19 0102/01 | C73: Oznakowanie taśmą z tworzywa sztucznego trasy rurociągu ułożonego w ziemi | D73: m | E73: 3120 | G73: =ROUND(E73*F73,2) -> 0
A74: 50 | B74: KNR-W 2-19 0134/02 | C74: Oznakowanie na słupku stalowym trasy rurociągów | D74: szt | E74: 38 | G74: =ROUND(E74*F74,2) -> 0
C75: Próby odbiorowe | G75: =SUM(G69:G74) -> 0
C76: SIEĆ PRZECIWPOŻAROWA | G76: =SUM(G54+G60+G67+G75) -> 0
C77: 8.3 POMPOWNIA I ZBIORNIK PPOŻ
C78: 8.3.1 Rurociągi
A79: 51 | B79: KNR-W 2-15 0108/06 | C79: Rurociągi z rur stalowych ocynkowanych gwintowanych o średnicy 50mm | D79: m | E79: 6 | G79: =ROUND(E79*F79,2) -> 0
A80: 52 | B80: KNR-W 2-15 0108/08 | C80: Rurociągi z rur stalowych ocynkowanych gwintowanych o średnicy 80mm | D80: m | E80: 4 | G80: =ROUND(E80*F80,2) -> 0
A81: 53 | B81: KNR 2-15 0106/04 | C81: Rurociągi z rur stalowych ocynkowanych kołnierzowych o średnicy 150mm | D81: m | E81: 5 | G81: =ROUND(E81*F81,2) -> 0
A82: 54 | B82: KNR 2-15 0106/05 | C82: Rurociągi z rur stalowych ocynkowanych kołnierzowych o średnicy 200mm | D82: m | E82: 5 | G82: =ROUND(E82*F82,2) -> 0
A83: 55 | B83: KNR 2-15 0106/05 | C83: Rurociągi z rur stalowych ocynkowanych kołnierzowych o średnicy 250mm | D83: m | E83: 10 | G83: =ROUND(E83*F83,2) -> 0
A84: 56 | B84: KNR-W 2-18 0808/03 | C84: Rurociągi z rur ciśnieniowych PE zgrzewanych o średnicy 110mm | D84: m | E84: 3 | G84: =ROUND(E84*F84,2) -> 0
C85: Rurociągi | G85: =SUM(G79:G84) -> 0
C86: 8.3.2 Osprzęt
A87: 57 | B87: KNR-W 2-15 0523/05 | C87: Klapy żeliwne monitorowane kołnierzowe o średnicy 150mm | D87: szt | E87: 1 | G87: =ROUND(E87*F87,2) -> 0
A88: 58 | B88: KNR-W 2-15 0523/05 | C88: Klapy żeliwne monitorowane kołnierzowe o średnicy 200mm | D88: szt | E88: 2 | G88: =ROUND(E88*F88,2) -> 0
A89: 59 | B89: KNR-W 2-15 0523/05 | C89: Klapy żeliwne monitorowane kołnierzowe o średnicy 250mm | D89: szt | E89: 2 | G89: =ROUND(E89*F89,2) -> 0
A90: 60 | B90: KNR-W 2-15 0130/06 | C90: Zawory przelotowe kulowe gwintowane o średnicy 50mm | D90: szt | E90: 3 | G90: =ROUND(E90*F90,2) -> 0
A91: 61 | B91: KNR-W 7-07 0102/02 | C91: Zestaw hydroforowy wody z osprzętem i automatyką ZH1 o wydajności 45dm3/s (162m3/h) | D91: kpl | E91: 1 | G91: =ROUND(E91*F91,2) -> 0
A92: 62 | B92: KNR-W 7-07 0101/02 | C92: Zestaw hydroforowy wody z osprzętem i automatyką ZH2 o wydajności 3,7dm3/s (13,3m3/h) | D92: kpl | E92: 1 | G92: =ROUND(E92*F92,2) -> 0
A93: 63 | B93: KNR 7-16 1202/18 | C93: Zbiornik stalowy wody ppoż z osprzętem o pojemności 678m3 | D93: szt | E93: 1 | G93: =ROUND(E93*F93,2) -> 0
C94: Osprzęt | G94: =SUM(G87:G93) -> 0
C95: 8.3.3 Próby odbiorowe
A96: 64 | B96: KNR-W 2-18 0701/04.1 | C96: Próba wodna szczelności sieci z rur żeliwnych i stalowych o średnicy do 250mm | D96: kpl | E96: 1 | G96: =ROUND(E96*F96,2) -> 0
A97: 65 | B97: KNR-W 2-18 0708/03 | C97: Jednokrotne płukanie sieci o średnicy do 250mm (Krotność= 2) | D97: kpl | E97: 1 | G97: =ROUND(E97*F97,2) -> 0
A98: 66 | B98: KNR-W 4-02 0147/07 | C98: Uruchomienie zestawu pompowego | D98: szt | E98: 2 | G98: =ROUND(E98*F98,2) -> 0
C99: Próby odbiorowe | G99: =SUM(G96:G98) -> 0
C100: POMPOWNIA I ZBIORNIK PPOŻ | G100: =SUM(G85+G94+G99) -> 0
C101: 8.4 KANALIZACJA SANITARNA
C102: 8.4.1 Roboty ziemne
...

Sheet 9 Elektryczna i Niskie prady
A2: TABELA PODZIAŁU CENY RYCZAŁTOWEJ
A3: 9. Elektryczne i niskie prądy
A5: Nr | B5: Podstawa | C5: Opis robót | D5: Jm | E5: Ilość | F5: Cena | G5: Wartość
C6: 9 BRANŻA ELEKTRYCZNA
C7: 9.1 SIEĆ ELEKTRYCZNA SN
C8: 9.1.1 Przyłącze elektryczne
A9: 1 | B9: KNR-W 2-01 0113/08 | C9: Roboty pomiarowe i geodezyjne trasy kablowych w terenie płaskim | D9: km | E9: 0.57 | G9: =ROUND(E9*F9,2) -> 0
A10: 2 | B10: KNR-W 2-01 0701/05.3 | C10: Kopanie rowów kablowych o głębokości do 1,0m i szerokości do 0,6m w gruncie kategorii III | D10: m | E10: 571 | G10: =ROUND(E10*F10,2) -> 0
A11: 3 | B11: KNR-W 5-10 0301/02 | C11: Podsypka i obsypka na dnie rowu kablowego warstwami o szerokości do 0,6m | D11: m | E11: 571 | G11: =ROUND(E11*F11,2) -> 0
A12: 4 | B12: KNR-W 2-01 0704/05.3 | C12: Zasypanie rowów kablowych o głębokości do 0,8m i szerokości do 0,6m w gruncie kategorii III | D12: m | E12: 571 | G12: =ROUND(E12*F12,2) -> 0
A13: 5 | B13: KNR 5-12 0401/03 | C13: Izolatory wsporcze pionowe | D13: szt | E13: 1 | G13: =ROUND(E13*F13,2) -> 0
A14: 6 | B14: KNR 5-12 0402/01 | C14: Łańcuchy izolatorowe pniowe do 30kV dla przewodów o przekroju do 70mm2 | D14: szt | E14: 3 | G14: =ROUND(E14*F14,2) -> 0
A15: 7 | B15: KNR-W 5-10 0801/01 | C15: Poprzeczniki przelotowe słupowe | D15: szt | E15: 5 | G15: =ROUND(E15*F15,2) -> 0
A16: 8 | B16: KNR-W 5-10 0802/04 | C16: Trzony kabłąkowe słupowe | D16: szt | E16: 3 | G16: =ROUND(E16*F16,2) -> 0
A17: 9 | B17: KNR-W 5-10 0803/03 | C17: Bezpieczniki słupowe | D17: kpl | E17: 3 | G17: =ROUND(E17*F17,2) -> 0
A18: 10 | B18: KNR-W 5-08 0611/02 | C18: Uziomy powierzchniowe w wykopie o głębokości do 0,6m w gruncie kategorii III | D18: m | E18: 24.5 | G18: =ROUND(E18*F18,2) -> 0
A19: 11 | B19: KNR-W 5-08 0614/02 | C19: Uziomy prętowe pogrążane mechanicznie w gruncie kategorii III | D19: m | E19: 24 | G19: =ROUND(E19*F19,2) -> 0
A20: 12 | B20: KNR 5-08 0602/11 | C20: Uziomy z bednarki przyspawane do konstrukcji w ciągach poziomych o przekroju do 120mm2 | D20: m | E20: 10 | G20: =ROUND(E20*F20,2) -> 0
... A22: 14 | B22: KNR-W 5-10 0303/03 | C22: Ułożenie rur osłonowych R1 160( giętka, dwuwarstwowa HDPE, karbowana w środku i na zewnątrz, 450 N, czerwona) | D22: m | E22: 678 | G22: =ROUND(E22*F22,2) -> 0
A23: 14a | C23: Rura osłonowa R2 | D23: m | E23: 0 | G23: =ROUND(E23*F23,2) -> 0
A24: 14b | C24: Ułożenie rur osłonowych R3 160/8 ( sztywna, HDPE, gładka w środku, gładka na zewnątrz, czerwona) | D24: m | E24: 553 | G24: =ROUND(E24*F24,2) -> 0
A25: 14c | C25: Rura osłonowa R4 160/9,1 ( sztywna, HDPE, gładka w środku, gładka na zewnątrz, czarna) | D25: m | E25: 492 | G25: =ROUND(E25*F25,2) -> 0
A26: 15 | B26: KNR-W 5-10 0201/01.1 | C26: Kable zasilające aluminiowe SN w rowach kablowych XRUHAKX o przekroju 1x70mm2 | D26: m | E26: 2289 | G26: =ROUND(E26*F26,2) -> 0
A27: 16 | B27: KNR-W 5-10 0201/01.1 | C27: Kable zasilające aluminiowe SN w rowach kablowych XRUHAKX o przekroju 1x120mm2 | D27: m | E27: 1842 | G27: =ROUND(E27*F27,2) -> 0
A28: 17 | B28: KNR-W 5-10 0412/06 | C28: Mufy na kablach jednożyłowych aluminiowych do 20kV o przekroju do 95mm2 | D28: szt | E28: 3 | G28: =ROUND(E28*F28,2) -> 0
A29: 18 | B29: KNR-W 5-10 0412/06 | C29: Mufy na kablach jednożyłowych aluminiowych do 20kV o przekroju do 240mm2 | D29: szt | E29: 3 | G29: =ROUND(E29*F29,2) -> 0
C30: Przyłącze elektryczne | G30: =SUM(G9:G29) -> 0
C31: 9.1.2 Stacja transformatorowa ST-1
A32: 19 | B32: Kalkulacja własna | C32: Kontenerowa stacja transformatorowa częścią nadziemną 816 x 266 x 265cm (lxdxh) z częścią podziemną h=90cm, z instalacjami budynkowymi | D32: kpl | E32: 1 | G32: =ROUND(E32*F32,2) -> 0
A33: 20 | C33: Rozdzielnia średniego napięcia ST1 o mocy 800kVA | D33: szt | E33: 1 | G33: =ROUND(E33*F33,2) -> 0
A34: 21 | C34: Transformator żywiczny ST1 o mocy 800kVA | D34: szt | E34: 1 | G34: =ROUND(E34*F34,2) -> 0
A35: 22 | C35: Głowice ołowiane do kabli aluminiowych do 20kV o przekroju do 240mm2 | D35: szt | E35: 6 | G35: =ROUND(E35*F35,2) -> 0
A36: 23 | C36: Uziomy powierzchniowe w wykopie o głębokości do 0,6m w gruncie kategorii III | D36: m | E36: 29.64 | G36: =ROUND(E36*F36,2) -> 0
A37: 24 | C37: Uziomy prętowe pogrążane mechanicznie w gruncie kategorii III | D37: m | E37: 24 | G37: =ROUND(E37*F37,2) -> 0
A38: 25 | C38: Wyposażenie stacji: Sprzęt ochronny, urządzenia | D38: kpl | E38: 1 | G38: =ROUND(E38*F38,2) -> 0
C39: Stacja ST-1 | G39: =SUM(G32:G38) -> 0
C40: 9.1.3 Stacja transformatorowa ST-2
A41: 26 | C41: Kontenerowa stacja transformatorowa częścią nadziemną 321 x 251 x 278cm (lxdxh) z częścią podziemną h=90cm z instalacjami budynkowymi | D41: kpl | E41: 1 | G41: =ROUND(E41*F41,2) -> 0
A42: 27 | C42: Rozdzielnia średniego napięcia ST2 o mocy 400kVA | D42: szt | E42: 1 | G42: =ROUND(E42*F42,2) -> 0
A43: 28 | C43: Transformator żywiczny ST2 o mocy 400kVA | D43: szt | E43: 1 | G43: =ROUND(E43*F43,2) -> 0
A44: 29 | C44: Głowice ołowiane do kabli aluminiowych do 20kV o przekroju do 120mm2 | D44: szt | E44: 2 | G44: =ROUND(E44*F44,2) -> 0
A45: 30 | C45: Uziomy powierzchniowe w wykopie o głębokości do 0,6m w gruncie kategorii III | D45: m | E45: 23 | G45: =ROUND(E45*F45,2) -> 0
A46: 31 | C46: Uziomy prętowe pogrążane mechanicznie w gruncie kategorii III | D46: m | E46: 24 | G46: =ROUND(E46*F46,2) -> 0
A47: 32 | C47: Wyposażenie stacji: Sprzęt ochronny, urządzenia | D47: kpl | E47: 1 | G47: =ROUND(E47*F47,2) -> 0
A48: 33 | B48: KNR 2-31 0511/03 | C48: Opaska wokół stacji Nawierzchnia z kostki brukowej betonowej o grubości 8cm na podsypce cementowo-piaskowej | D48: m2 | E48: 19 | G48: =ROUND(E48*F48,2) -> 0
A49: 34 | B49: KNR 2-31 0114/01 | C49: Podbudowa z kruszywa naturalnego zagęszczona o grubości 20cm | D49: m2 | E49: 19 | G49: =ROUND(E49*F49,2) -> 0
A50: 35 | B50: KNR 2-31 0114/05 | C50: Podbudowa z kruszywa łamanego zagęszczona o grubości 15cm | D50: m2 | E50: 19 | G50: =ROUND(E50*F50,2) -> 0
A51: 36 | B51: KNR 2-31 0407/05 | C51: Obrzeża betonowe o wymiarach 30x8cm na ławie betonowej i podsypce cementowo-piaskowej | D51: m | E51: 20 | G51: =ROUND(E51*F51,2) -> 0
C52: Stacja ST-2 | G52: =SUM(G41:G51) -> 0
C53: 9.1.2 Likwidacja kolizji z linią SN 15 kV
A54: 37 | B54: KNR-W 2-01 0113/08 | C54: Roboty pomiarowe i geodezyjne trasy kablowych w terenie płaskim | D54: km | E54: 0.39 | G54: =ROUND(E54*F54,2) -> 0
A55: 38 | B55: KNR-W 2-01 0701/05.3 | C55: Kopanie rowów kablowych o głębokości do 1,0m i szerokości do 0,6m w gruncie kategorii III | D55: m | E55: 385 | G55: =ROUND(E55*F55,2) -> 0
A56: 39 | B56: KNR-W 5-10 0301/02 | C56: Podsypka i obsypka na dnie rowu kablowego warstwami o szerokości do 0,6m | D56: m | E56: 385 | G56: =ROUND(E56*F56,2) -> 0
A57: 40 | B57: KNR-W 2-01 0704/05.3 | C57: Zasypanie rowów kablowych o głębokości do 0,8m i szerokości do 0,6m w gruncie kategorii III | D57: m | E57: 385 | G57: =ROUND(E57*F57,2) -> 0
A58: 41 | B58: KNR-W 4-03 1150/02 | C58: Demontaż słupów żelbetowych z podporą o długości ponad 10m | D58: szt | E58: 1 | G58: =ROUND(E58*F58,2) -> 0
A59: 42 | B59: KNR-W 5-10 0701/01 | C59: Słupy pojedyńcze strunobetonowe bez belek ustojowych o długości 12m | D59: szt | E59: 2 | G59: =ROUND(E59*F59,2) -> 0
A60: 43 | B60: KNR-W 5-10 0707/01 | C60: Podpory żelbetowe | D60: szt | E60: 2 | G60: =ROUND(E60*F60,2) -> 0
A61: 44 | B61: KNR 5-12 0402/01 | C61: Łańcuchy izolatorowe pniowe do 30kV dla przewodów o przekroju do 70mm2 | D61: szt | E61: 2 | G61: =ROUND(E61*F61,2) -> 0
A62: 45 | B62: KNR-W 5-10 0604/06 | C62: Głowice ołowiane do kabli aluminiowych do 20kV o przekroju do 240mm2 | D62: szt | E62: 6 | G62: =ROUND(E62*F62,2) -> 0
A63: 46 | B63: KNR-W 5-10 0803/03 | C63: Ograniczniki przepięć | D63: kpl | E63: 7 | G63: =ROUND(E63*F63,2) -> 0
A64: 47 | B64: KNR-W 5-08 0611/02 | C64: Uziomy powierzchniowe w wykopie o głębokości do 0,6m w gruncie kategorii III | D64: m | E64: 49 | G64: =ROUND(E64*F64,2) -> 0
A65: 48 | B65: KNR-W 5-08 0614/02 | C65: Uziomy prętowe pogrążane mechanicznie w gruncie kategorii III | D65: m | E65: 48 | G65: =ROUND(E65*F65,2) -> 0
... A70: 53 | B70: KNR-W 5-10 0201/01.1 | C70: Kable zasilające aluminiowe SN w rowach kablowych XRUHAKX o przekroju 1x120mm2 | D70: m | E70: 1263 | G70: =ROUND(E70*F70,2) -> 0
C71: Likwidacja kolizji z linią SN 15 kV | G71: =SUM(G54:G70) -> 0
C72: 9.1.3 Badania i pomiary
A73: 54 | B73: KNR 13-21 0107/03 | C73: Badanie szyn zbiorczych i łączeniowych rozdzielnicy SN | D73: kpl | E73: 2 | G73: =ROUND(E73*F73,2) -> 0
A74: 55 | B74: KNR 13-21 0506/04 | C74: Badanie transformatorów o mocy do 630kVA | D74: szt | E74: 1 | G74: =ROUND(E74*F74,2) -> 0
A75: 56 | B75: KNR 13-21 0506/03 | C75: Badanie transformatorów o mocy ponad 630kVA | D75: szt | E75: 1 | G75: =ROUND(E75*F75,2) -> 0
A76: 57 | B76: KNNR-W 5 1302/01 | C76: Badanie linii kablowej średniego napięcia | D76: kpl | E76: 90 | G76: =ROUND(E76*F76,2) -> 0
A77: 58 | B77: KNR-W 4-03 1205/01 | C77: Badania i pomiary instalacji uziemiającej ochronnej lub roboczej | D77: kpl | E77: 27 | G77: =ROUND(E77*F77,2) -> 0
C78: Badania i pomiary | G78: =SUM(G73:G77) -> 0
C79: SIEĆ ELEKTRYCZNA SN | G79: =SUM(G30+G39+G52+G71+G78) -> 0
C80: 9.2 INSTALACJA ELEKTRYCZNA
C81: 9.2.1 Teren
A82: 59 | B82: KNR-W 2-01 0113/08 | C82: Roboty pomiarowe i geodezyjne trasy kablowych w terenie płaskim | D82: km | E82: 3.17 | G82: =ROUND(E82*F82,2) -> 0
A83: 60 | B83: KNR-W 2-01 0701/02.2 | C83: Kopanie rowów kablowych o głębokości do 0,8m i szerokości do 0,4m w gruncie kategorii III | D83: m | E83: 3170 | G83: =ROUND(E83*F83,2) -> 0
A84: 61 | B84: KNR-W 5-10 0301/01 | C84: Podsypka i obsypka na dnie rowu kablowego warstwami o grubości 10cm i szerokości do 0,4m | D84: m | E84: 3170 | G84: =ROUND(E84*F84,2) -> 0
A85: 62 | B85: KNR-W 2-01 0704/02.2 | C85: Zasypanie rowów kablowych o głębokości do 0,6m i szerokości do 0,4m w gruncie kategorii III | D85: m | E85: 3170 | G85: =ROUND(E85*F85,2) -> 0
A86: 63 | B86: KNR-W 2-01 0707/05 | C86: Wykopy pod słupy wraz z zasypaniem w gruncie kategorii III | D86: szt | E86: 35 | G86: =ROUND(E86*F86,2) -> 0
A87: 64 | B87: KNR 5-01 0106/01 | C87: Kanalizacja kablowa 1-otworowa z rur kablowych SRS o średnicy 160mm wraz z robotami ziemnymi | D87: m | E87: 2000 | G87: =ROUND(E87*F87,2) -> 0
A88: 65 | B88: KNR 5-14 0104/05 | C88: Rozdzielnica główna niskiego napięcia RG1 o mocy 640kW | D88: szt | E88: 0 | G88: =ROUND(E88*F88,2) -> 0
A89: 66 | B89: KNR 5-14 0104/02 | C89: Rozdzielnica główna niskiego napięcia RG2 o mocy 320kW | D89: szt | E89: 0 | G89: =ROUND(E89*F89,2) -> 0
A90: 67 | B90: KNR-W 5-10 1001/01 | C90: Rozdzielnice oświetleniowe SO2-5 | D90: szt | E90: 6 | G90: =ROUND(E90*F90,2) -> 0
A91: 68 | B91: KNR-W 5-08 0404/01 | C91: Rozdzielnica obiektowa strefowa PD1 o mocy 8,6kW | D91: szt | E91: 0 | G91: =ROUND(E91*F91,2) -> 0
A92: 69 | B92: KNR-W 5-08 0404/01 | C92: Rozdzielnica obiektowa strefowa PD2 o mocy 10kW | D92: szt | E92: 0 | G92: =ROUND(E92*F92,2) -> 0
A93: 70 | B93: KNR-W 5-08 0404/05 | C93: Rozdzielnica obiektowa strefowa PD3 o mocy 75kW | D93: szt | E93: 0 | G93: =ROUND(E93*F93,2) -> 0
... A117: 94 | B117: KNR-W 5-08 0407/04 | C117: Wyłączniki przeciwpożarowe prądu | D117: szt | E117: 3 | G117: =ROUND(E117*F117,2) -> 0
A118: 95 | C118: Roboty pomiarowe i geodezyjne trasy kablowych w terenie płaskim | D118: km | E118: 3.17 | G118: =ROUND(E118*F118,2) -> 0
A119: 96 | C119: Mechaniczne kopanie rowów dla kabli w gruncie kategorii III-IV | D119: m3 | E119: 1702.32 | G119: =ROUND(E119*F119,2) -> 0
A120: 97 | C120: Układanie w wykopie rur ochronnych z PCW o średnicy do 140mm - analogia do 160mm "HDPEp160/9,1" | D120: m | E120: 8068 | G120: =ROUND(E120*F120,2) -> 0
A121: 98 | C121: Układanie w wykopie rur ochronnych z PCW o średnicy do 140mm - analogia do 160mm "HDPEg160/12,5" | D121: m | E121: 56 | G121: =ROUND(E121*F121,2) -> 0
A122: 99 | C122: Układanie w wykopie rur ochronnych z PCW o średnicy do 140mm - analogia do 160mm "HDPE160/12,5" | D122: m | E122: 1538 | G122: =ROUND(E122*F122,2) -> 0
A123: 100 | C123: Układanie w wykopie rur ochronnych z PCW o średnicy do 110mm - HDPE 110/7,5 | D123: m | E123: 98 | G123: =ROUND(E123*F123,2) -> 0
A124: 101 | C124: Układanie w wykopie rur ochronnych z PCW o średnicy do 110mm - HDPEp 110/6,3 | D124: m | E124: 1446 | G124: =ROUND(E124*F124,2) -> 0
A125: 102 | C125: Układanie w wykopie rur ochronnych z PCW o średnicy do 110mm - HDPEg 110/12 | D125: m | E125: 207 | G125: =ROUND(E125*F125,2) -> 0
A126: 103 | C126: Mechaniczne przewierty dla rur pod obiektami - za pierwszą rurę o średnicy do 150mm - analogia 160 | D126: m | E126: 0 | G126: =ROUND(E126*F126,2) -> 0
A127: 104 | C127: Mechaniczne przewierty dla rur pod obiektami - dodatek za każdą następną rurę o średnicy do 150mm w wiązce - analogia 160 | D127: m | E127: 0 | G127: =ROUND(E127*F127,2) -> 0
A128: 105 | C128: Mechaniczne przewierty dla rur pod obiektami - za pierwszą rurę o średnicy do 125mm - analogia 110 | D128: m | E128: 0 | G128: =ROUND(E128*F128,2) -> 0
A129: 106 | C129: Mechaniczne przewierty dla rur pod obiektami - dodatek za każdą następną rurę o średnicy do 125mm w wiązce | D129: m | E129: 0 | G129: =ROUND(E129*F129,2) -> 0
... A192: 169 | C192: Pomiary skuteczności zerowania - każdy następny pomiar | D192: szt | E192: 462 | G192: =ROUND(E192*F192,2) -> 0
...

Sheet 10 HVAC
A2: TABELA PODZIAŁU CENY RYCZAŁTOWEJ
A3: 10. HVAC
A5: Nr | B5: Podstawa | C5: Opis robót | D5: Jm | E5: Ilość | F5: Cena | G5: Wartość
C6: 10 BRANŻA HVAC
C7: 10.1 BUDYNEK BIUROWY B01
C8: 10.1.1 Kotłownia
A9: 1 | B9: KNR 7-24 0128/05 | C9: Pompa ciepła z osprzętem o mocy 34,2kW | D9: szt | E9: 1 | G9: =ROUND(E9*F9,2) -> 0
A10: 2 | B10: KNR 7-08 0201/03 | C10: Układ regulacji elektrycznej temperatury z czujnikiem pomiarowym | D10: kpl | E10: 1 | G10: =ROUND(E10*F10,2) -> 0
A11: 3 | B11: KNR 7-24 0111/01 | C11: Zbiornik buforowy stalowy o pojemności 600dm3 | D11: szt | E11: 1 | G11: =ROUND(E11*F11,2) -> 0
A12: 4 | B12: KNR 7-24 0111/03 | C12: Zbiornik buforowy stalowy o pojemności 1000dm3 | D12: szt | E12: 1 | G12: =ROUND(E12*F12,2) -> 0
A13: 5 | B13: KNR 7-24 0127/01 | C13: Wymiennik glikolowy płaszczowo-rurowy skręcany lub spawany o mocy 42,8kW | D13: szt | E13: 1 | G13: =ROUND(E13*F13,2) -> 0
A14: 6 | B14: KNR 7-24 0127/01 | C14: Wymiennik glikolowy płaszczowo-rurowy skręcany lub spawany o mocy 34,2kW | D14: szt | E14: 1 | G14: =ROUND(E14*F14,2) -> 0
A15: 7 | B15: KNR-W 2-15 0509/01 | C15: Naczynie wzbiorcze przeponowe o pojemności 50dm3 | D15: szt | E15: 1 | G15: =ROUND(E15*F15,2) -> 0
A16: 8 | B16: KNR-W 2-15 0509/01 | C16: Naczynie wzbiorcze przeponowe o pojemności 100dm3 | D16: szt | E16: 2 | G16: =ROUND(E16*F16,2) -> 0
A17: 9 | B17: KNR-W 7-07 0101/02 | C17: Układ odgazowywania próżniowego z układem stabilizacji ciśnienia | D17: kpl | E17: 2 | G17: =ROUND(E17*F17,2) -> 0
A18: 10 | B18: KNR-W 7-07 0101/02 | C18: Zestaw pompowy uzupełnienia ubytków instalacji | D18: kpl | E18: 1 | G18: =ROUND(E18*F18,2) -> 0
A19: 11 | B19: KNR 7-06 0503/08 | C19: Stacja uzdatniania wody | D19: szt | E19: 1 | G19: =ROUND(E19*F19,2) -> 0
A20: 12 | B20: KNR-W 2-15 0528/06 | C20: Odmulacz z rur stalowych o średnicy 40mm | D20: szt | E20: 1 | G20: =ROUND(E20*F20,2) -> 0
... A43: 35 | B43: KNR-W 2-15 0527/05 | C43: Filtry żeliwne siatkowe kołnierzowe o średnicy 65mm | D43: szt | E43: 2 | G43: =ROUND(E43*F43,2) -> 0
C44: Kotłownia | G44: =SUM(G9:G43) -> 0
C45: 10.1.2 Instalacja c.o.
A46: 36 | B46: KNR-W 2-15 0403/01 | C46: Rurociągi z rur stalowych cienkościennych, ocynkowanych, łączonych na zaprasowane kształtki systemowe o średnicy 15mm | D46: m | E46: 11 | G46: =ROUND(E46*F46,2) -> 0
A47: 37 | B47: KNR-W 2-15 0403/02 | C47: Rurociągi z rur stalowych cienkościennych, ocynkowanych, łączonych na zaprasowane kształtki systemowe o średnicy 20mm | D47: m | E47: 58 | G47: =ROUND(E47*F47,2) -> 0
A48: 38 | B48: KNR-W 2-15 0403/03 | C48: Rurociągi z rur stalowych cienkościennych, ocynkowanych, łączonych na zaprasowane kształtki systemowe o średnicy 25mm | D48: m | E48: 51 | G48: =ROUND(E48*F48,2) -> 0
A49: 39 | B49: KNR-W 2-15 0403/04 | C49: Rurociągi z rur stalowych cienkościennych, ocynkowanych, łączonych na zaprasowane kształtki systemowe o średnicy 32mm | D49: m | E49: 103 | G49: =ROUND(E49*F49,2) -> 0
A50: 40 | B50: KNR-W 2-15 0403/06 | C50: Rurociągi z rur stalowych cienkościennych, ocynkowanych, łączonych na zaprasowane kształtki systemowe o średnicy 50mm | D50: m | E50: 62 | G50: =ROUND(E50*F50,2) -> 0
A51: 41 | B51: KNR-W 7-12 0206/04 | C51: Malowanie farbami poliwinylowymi wraz z dwukrotnym gruntowaniem rurociągów o średnicy do 57mm | D51: m2 | E51: 36.04 | G51: =ROUND(E51*F51,2) -> 0
A52: 42 | B52: KNR 0-31 0201/01 | C52: Rurociągi z rur polietylenowych PEX w przegrodach o średnicy 16mm | D52: m | E52: 2929 | G52: =ROUND(E52*F52,2) -> 0
A53: 43 | B53: KNR 7-08 0205/03 | C53: Regulatory różnicy ciśnień bezpośredniego działania o średnicy 15mm | D53: szt | E53: 1 | G53: =ROUND(E53*F53,2) -> 0
A54: 44 | B54: KNR 7-08 0205/03 | C54: Regulatory różnicy ciśnień bezpośredniego działania o średnicy 20mm | D54: szt | E54: 7 | G54: =ROUND(E54*F54,2) -> 0
A55: 45 | B55: KNR-W 2-15 0525/02 | C55: Filtry żeliwne siatkowe gwintowane o średnicy 32mm | D55: szt | E55: 1 | G55: =ROUND(E55*F55,2) -> 0
A56: 46 | B56: KNR-W 2-15 0525/01 | C56: Zawory żeliwne odcinające gwintowane o średnicy 20mm | D56: szt | E56: 23 | G56: =ROUND(E56*F56,2) -> 0
A57: 47 | B57: KNR-W 2-15 0525/02 | C57: Zawory żeliwne odcinające gwintowane o średnicy 25mm | D57: szt | E57: 3 | G57: =ROUND(E57*F57,2) -> 0
... A76: 66 | B76: KNR 0-34 0101/01 | C76: Izolacja otulinami polietylenowymi o grubości 6mm rurociągów o średnicy 10mm | D76: m | E76: 2929 | G76: =ROUND(E76*F76,2) -> 0
C77: Instalacja c.o. | G77: =SUM(G46:G76) -> 0
C78: 10.1.3 Instalacja wody lodowej
A79: 67 | B79: KNR-W 2-15 0403/01 | C79: Rurociągi z rur stalowych czarnych ze szwem spawanych o średnicy 15mm | D79: m | E79: 85 | G79: =ROUND(E79*F79,2) -> 0
A80: 68 | B80: KNR-W 2-15 0403/02 | C80: Rurociągi z rur stalowych czarnych ze szwem spawanych o średnicy 20mm | D80: m | E80: 30 | G80: =ROUND(E80*F80,2) -> 0
A81: 69 | B81: KNR-W 2-15 0403/03 | C81: Rurociągi z rur stalowych czarnych ze szwem spawanych o średnicy 25mm | D81: m | E81: 55 | G81: =ROUND(E81*F81,2) -> 0
A82: 70 | B82: KNR-W 2-15 0403/04 | C82: Rurociągi z rur stalowych czarnych ze szwem spawanych o średnicy 32mm | D82: m | E82: 34 | G82: =ROUND(E82*F82,2) -> 0
A83: 71 | B83: KNR-W 2-15 0403/05 | C83: Rurociągi z rur stalowych czarnych ze szwem spawanych o średnicy 40mm | D83: m | E83: 13 | G83: =ROUND(E83*F83,2) -> 0
A84: 72 | B84: KNR-W 7-12 0206/04 | C84: Malowanie farbami poliwinylowymi wraz z dwukrotnym gruntowaniem rurociągów o średnicy do 57mm | D84: m2 | E84: 20.21 | G84: =ROUND(E84*F84,2) -> 0
A85: 73 | B85: KNR-W 2-17 0328/01 | C85: Klimakonwektory sufitowe dwururowe o mocy 3,2-4,0kW | D85: szt | E85: 6 | G85: =ROUND(E85*F85,2) -> 0
A86: 74 | B86: KNR-W 2-15 0431/01 | C86: Klimakonwektory ścienne dwururowe o mocy do 1,0kW | D86: szt | E86: 1 | G86: =ROUND(E86*F86,2) -> 0
A87: 75 | B87: KNR-W 2-15 0431/01 | C87: Klimakonwektory ścienne dwururowe o mocy 1,0-1,8kW | D87: szt | E87: 3 | G87: =ROUND(E87*F87,2) -> 0
A88: 76 | B88: KNR-W 2-15 0431/01 | C88: Klimakonwektory ścienne dwururowe o mocy 1,8-2,5kW | D88: szt | E88: 3 | G88: =ROUND(E88*F88,2) -> 0
A89: 77 | B89: KNR 7-08 0205/02 | C89: Układ regulacji temperatury bezpośredniego działania | D89: szt | E89: 13 | G89: =ROUND(E89*F89,2) -> 0
A90: 78 | B90: BCA 62-41-90 | C90: Oprzewodowanie elementów peryferyjnych | D90: pkt | E90: 13 | G90: =ROUND(E90*F90,2) -> 0
... A106: 94 | B106: KNR 0-34 0104/10 | C106: Izolacja otulinami kauczukowymi o grubości 19mm rurociągów o średnicy 40mm | D106: m | E106: 13 | G106: =ROUND(E106*F106,2) -> 0
C107: Instalacja wody lodowej | G107: =SUM(G79:G106) -> 0
C108: 10.1.4 Instalacja klimatyzacyjna
A109: 95 | B109: KNR 7-24 0109/03 | C109: Skraplacz zewnętrzny freonowy o mocy 8kW | D109: szt | E109: 2 | G109: =ROUND(E109*F109,2) -> 0
A110: 96 | B110: KNR-W 2-17 0328/02 | C110: Klimatyzatory ścienne o mocy 7,5-8,8kW | D110: szt | E110: 2 | G110: =ROUND(E110*F110,2) -> 0
A111: 97 | B111: KNR 7-08 0205/02 | C111: Układ regulacji temperatury bezpośredniego działania | D111: szt | E111: 2 | G111: =ROUND(E111*F111,2) -> 0
A112: 98 | B112: BCA 62-41-90 | C112: Oprzewodowanie elementów peryferyjnych | D112: pkt | E112: 2 | G112: =ROUND(E112*F112,2) -> 0
A113: 99 | B113: KNR 7-24 0235/01 | C113: Rurociągi z rur miedzianych lutowanych o średnicy 10mm | D113: m | E113: 41 | G113: =ROUND(E113*F113,2) -> 0
A114: 100 | B114: KNR 7-24 0235/02 | C114: Rurociągi z rur miedzianych lutowanych o średnicy 15mm | D114: m | E114: 41 | G114: =ROUND(E114*F114,2) -> 0
A115: 101 | B115: KNZ 15 0123/01 | C115: Izolacja otulinami kauczukowymi o grubości 13mm rurociągów o średnicy 10mm | D115: m | E115: 41 | G115: =ROUND(E115*F115,2) -> 0
A116: 102 | B116: KNZ 15 0123/01 | C116: Izolacja otulinami kauczukowymi o grubości 13mm rurociągów o średnicy 15mm | D116: m | E116: 41 | G116: =ROUND(E116*F116,2) -> 0
A117: 103 | B117: KNR 2-22 0301/01 | C117: Podpory uniwersalne pod konstrukcje podparć i zawieszeń | D117: szt | E117: 8 | G117: =ROUND(E117*F117,2) -> 0
C118: Instalacja klimatyzacyjna | G118: =SUM(G109:G117) -> 0
C119: 10.1.5 Instalacja wentylacyjna
A120: 104 | B120: KNR-W 2-17 0323/01 | C120: Centrala wentylacyjna nawiewno-wywiewna BO1.1 o wydajności 2025m3/h | D120: szt | E120: 1 | G120: =ROUND(E120*F120,2) -> 0
A121: 105 | B121: KNR-W 2-17 0303/01 | C121: Centrala wentylacyjna nawiewna podwieszana BO1.2 o wydajności 800m3/h | D121: szt | E121: 1 | G121: =ROUND(E121*F121,2) -> 0
A122: 106 | B122: KNR-W 2-17 0205/01 | C122: Wentylator kanałowy WC1 o średnicy 100mm | D122: szt | E122: 1 | G122: =ROUND(E122*F122,2) -> 0
A123: 107 | B123: KNR-W 2-17 0205/01 | C123: Wentylator kanałowy WC2-3 o średnicy 160mm | D123: szt | E123: 2 | G123: =ROUND(E123*F123,2) -> 0
A124: 108 | B124: KNR-W 2-17 0212/01 | C124: Osprzęt dodatkowy do wentylatorów o średnicy 100mm | D124: szt | E124: 1 | G124: =ROUND(E124*F124,2) -> 0
A125: 109 | B125: KNR-W 2-17 0212/01 | C125: Osprzęt dodatkowy do wentylatorów o średnicy 160mm | D125: szt | E125: 2 | G125: =ROUND(E125*F125,2) -> 0
A126: 110 | B126: KNR 7-08 0301/01 | C126: Układy sterowania elektrycznego zespołem wentylacyjnym BO1.1 | D126: kpl | E126: 1 | G126: =ROUND(E126*F126,2) -> 0
A127: 111 | B127: KNR 7-08 0301/01 | C127: Układy sterowania elektrycznego zespołem wentylacyjnym BO1.2 | D127: kpl | E127: 1 | G127: =ROUND(E127*F127,2) -> 0
A128: 112 | B128: KNR 7-08 0801/01 | C128: Regulatory obrotów do wentylatorów pojedyńczych 1-fazowe elektroniczne | D128: szt | E128: 1 | G128: =ROUND(E128*F128,2) -> 0
A129: 113 | B129: KNR 7-08 0801/01 | C129: Regulatory obrotów do wentylatorów pojedyńczych 1-fazowe transformatorowe | D129: szt | E129: 2 | G129: =ROUND(E129*F129,2) -> 0
A130: 114 | B130: KNR-W 5-08 0407/01 | C130: Wyłączniki nadprądowe serwisowe 1-biegunowe | D130: szt | E130: 2 | G130: =ROUND(E130*F130,2) -> 0
A131: 115 | B131: BCA 62-41-90 | C131: Oprzewodowanie elementów peryferyjnych | D131: pkt | E131: 9 | G131: =ROUND(E131*F131,2) -> 0
... A170: 154 | B170: KNR-W 2-16 0601/10.5 | C170: Płaszcz ochronny na izolacji z blachy ocynkowanej na powierzchniach płaskich | D170: m2 | E170: 100.2 | G170: =ROUND(E170*F170,2) -> 0
C171: Instalacja wentylacyjna | G171: =SUM(G120:G170) -> 0
C172: 10.1.6 Roboty towarzyszące
A173: 155 | B173: Kalkulacja własna | C173: Roboty budowlane towarzyszące jak bruzdy, przekucia, przebicia | D173: szt | E173: 101 | G173: =ROUND(E173*F173,2) -> 0
A174: 156 | B174: Kalkulacja własna | C174: Przejścia i zabezpieczenia przeciwpożarowe | D174: szt | E174: 11 | G174: =ROUND(E174*F174,2) -> 0
A175: 157 | B175: KNR-W 2-05 0208/01 | C175: Konstrukcje podparć, zawieszeń i osłon o masie do 5kg | D175: t | E175: 0.7 | G175: =ROUND(E175*F175,2) -> 0
A176: 158 | B176: KNR-W 2-15 0406/02 | C176: Próby szczelności instalacji z rur stalowych i miedzianych | D176: m | E176: 502 | G176: =ROUND(E176*F176,2) -> 0
A177: 159 | B177: KNR 0-31 0218/04 | C177: Próba szczelności instalacji z rur z tworzyw sztucznych sieciowych | D177: m | E177: 2929 | G177: =ROUND(E177*F177,2) -> 0
A178: 160 | B178: KNR-W 2-15 0128/02 | C178: Płukanie instalacji z rur stalowych i miedzianych | D178: m | E178: 502 | G178: =ROUND(E178*F178,2) -> 0
A179: 161 | B179: KNR 0-31 0218/03 | C179: Płukanie instalacji z rur z tworzyw sztucznych | D179: m | E179: 2929 | G179: =ROUND(E179*F179,2) -> 0
A180: 162 | B180: KNR-W 2-15 0516/01 | C180: Próba węzłów regulacyjnych o średnicy do 25mm | D180: szt | E180: 35 | G180: =ROUND(E180*F180,2) -> 0
A181: 163 | B181: KNR-W 2-15 0516/02 | C181: Próba węzłów regulacyjnych o średnicy 32-50mm | D181: szt | E181: 8 | G181: =ROUND(E181*F181,2) -> 0
A182: 164 | B182: KNR-W 2-15 0516/03 | C182: Próba węzłów regulacyjnych o średnicy ponad 50mm | D182: szt | E182: 2 | G182: =ROUND(E182*F182,2) -> 0
A183: 165 | B183: KNR 7-24 0513/08 | C183: Przedmuchanie azotem instalacji freonowych o wydajności do 15Mkcal/h | D183: kpl | E183: 1 | G183: =ROUND(E183*F183,2) -> 0
A184: 166 | B184: KNR 7-24 0514/08 | C184: Próba szczelności instalacji freonowej o wydajności do 15Mkcal/h | D184: kpl | E184: 1 | G184: =ROUND(E184*F184,2) -> 0
... A193: 175 | B193: KNR 7-08 0804/02 | C193: Oznakowanie urządzeń na instalacji | D193: m | E193: 35 | G193: =ROUND(E193*F193,2) -> 0
C194: Roboty towarzyszące | G194: =SUM(G173:G193) -> 0
C195: BUDYNEK BIUROWY B01 | G195: =SUM(G44+G77+G107+G118+G171+G194) -> 0
C196: 10.2 BUDYNEK HALOWY B02
C197: 10.2.1 Instalacja c.o.
A198: 176 | B198: KNR-W 2-15 0403/01 | C198: Rurociągi z rur stalowych czarnych ze szwem spawanych o średnicy 15mm | D198: m | E198: 220 | G198: =ROUND(E198*F198,2) -> 0
A199: 177 | B199: KNR-W 2-15 0403/02 | C199: Rurociągi z rur stalowych czarnych ze szwem spawanych o średnicy 20mm | D199: m | E199: 30 | G199: =ROUND(E199*F199,2) -> 0
A200: 178 | B200: KNR-W 2-15 0403/03 | C200: Rurociągi z rur stalowych czarnych ze szwem spawanych o średnicy 25mm | D200: m | E200: 120 | G200: =ROUND(E200*F200,2) -> 0
A201: 179 | B201: KNR-W 2-15 0403/04 | C201: Rurociągi z rur stalowych czarnych ze szwem spawanych o średnicy 32mm | D201: m | E201: 80 | G201: =ROUND(E201*F201,2) -> 0
A202: 180 | B202: KNR-W 2-15 0403/05 | C202: Rurociągi z rur stalowych czarnych ze szwem spawanych o średnicy 40mm | D202: m | E202: 130 | G202: =ROUND(E202*F202,2) -> 0
A203: 181 | B203: KNR-W 2-15 0403/06 | C203: Rurociągi z rur stalowych czarnych ze szwem spawanych o średnicy 50mm | D203: m | E203: 40 | G203: =ROUND(E203*F203,2) -> 0
...

Sheet 11 Hydrotechniczna
A2: TABELA PODZIAŁU CENY RYCZAŁTOWEJ
A3: 11. Hydrotechniczna
A5: Nr | B5: Podstawa | C5: Opis robót | D5: Jm | E5: Ilość | F5: Cena | G5: Wartość
C6: 11 BRANŻA HYDROTECHNICZNA
C7: 11.1 DRENAŻ ODWADNIAJĄCY
C8: 11.1.1 Roboty ziemne
A9: 1 | B9: KNR-W 2-01 0113/08 | C9: Roboty pomiarowe i geodezyjne trasy rurociagów w terenie płaskim | D9: km | E9: 0.66 | G9: =ROUND(E9*F9,2) -> 0
A10: 2 | B10: KNR-W 2-01 0212/04 | C10: Wykopy na odkład koparkami o pojemności 0,25m3 i podkopy ręczne w gruncie kategorii III | D10: m3 | E10: 3605 | G10: =ROUND(E10*F10,2) -> 0
A11: 3 | B11: KNR-W 2-01 0314/02 | C11: Umocnienie pełne palami szalunkowymi ścian wykopów o głębokości do 3m z rozbiórką w gruncie kategorii III-IV | D11: m2 | E11: 450 | G11: =ROUND(E11*F11,2) -> 0
A12: 4 | B12: KNR 2-28 0501/09 | C12: Podsypka i obsypka rurociągu kruszywem dowiezionym | D12: m3 | E12: 350.96 | G12: =ROUND(E12*F12,2) -> 0
A13: 5 | B13: KNR-W 2-01 0222/01.1 | C13: Zasypanie wykopów spycharkami i zasypki ręczne wraz z zagęszczeniem ubijakami mechanicznymi w gruncie kategorii I-III | D13: m3 | E13: 3240.71 | G13: =ROUND(E13*F13,2) -> 0
A14: 6 | B14: KNR-W 2-01 0207/07.4 | C14: Roboty ziemne w gruncie zmagazynowanej w hałdach koparkami o pojemności 0,6m3 z transportem urobku samochodami 10-15t na odległość do 10km | D14: m3 | E14: 364.29 | G14: =ROUND(E14*F14,2) -> 0
A15: 7 | B15: Kalkulacja własna | C15: Utylizacja gleby i ziemi | D15: t | E15: 546.44 | G15: =ROUND(E15*F15,2) -> 0
C16: Roboty ziemne | G16: =SUM(G9:G15) -> 0
C17: 11.1.2 Roboty montażowe
A18: 8 | B18: KNR-W 2-01 0610/02 | C18: Drenaż rurowy jednorzędowy w wykopie suchym z rur PP o średnicy 160mm | D18: m | E18: 664 | G18: =ROUND(E18*F18,2) -> 0
A19: 9 | B19: KNR 9-07 0106/01 | C19: Geowłóknina układana na dnie i ścianach wykopu | D19: m2 | E19: 1942.77 | G19: =ROUND(E19*F19,2) -> 0
A20: 10 | B20: KNR-W 2-18 0517/01 | C20: Studzienki drenarskie systemowe o średnicy 425mm i głębokości 2-3m | D20: szt | E20: 5 | G20: =ROUND(E20*F20,2) -> 0
A21: 11 | B21: KNR-W 2-18 0517/01 | C21: Studzienki drenarskie systemowe o średnicy 425mm i głębokości 3-4m | D21: szt | E21: 5 | G21: =ROUND(E21*F21,2) -> 0
A22: 12 | B22: KNR-W 2-18 0517/01 | C22: Studzienki drenarskie systemowe o średnicy 425mm i głębokości 4-5m | D22: szt | E22: 5 | G22: =ROUND(E22*F22,2) -> 0
A23: 13 | B23: KNR-W 2-18 0517/01 | C23: Studzienki drenarskie systemowe o średnicy 425mm i głębokości 5-6m | D23: szt | E23: 2 | G23: =ROUND(E23*F23,2) -> 0
A24: 14 | B24: KNR-W 2-01 0604/01 | C24: Pompowanie pomiarowe lub oczyszczające o średnicy 150-500mm | D24: godz | E24: 2880 | G24: =ROUND(E24*F24,2) -> 0
A25: 15 | B25: KNR-W 2-18 0421/02 | C25: Złączki PVC kielichowe o średnicy 160mm | D25: szt | E25: 150 | G25: =ROUND(E25*F25,2) -> 0
A26: 16 | B26: KNR-W 4-02 0203/09 | C26: Zakorkowanie podejścia kanalizacyjnego korkiem z PCV o średnicy 160mm | D26: szt | E26: 4 | G26: =ROUND(E26*F26,2) -> 0
C27: Roboty montażowe | G27: =SUM(G18:G26) -> 0
C28: Razem | G28: =SUM(G16+G27) -> 0

Sheet 12 Kolej
A2: TABELA PODZIAŁU CENY RYCZAŁTOWEJ
A3: 12. Kolej
A5: Nr | B5: Podstawa | C5: Opis robót | D5: Jm | E5: Ilość | F5: Cena | G5: Wartość
C6: 12 BRANŻA KOLEJOWA
C7: 12.2 TERMINAL
C8: 12.2.1 Roboty ziemne
A9: 1 | B9: KNR-W 2-01 0115/01 | C9: Pomiary geodezyjne przy wykopach na terenie płaskim | D9: m2 | E9: 21544 | G9: =ROUND(E9*F9,2) -> 0
A10: 2 | B10: KNR-W 2-01 0201/10.2 | C10: Roboty ziemne koparkami o pojemności 0,6m3 z transportem urobku samochodami 10-15t na odległość do 10km w gruncie kategorii I-II | D10: m3 | E10: 68527 | G10: =ROUND(E10*F10,2) -> 0
A11: 3 | B11: KNR-W 2-01 0207/05.3 | C11: Roboty ziemne w gruncie zmagazynowanej w hałdach koparkami o pojemności 0,4m3 z transportem urobku samochodami 5-10t na odległość do 1km (załadunek kruszywa) | D11: m3 | E11: 2763 | G11: =ROUND(E11*F11,2) -> 0
A12: 4 | B12: KNR-W 2-01 0227/02.2 | C12: Formowanie nasypów z zagęszczeniem z kruszywa dostarczanego samochodami w gruncie kategorii III-IV | D12: m3 | E12: 2763 | G12: =ROUND(E12*F12,2) -> 0
A13: 5 | B13: KNR-W 2-01 0225/02 | C13: Plantowanie i profilowanie terenu spycharkami gąsienicowymi 55kW w gruncie kategorii III | D13: m2 | E13: 27439 | G13: =ROUND(E13*F13,2) -> 0
A14: 6 | B14: KNR 2-31 0103/02 | C14: Profilowanie i zagęszczanie skarp pod warstwy nawierzchniowe w gruncie kategorii III-IV | D14: m2 | E14: 4371 | G14: =ROUND(E14*F14,2) -> 0
A15: 7 | B15: Kalkulacja własna | C15: Utylizacja gleby i ziemi zanieczyszczonej | D15: t | E15: =68527*1.5 -> 102790.5 | G15: =ROUND(E15*F15,2) -> 0
C16: Roboty ziemne | G16: =SUM(G9:G15) -> 0
C17: 12.2.2 Wzmocnienie podtorza
A18: 8 | B18: KNR 9-11 0202/02 | C18: Separacja warstw wzmocniona geowłókninami | D18: m2 | E18: 22046 | G18: =ROUND(E18*F18,2) -> 0
A19: 9 | B19: KNR 2-31 0109/03 | C19: Stabilizacja podłoża gruntowego cementem zagęszczona o grubości 20cm | D19: m2 | E19: 2000 | G19: =ROUND(E19*F19,2) -> 0
A20: 10 | B20: KNR-W 2-37 0501/03.4 | C20: Warstwa ochronna z niesportu kamiennego na koronie nasypu z zagęszczeniem | D20: m3 | E20: 4817 | G20: =ROUND(E20*F20,2) -> 0
C21: Wzmocnienie podtorza | G21: =SUM(G18:G20) -> 0
C22: 12.2.3 Nawierzchnia torowa
A23: 11 | B23: KNR-W 2-37 0501/03.4 | C23: Warstwa z sub tłucznia na koronie nasypu z zagęszczeniem | D23: m3 | E23: 4369 | G23: =ROUND(E23*F23,2) -> 0
A24: 12 | B24: KNR 2-37 0203/02 | C24: Układanie toru kolejowego na podkładach betonowych w rozstawie 0.6m szyna 49E1 | D24: km | E24: 4.77 | G24: =ROUND(E24*F24,2) -> 0
A25: 13 | B25: KNR 2-09 0203/01 | C25: Montaż toru bezstykowego z szyny 49E1 na długości kanalu przeglądowego w hali | D25: km | E25: 0.07 | G25: =ROUND(E25*F25,2) -> 0
A26: 14 | B26: KNR 2-37 0303/01 | C26: Układanie rozjazdów zwyczajnych pojedynczych o skosie 1:9 i promieniu łuku 190m | D26: kpl | E26: 6 | G26: =ROUND(E26*F26,2) -> 0
A27: 15 | B27: KNR 2-37 0303/02 | C27: Układanie rozjazdów zwyczajnych pojedynczych o skosie 1:9 i promieniu łuku 300m | D27: kpl | E27: 3 | G27: =ROUND(E27*F27,2) -> 0
A28: 16 | B28: KNR 2-37 0701/01 | C28: Kozioł oporowy samohamowny (1 szt w hali) | D28: kpl | E28: 5 | G28: =ROUND(E28*F28,2) -> 0
A29: 17 | B29: KNR-W 2-37 0502/01 | C29: Balastowanie torów zmontowanych na zagęszczonej warstwie tłucznia na podkładach dbetonowych | D29: m3 | E29: 4284 | G29: =ROUND(E29*F29,2) -> 0
A30: 18 | B30: KNR-W 2-37 0503/01 | C30: Balastowanie rozjazdów zwyczajnych torów zmontowanych na zagęszczonej warstwie tłucznia | D30: m3 | E30: 278 | G30: =ROUND(E30*F30,2) -> 0
A31: 19 | B31: KNR-W 2-37 0809/05 | C31: Wskaźniki ukresu W17 | D31: szt | E31: 9 | G31: =ROUND(E31*F31,2) -> 0
A32: 20 | C32: Tarcza D1 | D32: szt | E32: 12 | G32: =ROUND(E32*F32,2) -> 0
A33: 21 | B33: KNP 16 0413/03 | C33: Spawanie elektrodami styku szyn przejściowych | D33: szt | E33: 0 | G33: =ROUND(E33*F33,2) -> 0
A34: 22 | B34: KNR 2-37 0702/01 | C34: Podbicie nowoułożonych torów kolejowych | D34: km | E34: 4.84 | G34: =ROUND(E34*F34,2) -> 0
A35: 23 | B35: KNR 2-37 0702/02 | C35: Podbicie nowoułożonych rozjazdów zwyczajnych o promieniu 190m | D35: kpl | E35: 6 | G35: =ROUND(E35*F35,2) -> 0
A36: 24 | B36: KNR 2-37 0702/03 | C36: Podbicie nowoułożonych rozjazdów zwyczajnych o promieniu 300m | D36: kpl | E36: 3 | G36: =ROUND(E36*F36,2) -> 0
C37: Nawierzchnia torowa | G37: =SUM(G23:G36) -> 0
C38: 12.2.4 Nawierzchnia prefabrykowana
A39: 25 | B39: KNR-W 2-02 0306/01 | C39: Zabudowa zintegrowanej nawierzchni torowo-drogowej z żelbetowch płyt prefabrykowanych | D39: m | E39: 41.6 | G39: =ROUND(E39*F39,2) -> 0
A40: 26 | B40: KNR-W 2-02 0306/01 | C40: Zabudowa w hali zintegrowanej nawierzchni torowo-drogowej z żelbetowch płyt prefabrykowanych | D40: m | E40: 1.25 | G40: =ROUND(E40*F40,2) -> 0
A41: 27 | B41: KNR-W 2-02 0306/01 | C41: Zabudowa wanny torowej z żelbetowch płyt prefabrykowanych | D41: m | E41: 30 | G41: =ROUND(E41*F41,2) -> 0
A42: 28 | B42: KNR 2-09 0203/01 | C42: Uszczelnienie masą asfaltowo-polimerową połączeń płyt prefabrykowanych | D42: m | E42: 37.8 | G42: =ROUND(E42*F42,2) -> 0
C43: Nawierzchnia prefabrykowana | G43: =SUM(G39:G42) -> 0
C44: 12.2.5 Umocnienie rowów i skarp
A45: 29 | B45: KNR-W 2-01 0508/01 | C45: Darniowanie na płask skarp z humusem | D45: m2 | E45: 851 | G45: =ROUND(E45*F45,2) -> 0
A46: 30 | B46: KNR-W 2-01 0510/01 | C46: Humusowanie skarp z obsianiem warstwami o grubości 15cm | D46: m2 | E46: 3694 | G46: =ROUND(E46*F46,2) -> 0
A47: 31 | B47: KNR-W 2-01 0516/01.1 | C47: Umocnienie skarp płytami betonowymi ażurowymi o grubości 10cm na podsypce piaskowej | D47: m2 | E47: 180 | G47: =ROUND(E47*F47,2) -> 0
C48: Umocnienie rowów i skarp | G48: =SUM(G45:G47) -> 0
C49: 12.2.6 Sterowanie ruchem kolejowym
A50: 32 | B50: KNR 2-37 0701/01 | C50: Wykolejnica pojedyncza lewa do obsługi ręcznej ze zwrotnikiem latarniowym z latarnią wykolejnicową i ciężarem | D50: kpl | E50: 2 | G50: =ROUND(E50*F50,2) -> 0
A51: 32a | B51: KNR 2-37 0701/01 | C51: Wykolejnica pojedyncza prawa do obsługi ręcznej ze zwrotnikiem latarniowym z latarnią wykolejnicową i ciężarem | D51: kpl | E51: 2 | G51: =ROUND(E51*F51,2) -> 0
A52: 33 | C52: Zamki trzpieniowe z kluczem | D52: szt | E52: 13 | G52: =ROUND(E52*F52,2) -> 0
A53: 34 | C53: Szafa na klucze | D53: szt | E53: 1 | G53: =ROUND(E53*F53,2) -> 0
C54: Sterowanie ruchem kolejowym | G54: =SUM(G50:G53) -> 0
C55: 12.2.7 Drenaż torowiska
A56: 35 | B56: KNR-W 2-01 0611/02 | C56: Kompletny drenaż rurowy korytkowy z obsypką w wykopie nawodnionym z rur PCV o średnicy 160mm | D56: m | E56: 2715 | G56: =ROUND(E56*F56,2) -> 0
A57: 36 | B57: KNR-W 2-18 0517/01 | C57: Studzienki odpowietrzające systemowe o średnicy 425mm i głębokości 1,5m | D57: szt | E57: 30 | G57: =ROUND(E57*F57,2) -> 0
A58: 37 | B58: KNR-W 2-18 0513/01 | C58: Studnie inspekcyjne z kręgów betonowych o średnicy 600mm i głębokości 2m | D58: szt | E58: 51 | G58: =ROUND(E58*F58,2) -> 0
A59: 38 | B59: KNR-W 2-18 0513/01 | C59: Studnie inspekcyjne z kręgów betonowych o średnicy 1000mm i głębokości 2m | D59: szt | E59: 4 | G59: =ROUND(E59*F59,2) -> 0
C60: Drenaż torowiska | G60: =SUM(G56:G59) -> 0
C61: Razem | G61: =SUM(G16+G21+G37+G43+G48+G54+G60) -> 0
